BEGIN:VCALENDAR
VERSION:2.0
PRODID:-//TEST Apricus e.V.//NONSGML kigkonsult.se iCalcreator 2.41.92//
CALSCALE:GREGORIAN
METHOD:PUBLISH
UID:31396261-3835-4439-b963-303233343136
X-WR-CALNAME:iCagenda
X-WR-CALDESC:Event Management Extension for Joomla!
X-WR-RELCALID:3E26604A-50F4-4449-8B3E-E4F4932D05B5
X-WR-TIMEZONE:Europe/Berlin
BEGIN:VTIMEZONE
TZID:Europe/Berlin
TZUNTIL:20230326T010000Z
BEGIN:STANDARD
TZNAME:CET
DTSTART:20201025T030000
TZOFFSETFROM:+0200
TZOFFSETTO:+0100
RDATE:20211031T030000
RDATE:20221030T030000
END:STANDARD
BEGIN:DAYLIGHT
TZNAME:CEST
DTSTART:20210328T020000
TZOFFSETFROM:+0100
TZOFFSETTO:+0200
RDATE:20220327T020000
END:DAYLIGHT
END:VTIMEZONE
BEGIN:VEVENT
UID:39636634-3066-4266-b363-366532336633
DTSTAMP:20260425T213435Z
CATEGORIES:Absage bzw. Verschiebung
CLASS:PUBLIC
DESCRIPTION;ALTREP="CID:<FFFF__=0ABBE548DFE235B58f9e8a93d@coffeebean.com>":
 Hallo zusammen\,\nleider muss ich die geplante Saale-Radtour am Monatswech
 sel Juli/August absagen - ich komme nicht mehr dazu\, das zu organisieren 
 und rundherum findet ohnehin schon viel statt\, sodass mir die Wochenenden
  ausgehen.\nEine Entschuldigung an alle\, die sich auf diese spezielle Tou
 r gefreut haben. Ich gelobe Besserung und werde die Tour im nächsten Jahr 
 erneut anbieten und dann auch durchführen.\nSportliche GrüßeDer Micha
DTSTART:20210730T160000Z
DTEND:20210801T160000Z
GEO:00;0
LOCATION:
ORGANIZER:
SEQUENCE:1
SUMMARY:Saaleradtour
TRANSP:OPAQUE
URL:https://test.apricus-ev.de/component/icagenda/saaleradtour?layout=vcal
END:VEVENT
END:VCALENDAR
