BEGIN:VCALENDAR
VERSION:2.0
PRODID:-//TEST Apricus e.V.//NONSGML kigkonsult.se iCalcreator 2.41.92//
CALSCALE:GREGORIAN
METHOD:PUBLISH
UID:63383364-3931-4535-b331-633931373562
X-WR-CALNAME:iCagenda
X-WR-CALDESC:Event Management Extension for Joomla!
X-WR-RELCALID:3E26604A-50F4-4449-8B3E-E4F4932D05B5
X-WR-TIMEZONE:Europe/Berlin
BEGIN:VTIMEZONE
TZID:Europe/Berlin
TZUNTIL:20220327T010000Z
BEGIN:STANDARD
TZNAME:CET
DTSTART:20191027T030000
TZOFFSETFROM:+0200
TZOFFSETTO:+0100
RDATE:20201025T030000
RDATE:20211031T030000
END:STANDARD
BEGIN:DAYLIGHT
TZNAME:CEST
DTSTART:20200329T020000
TZOFFSETFROM:+0100
TZOFFSETTO:+0200
RDATE:20210328T020000
END:DAYLIGHT
END:VTIMEZONE
BEGIN:VEVENT
UID:65363633-3136-4135-a435-353831333533
DTSTAMP:20260425T215229Z
CATEGORIES:Skilaufen\, Skaten
CLASS:PUBLIC
DESCRIPTION;ALTREP="CID:<FFFF__=0ABBE548DFE235B58f9e8a93d@coffeebean.com>":
 Liebe Apricüsse und Gäste\,\ntrotz der immer noch teilweise vorhandenen Co
 rona-Einschränkungen wollen wir dieses Jahr mit einer weiteren Sportart st
 arten. Dazu habe ich ein sportliches Wochenende auf dem Fläming-Skate gepl
 ant. Der Fläming-Skate ist ein Wegesystem im brandenburgischen Landkreis T
 eltow-Fläming\, welches speziell für die Bedürfnisse von Inlineskatern kon
 zipiert wurde. Das Streckennetz umfasst insgesamt ca.&nbsp\;230 km. Aber k
 eine Angst - wir werden davon nur einen kleinen Teil befahren.\nUnser Ziel
  liegt in Niedergörsdorf nahe Jüterbog. Die geplante Unterkunft in dem Kul
 turzentrum 'DAS HAUS' befindet sich auf dem ehemaligen Militärflugplatz Al
 tes Lager (Kulturzentrum DAS HAUS - Gemeinde Niedergörsdorf\, Dorfstraße 1
 4f\, 14913 Niedergörsdorf). Uns erwartet eine einfache Unterkunft in Mehrb
 ettzimmern\, ein Aufenthalts- bzw. Gemeinschaftsraum mit moderner Küchenze
 ile sowie Selbstverpfegung. Eine Skaterstrecke (der Zubringer S 11 zu den 
 Skater-Rundkursen) finden wir gleich vor der Haustür. Über diesen Zubringe
 r (mit der Einstufung 'einfach') können wir zu den Rundkursstrecken in Ric
 htung Jüterbog fahren.\nAm Freitag-Abend ist eine erste kleine Fahrt auf d
 em Zubringer vorgesehen\, bevor wir am Sonnabend über diese Strecke bis na
 ch Jüterbog fahren und uns dort auf den Rundkurs 3 nördlich der Stadt bege
 ben. Nachdem wir diesen absolviert haben\, können wir uns auch noch die St
 adt und ihre Sehenswürdigkeiten ansehen. Was dann alles möglich sein wird\
 , steht noch nicht genau fest\, da sich die derzeitigen Beschränkungen bis
  dahin sicher wieder verändern werden. Geplant ist\, auch mit Skates wiede
 r zurück nach Niedergörsdorf zu fahren\, zur Not ist es aber auch möglich\
 , die Strecke mit der Regionalbahn zurückzulegen (nur eine Station weiter)
 . Am Sonntag haben wir noch einmal die Möglichkeit für eine kleine Ausfahr
 t in Niedergörsdorf\, bevor wir am Nachmittag wieder in Richtung Heimat st
 arten können.\nFür die Skaterfahrten ist eine Schutzausrüstung zu tragen\,
  also bitte nicht vergessen. Es sollte auch jeder bereits fahren können\, 
 es wird keinen Kurs zum Lernen geben.\nAn- und Abreise mit Bahn: Bahnhof A
 ltes Lager\, Niedergörsdorf (von dort aus nur ca. 10-15 Minuten Fußweg bis
  zur Unterkunft). Die Anreise zur Unterkunft sollte am Freitag gegen 17&nb
 sp\;Uhr erfolgen\, damit wir noch die Möglichkeit für eine kleine Skater-R
 unde haben. In Reichweite der Unterkunft befindet sich auch ein Bäcker mit
  Imbiss für ein eventuelles Frühstück\, sowie ein Supermarkt für Essen und
  diverse Getränke am Abend.\nTeilnehmergebühr\n  \n\n\n\n\n\nTN-Gruppe\nAp
 ricus\nGäste\n\n\n\n\nErwachsene\n\n50\n60\n\n\nKinder\, Jugendliche bis 2
 6 J.\n\n30\n40\n\n\n\nIm Preis enthalten sind:\n\nÜbernachtung\, Wochenend
 e von 26.06. - 28.06.2020 (2 Übernachtungen)\n\nNicht im Preis enthalten s
 ind:\n\nAn- und Abreise\nEssen und Trinken\n\nAnmeldung\nBitte meldet euch
  bis 21.06.2020 per Mail bei Heiko (heiko.griebsch@web.de) an.\nWie immer 
 gilt die Anmeldung nur bei gleichzeitiger Einzahlung des Teilnehmerbeitrag
 es auf das {loadmoduleid 114}\nWenn es noch Fragen gibt\, dann schreibt ei
 nfach eine E-Mail an mich.\nAuf ein schönes Wochenende mit Inlinern!Heiko
DTSTART:20200626T150000Z
DTEND:20200628T170000Z
GEO:00;0
LOCATION:
ORGANIZER:
SEQUENCE:1
SUMMARY:Skatertour in Teltow-Fläming
TRANSP:OPAQUE
URL:https://test.apricus-ev.de/component/icagenda/skatertour-in-teltow-flae
 ming?layout=vcal
END:VEVENT
END:VCALENDAR
