BEGIN:VCALENDAR
VERSION:2.0
PRODID:-//TEST Apricus e.V.//NONSGML kigkonsult.se iCalcreator 2.41.92//
CALSCALE:GREGORIAN
METHOD:PUBLISH
UID:30373162-6162-4633-a161-373531313562
X-WR-CALNAME:iCagenda
X-WR-CALDESC:Event Management Extension for Joomla!
X-WR-RELCALID:3E26604A-50F4-4449-8B3E-E4F4932D05B5
X-WR-TIMEZONE:Europe/Berlin
BEGIN:VTIMEZONE
TZID:Europe/Berlin
TZUNTIL:20261025T010000Z
BEGIN:STANDARD
TZNAME:CET
DTSTART:20241027T030000
TZOFFSETFROM:+0200
TZOFFSETTO:+0100
RDATE:20251026T030000
END:STANDARD
BEGIN:DAYLIGHT
TZNAME:CEST
DTSTART:20240331T020000
TZOFFSETFROM:+0100
TZOFFSETTO:+0200
RDATE:20250330T020000
RDATE:20260329T020000
END:DAYLIGHT
END:VTIMEZONE
BEGIN:VEVENT
UID:33316565-3066-4333-a237-306539633339
DTSTAMP:20260425T231637Z
CATEGORIES:Skilaufen\, Skaten
CLASS:PUBLIC
DESCRIPTION;ALTREP="CID:<FFFF__=0ABBE548DFE235B58f9e8a93d@coffeebean.com>":
 Alle Jahre wieder: Schnee oder kein Schnee\, das ist hier die Frage...\n\n
 Wie schon in den letzten Jahren wollen wir auch am Ende des Winters&nbsp\;
 2025 nochmal den Schnee suchen. In der Hoffnung\, dass sich die weiße Prac
 ht bis dahin wieder zeigt\, gehen wir vom 28.&nbsp\;Februar bis 2.&nbsp\;M
 ärz auf Wintertour im Thüringer Wald. Wie winterlich es wird\, wissen wir 
 noch nicht. Bisher war es ja eher nasskaltschmuddellig. Wir beantragen dah
 er für das genannte Wochenende viel Schnee\, solide Temperaturen und blaue
 n Himmel. Wird unserem Antrag stattgegeben\, nehmen wir die Ski mit. Wenn 
 nicht\, gehen wir eben ohne die Bretter\, die den Winterwald bedeuten. Auf
  jeden Fall dabei haben solltet ihr aber einen warmen Schlafsack\, Isomatt
 e und Zelte\, gern können wir auch Zeltgemeinschaften vermitteln. Für eine
 n heißen Tee oder eine Suppe wären Kocher auch ganz gut. Ihr ahnt es schon
  - wir schlafen draußen im 1000-Sterne-Hotel.\nSowohl der genaue Treffpunk
 t als auch die Route werden aufgrund der Schneelage kurzfristig festgelegt
 \, um möglichst winterliche Bedingungen zu ermöglichen. Voraussichtlich we
 rden wir am Freitag zwischen 20&nbsp\;und 21&nbsp\;Uhr in Oberhof oder Neu
 haus (Rw) losgehen (Anreise z.B. per Zug&nbsp\;/ Bus je nach Startpunkt vo
 n Erfurt 19:35&nbsp\;Uhr oder Jena 18:45 Uhr). Genauere Infos zu Ort\, Zei
 t und Ski oder Nicht-Ski gibt es am Montagabend (24.2.). Gebt uns deshalb 
 bitte Bescheid\, wie wir euch erreichen können (Email&nbsp\;/ Telefon&nbsp
 \;/ Telegram&nbsp\;/ WazAb). Keine Ski zu haben\, zählt übrigens nicht als
  Ausrede: Wenn wir vorher Bescheid wissen\, besorgen wir welche. Und wer A
 nfänger ist\, bekommt das Skifahren beigebracht. Das hat in den letzten Ja
 hren gut geklappt...\nVerpflegung? Keine oder ihr bringt euch selber was m
 it. Rechnet nicht mit Einkehrmöglichkeiten\nTeilnehmerbeitrag: Apricus-Mit
 glieder zahlen 2€&nbsp\; - Gäste 4€ (enthält 1€/Tag für die Sportversicher
 ung). Wer das Rennsteiglied vorsingen kann und das auch tut\, bekommt 50% 
 erlassen.\nNoch Fragen? Dann fragen!com@uni-jena.de oder 01577 - 8306406\n
 Wir freuen uns auf eine schöne Wintertour mit euch über die höchsten Gipfe
 l des Thüringer Waldes und auf kuschlige Abende bei Kerzenschein oder Lage
 rfeuer.Aziza &amp\; Osama
DTSTART:20250228T160000Z
DTEND:20250302T160000Z
GEO:00;0
LOCATION:
ORGANIZER:
SEQUENCE:1
SUMMARY:Ski-/Winterwanderung in Thüringen
TRANSP:OPAQUE
URL:https://test.apricus-ev.de/component/icagenda/ski-winterwanderung-in-th
 ueringen-2?layout=vcal
END:VEVENT
END:VCALENDAR
