BEGIN:VCALENDAR
VERSION:2.0
PRODID:-//TEST Apricus e.V.//NONSGML kigkonsult.se iCalcreator 2.41.92//
CALSCALE:GREGORIAN
METHOD:PUBLISH
UID:35313437-6565-4635-b064-656637343930
X-WR-CALNAME:iCagenda
X-WR-CALDESC:Event Management Extension for Joomla!
X-WR-RELCALID:3E26604A-50F4-4449-8B3E-E4F4932D05B5
X-WR-TIMEZONE:Europe/Berlin
BEGIN:VTIMEZONE
TZID:Europe/Berlin
TZUNTIL:20221030T010000Z
BEGIN:STANDARD
TZNAME:CET
DTSTART:20201025T030000
TZOFFSETFROM:+0200
TZOFFSETTO:+0100
RDATE:20211031T030000
END:STANDARD
BEGIN:DAYLIGHT
TZNAME:CEST
DTSTART:20200329T020000
TZOFFSETFROM:+0100
TZOFFSETTO:+0200
RDATE:20210328T020000
RDATE:20220327T020000
END:DAYLIGHT
END:VTIMEZONE
BEGIN:VEVENT
UID:63373837-3130-4536-b536-636463656534
DTSTAMP:20260425T215712Z
CATEGORIES:Absage bzw. Verschiebung
CLASS:PUBLIC
DESCRIPTION;ALTREP="CID:<FFFF__=0ABBE548DFE235B58f9e8a93d@coffeebean.com>":
 Wie ihr euch aufgrund der fehlenden Ausschreibung vermutlich schon denken 
 konntet\, müssen wir leider die geplante Ski- oder Winterwanderung mit Zel
 t irgendwo in Thüringen aus den bekannten Gründen absagen.
DTSTART:20210226T160000Z
DTEND:20210228T160000Z
GEO:00;0
LOCATION:
ORGANIZER:
SEQUENCE:1
SUMMARY:Ski-/Winterwanderung in Thüringen
TRANSP:OPAQUE
URL:https://test.apricus-ev.de/component/icagenda/ski-winterwanderung-in-th
 ueringen?layout=vcal
END:VEVENT
END:VCALENDAR
