BEGIN:VCALENDAR
VERSION:2.0
PRODID:-//TEST Apricus e.V.//NONSGML kigkonsult.se iCalcreator 2.41.92//
CALSCALE:GREGORIAN
METHOD:PUBLISH
UID:63363933-3962-4761-a133-626161616539
X-WR-CALNAME:iCagenda
X-WR-CALDESC:Event Management Extension for Joomla!
X-WR-RELCALID:3E26604A-50F4-4449-8B3E-E4F4932D05B5
X-WR-TIMEZONE:Europe/Berlin
BEGIN:VTIMEZONE
TZID:Europe/Berlin
TZUNTIL:20251026T010000Z
BEGIN:STANDARD
TZNAME:CET
DTSTART:20231029T030000
TZOFFSETFROM:+0200
TZOFFSETTO:+0100
RDATE:20241027T030000
END:STANDARD
BEGIN:DAYLIGHT
TZNAME:CEST
DTSTART:20230326T020000
TZOFFSETFROM:+0100
TZOFFSETTO:+0200
RDATE:20240331T020000
RDATE:20250330T020000
END:DAYLIGHT
END:VTIMEZONE
BEGIN:VEVENT
UID:65356536-6638-4333-b664-336237303266
DTSTAMP:20260425T214127Z
CATEGORIES:Skilaufen\, Skaten
CLASS:PUBLIC
DESCRIPTION;ALTREP="CID:<FFFF__=0ABBE548DFE235B58f9e8a93d@coffeebean.com>":
 Info vom 18.1.:\nHallo liebe Skihasen und -häsinnen...\,\nes hat inzwische
 n etwas geschneit im Fläming und ich hoffe\, es kommen noch ein paar Zenti
 meter dazu! Ob es für eine Skitour reicht\, weiß ich noch nicht\, aber die
  Chancen\, dass es wirklich besser wird\, sind wohl nicht sehr groß...\nAl
 so versuchen wir es am Samstag\, 20.01.\, um 10:30&nbsp\;Uhr ab Wiesenburg
  Bhf.!\nEs geht von hier aus mal wieder durch den schönen Schlosspark Rich
 tung Schloss Wiesenburg und hier können wir uns die Karten legen\, ob es z
 uerst (links rum) weiter nach Schlamau geht\, teils auf dem schönen Kunstw
 anderweg\, und anschließend nach Schmerwitz\, oder umgekehrt.\nIm Gut Schm
 erwitz (Ökogut) gibt es eine Gutsküche zur Stärkung\, nach Internetangaben
  soll die eigentlich geöffnet haben (kriege ich hoffentlich noch raus)\, u
 nd auch einen Hofladen und eine Töpferei. Wer hier schon zu kaputt ist\, k
 ann auch übernachten. Beide Orte sind ca. 650 Jahre alt\, in Schlamau mit 
 einer Feldsteinkirche aus den frühesten Jahren.\nStreckenlänge ca. 13 ... 
 15 km(so sollten wir hoffentlich vor dem Dunkelwerden wieder am Bhf. Wiese
 nburg ankommen).\nFalls es schneetechnisch Richtung Spring eindeutig besse
 r sein sollte\, könnte die Tour auch von Wiesenburg Bhf. Richtung Süden ge
 hen. Hier sieht es aber inzwischen schlecht mit einer Einkehr aus...\nOrga
 nisatorisches\nEine Anmeldung ist nicht zwingend\, aber wünschenswert\, da
  in der Gutsküche um Reservierung gebeten wird - am besten per Mail unter 
 a.koch-coswig@t-online.de. melden. Apricus-Gäste zahlen einen 1€ Beitrag f
 ür die Versicherung.\nBeste Grüße aus CoswigAndreas / Tesi
DTSTART:20240120T093000Z
DTEND:20240120T170000Z
GEO:00;0
LOCATION:
ORGANIZER:
SEQUENCE:1
SUMMARY:Skitour im Fläming
TRANSP:OPAQUE
URL:https://test.apricus-ev.de/component/icagenda/skitour-im-flaeming?layou
 t=vcal
END:VEVENT
END:VCALENDAR
