BEGIN:VCALENDAR
VERSION:2.0
PRODID:-//TEST Apricus e.V.//NONSGML kigkonsult.se iCalcreator 2.41.92//
CALSCALE:GREGORIAN
METHOD:PUBLISH
UID:62326136-6464-4362-b665-336230303561
X-WR-CALNAME:iCagenda
X-WR-CALDESC:Event Management Extension for Joomla!
X-WR-RELCALID:3E26604A-50F4-4449-8B3E-E4F4932D05B5
X-WR-TIMEZONE:Europe/Berlin
BEGIN:VTIMEZONE
TZID:Europe/Berlin
TZUNTIL:20241027T010000Z
BEGIN:STANDARD
TZNAME:CET
DTSTART:20221030T030000
TZOFFSETFROM:+0200
TZOFFSETTO:+0100
RDATE:20231029T030000
END:STANDARD
BEGIN:DAYLIGHT
TZNAME:CEST
DTSTART:20220327T020000
TZOFFSETFROM:+0100
TZOFFSETTO:+0200
RDATE:20230326T020000
RDATE:20240331T020000
END:DAYLIGHT
END:VTIMEZONE
BEGIN:VEVENT
UID:31376133-3438-4337-b736-343539646662
DTSTAMP:20260425T213430Z
CATEGORIES:Skilaufen\, Skaten
CLASS:PUBLIC
DESCRIPTION;ALTREP="CID:<FFFF__=0ABBE548DFE235B58f9e8a93d@coffeebean.com>":
 Liebe Apricüsse und Gäste\,\nder Winter ist da und in Frauenstein auch sch
 on mit sehr viel Schnee ❄⛄!\nDie JH Frauenstein im Schnee\nWir starten spo
 rtlich in das neue Jahr mit einem Skilanglaufwochenende im schönen Erzgebi
 rge. Es verschlägt uns\, nun schon zum vierten Mal\, in das ausgemachte Sk
 ilanglaufgebiet Frauenstein-Nassau. Dort werden wir von Freitag\, den 3.2.
 \, bis Sonntag\, dwn 5.2.2023\, in der Jugendherberge Frauenstein untergeb
 racht sein.&nbsp\; Der JH-Koch ist spezialisiert auf lokale Küche und stel
 lt die für seine Heimat typischen Gerichte wie erzgebirgische Kartoffelsup
 pe\, Buchteln (Hefeklöße) mit Heidelbeeren oder Quarkkäulchen für seine Gä
 ste her. Kulinarisch wird dieses Wochenende also schon mal ein Highlight!
 \nDie Anreise per Bahn\, Bus und Zug oder Auto ist für Freitag ab 17 Uhr g
 eplant – Bahnreisende aus Berlin\, Brandenburg oder Leipzig können bis Dre
 sden oder Freiberg fahren und ab dort mit dem Regionalbus nach Frauenstein
 . Mit dem Auto fährt man die Autobahn A4 bis Abfahrt Siebenlehn und weiter
  auf der B101 über Freiberg nach Frauenstein.\n\nWer bis 18 Uhr vor Ort is
 t\, kommt sogleich in den Genuss der oben beschriebenen köstlichen Küche. 
 Nach dem Abendbrot gehen wir gemeinsam in den dunklen Wald und nehmen unse
 re Schlitten mit (in der JH zur Ausleihe vorhanden)… denn dort organisiert
  die JH im Winter jeden Freitag ein Nachtrodeln mit Fackeln\, dazu Glühwei
 n und Kinderpunsch wenige hundert Meter hinterm Haus (s.a. Eindrücke von 2
 019).\nDas lasst euch bitte nicht entgehen!\nAm Samstag heißt es dann „Auf
  die Bretter“ – die Loipen verlaufen direkt vor dem Haus und wir werden wo
 hl eine Tour ins benachbarte Nassau machen – dem Austragungsort für das jä
 hrlich stattfindende Internationale Hundeschlittenrennen (leider werden wi
 r nur die Vorbereitungen sehen können\, denn es findet erst am Wochenende 
 drauf statt). Die Wege sind recht gut ausgeschildert und es gibt auch die 
 Möglichkeit zur Einkehr unterwegs. Da wir das Hundeschlittenrennen (diesma
 l vom 11.-13.2.) leider um eine Woche verpassen\, könnten wir uns alternat
 iv die Silbermannorgel in Nassau ansehen.\nIn jedem Fall sollten wir bis z
 um Einbruch der Dunkelheit wieder in der JH sein und können uns dort bei l
 eckerstem Essen und in gemütlicher Runde von den „Strapazen des Tages“ erh
 olen. Ein Klavier ist vorhanden und gerne können auch wieder weitere Musik
 instrumente mitgebracht werden. Außerdem gibt es in der JH die übliche Aus
 stattung mit Tischtennis und Kicker sowie diverse Gesellschaftsspiele. Die
  Getränkeversorgung werde ich noch klären\, es wird auf jeden Fall was da 
 sein für euch \;-)\nSonntag möchten wir dann entweder noch eine kleinere L
 L-Runde drehen\, die vorm Haus startet und gegen Mittag ebenda endet – ode
 r\, für die\, die das nicht wollen\, bietet sich die Besichtigung der Burg
 ruine Frauenstein mit angrenzender (ehemaliger) Sprungschanze an – bis Mit
 te der 70er Jahre war Frauenstein auch ein alpines Skigebiet\, eben wegen 
 der 40m langen und 36 Grad steilen (Aufsprunghang) Skisprungschanze. Alter
 nativ kann man auch das Heimatmuseum am neuen Standort auf dem Marktplatz 
 besichtigen. In jedem Fall werden wir noch Gelegenheit haben\, am Frauenst
 einer Markt in die nach zwei Jahren pandemiebedingter Schließung nun wiede
 r geöffnete erstklassige Konditorei zu gehen um dort\, beispielsweise\, sä
 chsischen Käsekuchen zu essen\, bevor wir uns wieder auf den Heimweg mache
 n.\nPreise\n*) Nachweis beim Organisator vorlegen **) Die Preise für Kinde
 r und Jugendliche sind durch den Verein gestützt / reduziert  \n\n\n\n\n\n
 TN-Gruppe\nApricus\nGäste\n\n\n\n\nErwachsene\n\n99\n109\n\n\nErmäßigt&nbs
 p\;/ Hartz-IV-Empfänger *\n\n85\n95\n\n\nKinder und Jugendliche bis 26 J. 
 **\n\n65\n69\n\n\nKinder 3 bis 6 J. **\n\n45\n49\n\n\n\nDie Teilnehmerbetr
 äge gelten für: 2x Übernachtung + Halbpension (Frühstück und Abendessen)\,
  inklusive Kurtaxe\, Bettwäsche und den von der JH erhobenen „krisenbeding
 ten Mehraufwand“. Eventuelle Lunchpakete für mittags sowie Getränke und Kn
 abberzeug für den Abend kommen noch dazu.\nDie An- und Abreise erfolgt ind
 ividuell und auf eigene Kosten\; ein Fahrtkostenzuschuss für Kinder und Ju
 gendliche kann beim Verein beantragt werden.\nHier noch die Adresse: Jugen
 dherberge Frauenstein\, Walkmühlenstraße 13\, 09623 Frauensteinund der Lin
 k zur Website der JH Frauenstein.\nIn der Jugendherberge besteht die Mögli
 chkeit\, Skier (Langlauf und Alpin) oder Schlitten auszuleihen.\nAnmeldung
 en\nbitte per Mail ab sofort bis spätestens Sonntag\, 15.1.2023\, an: jana
 _schwedler@yahoo.de\nWer noch Fragen hat\, schreibt ebenfalls einfach eine
  E-Mail an mich. Ich werde die Fragen sammeln und mich in der JH erkundige
 n. Bei ganz dringenden Fragen könnt ihr mich auch anrufen/“whatsappen“ unt
 er 0179-1254553.\nDie Anmeldungen gelten nur bei gleichzeitiger Einzahlung
  der Teilnehmerbeiträge auf das{loadmoduleid 114}\nIn Vorfreude auf ein sc
 hnee- und ereignisreiches Wochenende im Erzgebirge!Jana
DTSTART:20230203T160000Z
DTEND:20230205T160000Z
GEO:00;0
LOCATION:
ORGANIZER:
SEQUENCE:1
SUMMARY:Skiwochenende Frauenstein
TRANSP:OPAQUE
URL:https://test.apricus-ev.de/component/icagenda/skiwochenende-frauenstein
 ?layout=vcal
END:VEVENT
END:VCALENDAR
