BEGIN:VCALENDAR
VERSION:2.0
PRODID:-//TEST Apricus e.V.//NONSGML kigkonsult.se iCalcreator 2.41.92//
CALSCALE:GREGORIAN
METHOD:PUBLISH
UID:33626261-3838-4838-b933-396332363135
X-WR-CALNAME:iCagenda
X-WR-CALDESC:Event Management Extension for Joomla!
X-WR-RELCALID:3E26604A-50F4-4449-8B3E-E4F4932D05B5
X-WR-TIMEZONE:Europe/Berlin
BEGIN:VTIMEZONE
TZID:Europe/Berlin
TZUNTIL:20211031T010000Z
BEGIN:STANDARD
TZNAME:CET
DTSTART:20191027T030000
TZOFFSETFROM:+0200
TZOFFSETTO:+0100
RDATE:20201025T030000
END:STANDARD
BEGIN:DAYLIGHT
TZNAME:CEST
DTSTART:20190331T020000
TZOFFSETFROM:+0100
TZOFFSETTO:+0200
RDATE:20200329T020000
RDATE:20210328T020000
END:DAYLIGHT
END:VTIMEZONE
BEGIN:VEVENT
UID:31376339-3532-4432-b934-653664376462
DTSTAMP:20260425T215721Z
CATEGORIES:Skilaufen\, Skaten
CLASS:PUBLIC
DESCRIPTION;ALTREP="CID:<FFFF__=0ABBE548DFE235B58f9e8a93d@coffeebean.com>":
 Liebe Apricüsse und Gäste\,\nder Winter naht und damit auch hoffentlich de
 r Schnee!\nWir starten sportlich in das neue Jahr mit einem Skilanglaufwoc
 henende im schönen Erzgebirge. Es verschlägt uns\, nun schon zum zweiten M
 al\, in das ausgemachte Ski&shy\;lang&shy\;laufgebiet Frauenstein-Nassau. 
 Dort werden wir von Freitag\, 17.1. bis Sonntag\, 19.1.2020 in der Jugendh
 erberge Frauenstein untergebracht sein. Der dort tätige Koch ist spezialis
 iert auf lokale Küche und hat seinen früheren Job in einem renommierten Re
 staurant in der Schweiz quittiert\, um wieder in seiner Heimat erzgebirgis
 che Kartoffel&shy\;suppe\, Buchteln (Hefeklöße) mit Heidelbeeren oder Quar
 kkeulchen herstellen zu können. Kulinarisch wird dieses Wochenende also sc
 hon mal ein Highlight werden!\nDie Anreise per Bahn\, Bus und Zug oder Aut
 o ist für Freitag ab 17 Uhr geplant – Bahnreisende aus Berlin\, Brandenbur
 g oder Leipzig können bis Dresden oder Freiberg fahren und ab dort mit dem
  Regionalbus nach Frauenstein. Mit dem Auto fährt man die Autobahn A4 bis 
 Abfahrt Siebenlehn und weiter auf der B101 über Freiberg nach Frauenstein.
 \nWer bis 18 Uhr vor Ort ist\, kommt sogleich in den Genuss der oben besch
 riebenen köstlichen Küche. Nach dem Abendbrot gehen wir gemeinsam in den d
 unklen Wald und nehmen unsere Schlitten mit (in der JH zur Ausleihe vorhan
 den)… denn dort organisiert die JH im Winter jeden Freitag ein Nachtrodeln
  mit Fackeln\, dazu Glühwein und Kinderpunsch wenige hundert Meter hinterm
  Haus.\nDas lasst euch bitte nicht entgehen!\nAm Samstag heißt es dann „Au
 f die Bretter“ – die Loipen verlaufen direkt vor dem Haus und wir werden w
 ohl eine Tour ins benachbarte Nassau machen. Alles ist recht gut ausgeschi
 ldert und es gibt auch die Möglichkeit zur Einkehr unterwegs. Da das legen
 däre Internationale Nassauer Hundeschlittenrennen\, das einige noch von le
 tztem Mal kennen\, erst Mitte Februar 2020 wieder stattfindet\, könnten wi
 r uns alternativ die Silbermannorgel in Nassau ansehen. In jedem Fall soll
 ten wir bis zum Einbruch der Dunkelheit wieder in der JH sein und können u
 ns dort bei leckerstem Essen (siehe oben) und in gemütlicher Runde von den
  „Strapazen des Tages“ erholen. Ein Klavier ist vorhanden und gerne können
  auch wieder weitere Musikinstrumente mitgebracht werden. Außerdem gibt es
  in der JH die übliche Ausstattung mit Tischtennis und Kicker sowie divers
 e Gesellschafts&shy\;spiele. Die Getränkeversorgung werde ich noch klären\
 , es wird auf jeden Fall was da sein für euch. \;-)\nSonntag möchten wir d
 ann entweder noch eine kleinere LL-Runde drehen\, die vorm Haus startet un
 d gegen Mittag ebenda endet – oder\, für die\, die das nicht wollen\, biet
 et sich die Besichtigung der Burgruine Frauenstein mit angrenzender (ehema
 liger) Sprungschanze an – bis Mitte der 70er Jahre war Frauenstein auch ei
 n alpines Skigebiet\, eben wegen der 40m langen und 36 Grad steilen (Aufsp
 runghang) Skisprungschanze. In jedem Fall werden wir noch Gelegenheit habe
 n\, am Frauensteiner Markt in die erstklassige Konditorei zu gehen\, um do
 rt beispielsweise sächsischen Käsekuchen zu essen\, bevor wir uns wieder a
 uf den Heimweg machen.\nTeilnehmerbeitrag\n*) Nachweis beim Organisator vo
 rlegen **) Die Preise für Kinder und Jugendliche sind durch den Verein ges
 tützt / reduziert  \n\n\n\n\n\nTN-Gruppe\nApricus\nGäste\n\n\n\n\nErwachse
 ne\n\n75\n85\n\n\nErmäßigt / Hartz-IV-Empfänger *\n\n60\n70\n\n\nJugendlic
 he bis 26 Jahre **\n\n50\n60\n\n\nKinder 7 bis 14 Jahre **\n\n35\n39\n\n\n
 \nDie Teilnehmerbeträge gelten für: 2x Übernachtung + Halbpension (Frühstü
 ck und Abend&shy\;essen)\, inklusive Kurtaxe und Bettwäsche. Eventuell kom
 mt noch ein Lunchpaket für mittags dazu\, sowie Getränke und Knabberzeug f
 ür den Abend.\nDie An- und Abreise erfolgt individuell und auf eigene Kost
 en.\nHier noch die Adresse (Website s.o.):\n\nJugendherberge FrauensteinWa
 lkmühlenstraße 1309623 Frauenstein\n\nIn der Jugendherberge besteht die Mö
 glichkeit\, Skier (Langlauf und Alpin) oder Schlitten auszuleihen.\nAnmeld
 ungen\n...bitte per Mail ab sofort bis spätestens 5.1.2020 an: jana_schwed
 ler@yahoo.de.\nWer noch Fragen hat\, schreibt ebenfalls einfach eine E-Mai
 l an mich. Ich werde die Fragen sammeln und mich in der JH erkundigen. Bei
  ganz dringenden Fragen könnt ihr mich auch anrufen/“whatsappen“ unter 017
 9-1254553.\nDie Anmeldungen gelten nur bei gleichzeitiger Einzahlung der T
 eilnehmerbeiträge auf das {loadmoduleid 114}\nBitte beachtet auch unsere w
 eiteren Hinweise zu Teilnahmebedingungen und der eventuellen Verwendung vo
 n Fotos\, die bei der Veranstaltung entstehen können.\nIn Vorfreude auf ei
 n schnee- und ereignisreiches Wochenende im Erzgebirge!Jana
DTSTART:20200117T150000Z
DTEND:20200119T170000Z
GEO:00;0
LOCATION:
ORGANIZER:
SEQUENCE:1
SUMMARY:Skiwochenende in Frauenstein
TRANSP:OPAQUE
URL:https://test.apricus-ev.de/component/icagenda/skiwochenende-in-frauenst
 ein?layout=vcal
END:VEVENT
END:VCALENDAR
