BEGIN:VCALENDAR
VERSION:2.0
PRODID:-//TEST Apricus e.V.//NONSGML kigkonsult.se iCalcreator 2.41.92//
CALSCALE:GREGORIAN
METHOD:PUBLISH
UID:31393531-3165-4237-a662-386533383536
X-WR-CALNAME:iCagenda
X-WR-CALDESC:Event Management Extension for Joomla!
X-WR-RELCALID:3E26604A-50F4-4449-8B3E-E4F4932D05B5
X-WR-TIMEZONE:Europe/Berlin
BEGIN:VTIMEZONE
TZID:Europe/Berlin
TZUNTIL:20241027T010000Z
BEGIN:STANDARD
TZNAME:CET
DTSTART:20221030T030000
TZOFFSETFROM:+0200
TZOFFSETTO:+0100
RDATE:20231029T030000
END:STANDARD
BEGIN:DAYLIGHT
TZNAME:CEST
DTSTART:20220327T020000
TZOFFSETFROM:+0100
TZOFFSETTO:+0200
RDATE:20230326T020000
RDATE:20240331T020000
END:DAYLIGHT
END:VTIMEZONE
BEGIN:VEVENT
UID:38333537-3532-4262-b637-316364653934
DTSTAMP:20260425T231752Z
CATEGORIES:Wandern
CLASS:PUBLIC
DESCRIPTION;ALTREP="CID:<FFFF__=0ABBE548DFE235B58f9e8a93d@coffeebean.com>":
 Hallo liebe Apricus-Wanderfans und Gäste\,\nam Sonntag wollen wir auf dem 
 sogenannten Kienberg-Rundweg vor allem die diversen Kunstobjekte im Skuplt
 urenpark Bülzig\, auch Park der Engel genannt\, auf uns wirken lassen. Auf
  einer der zahlreichen Fläming-Wanderungen im November mit Torsten oder Fr
 ank war der Park übrigens schon mal (Übernachtungs-?)Station. Inzwischen s
 ollten noch einige Objekte dazu gekommen sein...!\nEin Höhepunkt – der Sku
 plturenpark – erwartet uns gleich am Anfang (und nochmal am Ende)\, weiter
  geht's zum Kienberg\, durch Stieleichen-/Hainbuchenwald\, im Zahnabachtal
  und über den Küchenholzgraben zur Külsoer Mühle (Gaststätte)\, zurück kom
 men wir am südlichen Rand des Skulpturenparks wieder nach Bülzig. Länge ca
 . 9&nbsp\;km\, mit Abstecher nach Zahna ca. 12&nbsp\;km.\nTreffpunkt: Bülz
 ig Bhf. (zw. Wittenberg und Zahna)um: ca. 10:00 Uhr um im Hellen wieder zu
 rückzukommen\, mit Einkehr und evtl. Abstecher nach Zahna\n\nFür 2-3 Leipz
 iger könnte ich ab WB Bhf. (aus Lpz. an 9:42 Uhr bzw. 9:57 Uhr) Taxi spiel
 en. Zurück entsprechend.\nBei längeren Wartezeiten: es gibt in Bülzig eine
  romanische Feldsteinkirche (wir sind schließlich im Fläming) und das Haus
  unseres Ministerpräsidenten...\n\nAnmeldung nicht zwingend\, aber wünsche
 nswert (für evtl. Reservierung in Gaststätte).\nGäste zahlen\, wie immer\,
  1€ für die Versicherung.\nAuf Euer Kommen freut sichAndreas / Tesi
DTSTART:20221106T090000Z
DTEND:20221106T160000Z
GEO:00;0
LOCATION:Bülzig
ORGANIZER:
SEQUENCE:1
SUMMARY:Skulpturenparkwanderung
TRANSP:OPAQUE
URL:https://test.apricus-ev.de/component/icagenda/skulpturenparkwanderung?l
 ayout=vcal
END:VEVENT
END:VCALENDAR
