BEGIN:VCALENDAR
VERSION:2.0
PRODID:-//TEST Apricus e.V.//NONSGML kigkonsult.se iCalcreator 2.41.92//
CALSCALE:GREGORIAN
METHOD:PUBLISH
UID:34663632-3138-4439-b637-346236656561
X-WR-CALNAME:iCagenda
X-WR-CALDESC:Event Management Extension for Joomla!
X-WR-RELCALID:3E26604A-50F4-4449-8B3E-E4F4932D05B5
X-WR-TIMEZONE:Europe/Berlin
BEGIN:VTIMEZONE
TZID:Europe/Berlin
TZUNTIL:20270328T010000Z
BEGIN:STANDARD
TZNAME:CET
DTSTART:20241027T030000
TZOFFSETFROM:+0200
TZOFFSETTO:+0100
RDATE:20251026T030000
RDATE:20261025T030000
END:STANDARD
BEGIN:DAYLIGHT
TZNAME:CEST
DTSTART:20250330T020000
TZOFFSETFROM:+0100
TZOFFSETTO:+0200
RDATE:20260329T020000
END:DAYLIGHT
END:VTIMEZONE
BEGIN:VEVENT
UID:37616165-3332-4364-a331-663162346534
DTSTAMP:20260425T213429Z
CATEGORIES:Paddeln\, Rudern
CLASS:PUBLIC
DESCRIPTION;ALTREP="CID:<FFFF__=0ABBE548DFE235B58f9e8a93d@coffeebean.com>":
 Hallo liebe Apricusse und Gäste\,\nam zweiten Juli-Wochenende (12.-13.7.) 
 laden wir (erneut) zu einer kleinen Paddeltour bei Leipzig ein. Genaugenom
 men geht es auf die Mulde im Großraum Grimma.\nDie gleiche Tour hatten wir
  2023 schon einmal gemacht\, da waren es aber über 35 Grad und so konnten 
 nicht alle anreisen bzw. mitfahren\, die eigentlich wollten. Daher ein neu
 erlicher Versuch.\nStart wird Samstag früh in Leisnig sein\, wo wir die Bo
 ote geliefert bekommen. Leisnig erreicht man mit der RB aus Leipzig (Abfah
 rt 08:06&nbsp\;Uhr\, Ankunft 09:01&nbsp\;Uhr). Wer von außerhalb kommt und
  diese Zeit nicht schafft\, kann sich individuell um eine Unterkunft in Le
 ipzig kümmern. Wir helfen da auch gern mit Insidertips. Alternativ könntet
  Ihr schon auf dem Zeltplatz des Seesportvereins in Grimma übernachten\, d
 en wir Samstagabend nutzen werden.\nAm Samstag paddeln wir zunächst auf de
 r Freiberger Mulde bis zur Muldevereinigung in Sermuth. Und dann weiter bi
 s nach Grimma\, wo wir beim dortigen Seesportverein Albin Köbis zelten und
  den Abend verbringen/genießen können. Wichtig: Es gibt unterwegs keine Ei
 nkehr und keinen Supermarkt (die gibt es am Start und am Ziel) - das heißt
 : Selbstverpflegung.\nSonntag paddeln wir dann weiter bis Bennewitz/Wurzen
 \, wo die Boote abgeholt werden und wo man mit der S-Bahn und dem RE (Rich
 tung Leipzig und Dresden) gut und oft wieder wegkommt. Unterwegs können wi
 r einen Stopp in Trebsen machen\, um das Schloss samt Park direkt an der M
 ulde zu besichtigen. Kurz vorm Ziel lädt das Fährhaus Wurzen dann noch zum
  Kaffee und Kuchen ein.\nPreise:\n*) Bitte Nachweis vorlegen  \n\n\n\n\n\n
 TN-Gruppe\nApricus\nGäste\n\n\n\n\nErwachsene\n\n50\n55\n\n\nBürgergeld-&n
 bsp\;/ ALG-Empfänger *\n\n40\n45\n\n\nKinder&nbsp\;/ Jugendliche bis 26 Ja
 hre\n\n40\n42\n\n\n\nim Preis enthalten: Bootsmiete und Übernachtung\nnich
 t enthalten: Anreisekosten\, Verpflegung\nmitbringen: Zelt\, Schlafsack\, 
 Matte\, Koch-\, Ess-Utensilien\n\nBitte kurzfristig anmelden bei Michael K
 raus unter 0176-31330108\, mkraus70@yahoo.de\nAuf ein schönes\, sonniges (
 aber bitte weniger als 35 Grad) Paddel-Wochenende freuen sichMicha und And
 reas
DTSTART:20250712T070000Z
DTEND:20250713T160000Z
GEO:00;0
LOCATION:
ORGANIZER:
SEQUENCE:1
SUMMARY:Sommerpaddeln auf der Mulde bei Grimma
TRANSP:OPAQUE
URL:https://test.apricus-ev.de/component/icagenda/sommerpaddeln-bei-leipzig
 ?layout=vcal
END:VEVENT
END:VCALENDAR
