BEGIN:VCALENDAR
VERSION:2.0
PRODID:-//TEST Apricus e.V.//NONSGML kigkonsult.se iCalcreator 2.41.92//
CALSCALE:GREGORIAN
METHOD:PUBLISH
UID:30336432-3631-4564-a161-393239303638
X-WR-CALNAME:iCagenda
X-WR-CALDESC:Event Management Extension for Joomla!
X-WR-RELCALID:3E26604A-50F4-4449-8B3E-E4F4932D05B5
X-WR-TIMEZONE:Europe/Berlin
BEGIN:VTIMEZONE
TZID:Europe/Berlin
TZUNTIL:20250330T010000Z
BEGIN:STANDARD
TZNAME:CET
DTSTART:20221030T030000
TZOFFSETFROM:+0200
TZOFFSETTO:+0100
RDATE:20231029T030000
RDATE:20241027T030000
END:STANDARD
BEGIN:DAYLIGHT
TZNAME:CEST
DTSTART:20230326T020000
TZOFFSETFROM:+0100
TZOFFSETTO:+0200
RDATE:20240331T020000
END:DAYLIGHT
END:VTIMEZONE
BEGIN:VEVENT
UID:65613362-6538-4634-a230-323836303863
DTSTAMP:20260425T232437Z
CATEGORIES:Radfahren
CLASS:PUBLIC
DESCRIPTION;ALTREP="CID:<FFFF__=0ABBE548DFE235B58f9e8a93d@coffeebean.com>":
 Mehrtagestour durch die Bretagne bzw. die Normandie. Übernachtet wird im Z
 elt.\n\nVorabinfo vom 26. März\nLiebe Tour-Interessierte\,\nin diesem Jahr
  wollen wir auch wieder eine größere Radtour im Ausland unternehmen. Es ge
 ht in der Zeit vom 09.08.2023 bis 25.08.2023 durch Frankreich bzw. durch d
 ie Bretagne und die Normandie (der Termin musste leider um eine Woch nach 
 hinten verschoben werden).\nDie Anreise erfolgt bis Rennes per Zug und von
  da an geht es per Rad grob in Richtung Norden (St. Marlo\, Le Mont-Saint-
 Michel) zur Küste. Dort führt die Rad-Tour weiter in Richtung (Nord-)Osten
 \, über die Halbinsel Cotentin\, die Strände der Normandie\, Caen\, Honfle
 ur bis Le Havre oder Rouen bevor wir wieder per Zug zurück reisen. Da es i
 n dieser Gegend sehr viele Steilküsten gibt\, sind auch die ein oder ander
 en starken Steigungen zu bewältigen.\nDie Tour wird wie immer mit Übernach
 tungen im Zelt durchgeführt. Da wir nicht immer genau wissen\, wie weit wi
 r pro Tag kommen\, werden die Campingplätze in der Regel auch nicht vorgeb
 ucht. Aus diesem Grund ist die Teilnehmerzahl auch begrenzt. Ich plane akt
 uell mit Kosten von ca. 400 bis 450 € sowie die Zug-An- und Abreise.\nDa d
 ie Anreise per Fernzug + Rad nicht von heute auf morgen gebucht werden kan
 n (v.a. die Zugreservierungen für Fahrräder)\, möchte ich schon einmal nac
 hfragen wer an dieser Radtour Interesse hat. Ich möchte euch bitten\, euch
  bis zum 10.&nbsp\;April per E-Mail an mich zu wenden und sich anzumelden 
 (Heiko.Griebsch@web.de).\nViele GrüßeHeiko
DTSTART:20230809T080000Z
DTEND:20230825T160000Z
GEO:00;0
LOCATION:
ORGANIZER:
SEQUENCE:1
SUMMARY:Sommerradtour in der Bretagne
TRANSP:OPAQUE
URL:https://test.apricus-ev.de/component/icagenda/sommerradtour-in-der-bret
 agne?layout=vcal
END:VEVENT
END:VCALENDAR
