BEGIN:VCALENDAR
VERSION:2.0
PRODID:-//TEST Apricus e.V.//NONSGML kigkonsult.se iCalcreator 2.41.92//
CALSCALE:GREGORIAN
METHOD:PUBLISH
UID:33363133-3032-4563-a263-313533623438
X-WR-CALNAME:iCagenda
X-WR-CALDESC:Event Management Extension for Joomla!
X-WR-RELCALID:3E26604A-50F4-4449-8B3E-E4F4932D05B5
X-WR-TIMEZONE:Europe/Berlin
BEGIN:VTIMEZONE
TZID:Europe/Berlin
TZUNTIL:20221030T010000Z
BEGIN:STANDARD
TZNAME:CET
DTSTART:20201025T030000
TZOFFSETFROM:+0200
TZOFFSETTO:+0100
RDATE:20211031T030000
END:STANDARD
BEGIN:DAYLIGHT
TZNAME:CEST
DTSTART:20200329T020000
TZOFFSETFROM:+0100
TZOFFSETTO:+0200
RDATE:20210328T020000
RDATE:20220327T020000
END:DAYLIGHT
END:VTIMEZONE
BEGIN:VEVENT
UID:31373665-3935-4334-a365-656438363831
DTSTAMP:20260425T221241Z
CATEGORIES:Treffen
CLASS:PUBLIC
DESCRIPTION;ALTREP="CID:<FFFF__=0ABBE548DFE235B58f9e8a93d@coffeebean.com>":
 ...online!\n\nDas Umweltfest findet in diesem Jahr digital\, d.h. als Onli
 ne-Version\, statt (s. Mitteilung der Grünen Liga Berlin). In seiner digit
 alen Ausgabe startete das Umweltfestival am 20.&nbsp\;August und wird bis 
 Ende November laufen.&nbsp\;\nAnstelle der geplanten Beteiligung mit einem
  Stand auf der Festmeile am Brandenburger Tor wie im letzten Jahr präsenti
 eren wir uns also 'im Netz'. Für unseren Auftritt sind ein paar interessan
 te Videos entstanden - von einer Aussage\, warum wir beim Umweltfest sind\
 , über ein paar Eindrücke von Touren bis zur Beantwortung der Frage\, waru
 m die Coswiger Radwandertage so heißen\, ist einiges dabei.\nWir wünschen 
 euch viel Spaß beim Stöbern bei uns und allgemein auf der Umweltfestival-S
 eite - es lohnt sich!\n\nUnd... jetzt seid ihr gefragt!\nNur noch bis zum 
 15.11. (diesen Sonntag) könnt ihr noch auf dem digitalen Umweltfestival fü
 r eure Favorit*innen unter den Austeller*innen abstimmen. Ein Klick auf de
 n Button Publikumspreis genügt! Gib deinen #klickfürsklima auf www.umweltf
 estival.de\nMit diesem Link kommt ihr direkt zu Apricus und könnt eure Sti
 mme dalassen :-) :https://www.umweltfestival.de/aussteller/apricus-e-v/
DTSTART:20201112T200000Z
DTEND:20201115T225900Z
GEO:00;0
LOCATION:
ORGANIZER:
SEQUENCE:1
SUMMARY:Apricus auf dem Berliner Umweltfestival
TRANSP:OPAQUE
URL:https://test.apricus-ev.de/component/icagenda/stand-auf-dem-berliner-um
 weltfest?layout=vcal
END:VEVENT
END:VCALENDAR
