BEGIN:VCALENDAR
VERSION:2.0
PRODID:-//TEST Apricus e.V.//NONSGML kigkonsult.se iCalcreator 2.41.92//
CALSCALE:GREGORIAN
METHOD:PUBLISH
UID:35303939-3937-4466-b934-323137623462
X-WR-CALNAME:iCagenda
X-WR-CALDESC:Event Management Extension for Joomla!
X-WR-RELCALID:3E26604A-50F4-4449-8B3E-E4F4932D05B5
X-WR-TIMEZONE:Europe/Berlin
BEGIN:VTIMEZONE
TZID:Europe/Berlin
TZUNTIL:20250330T010000Z
BEGIN:STANDARD
TZNAME:CET
DTSTART:20221030T030000
TZOFFSETFROM:+0200
TZOFFSETTO:+0100
RDATE:20231029T030000
RDATE:20241027T030000
END:STANDARD
BEGIN:DAYLIGHT
TZNAME:CEST
DTSTART:20230326T020000
TZOFFSETFROM:+0100
TZOFFSETTO:+0200
RDATE:20240331T020000
END:DAYLIGHT
END:VTIMEZONE
BEGIN:VEVENT
UID:64326531-6331-4766-a238-373537656164
DTSTAMP:20260425T213426Z
CATEGORIES:Radfahren
CLASS:PUBLIC
DESCRIPTION;ALTREP="CID:<FFFF__=0ABBE548DFE235B58f9e8a93d@coffeebean.com>":
 Hallo Leute\,\nSo sah es 2019 aus.\nAuch 2023 findet wieder die weltgrößte
  Fahrraddemonstration und damit die ADFC-Sternfahrt im 'Vollformat' nach B
 erlin statt. Dabei setzen sich etliche tausend&nbsp\;Menschen auf die Räde
 r\, um die Brandenburger und Berliner Straßen inklusive einiger Abschnitte
  auf den Stadtautobahnen zu erobern. Das Ganze findet am Sonntag den 4.&nb
 sp\;Juni statt. Genauere Informationen zur Veranstaltung findet Ihr hier: 
 Sternfahrt Berlin auf der ADFC-Seite. \nWichtig: Das ganze findet im Rahme
 n des Umweltfestes Berlin statt\, wo sich auch das Ziel der Radelei befind
 et.\nDieses Jahr starten wir zum fünften Mal einen Zubringer aus Leipzig a
 ls gemeinsamen Strahl mit dem ADFC Leipzig. Wer Lust hat\, mal was Verrück
 tes zu machen und ab Leipzig oder irgendwo unterwegs mit einzusteigen... h
 ier die Fahrtentabelle\, wann wir wo sein werden:\n\n*) Bei einer kleinen 
 Verspätung stoßen wir zur ADFC-Sternfahrt auf der B1 in Werder dazu&nbsp\;
 - sollte es noch später werden\, fahren wir direkt nach Potsdam und lassen
  Werder links liegen.\n\n\n\nTreffpunkt\nStation\nan\nab\n\n\n\nLeipzig Hb
 f.\, Westseitekm 0→00:45 Uhr\nBad Düben\, Brunnen / B107km 3702:35&nbsp\;U
 hr02:50&nbsp\;Uhr\nWittenberg\, Aral-Tankstelle (Berliner Straße)km 7304:3
 5&nbsp\;Uhr05:20&nbsp\;Uhr\nTreuenbrietzen\, Bahnhofkm 10206:45&nbsp\;Uhr0
 7:00&nbsp\;Uhr\nBorkheide\, Bahnhofkm 12107:55&nbsp\;Uhr08:10&nbsp\;Uhr\nW
 erder (Havel)\, Bahnhof *km 14309:15&nbsp\;Uhr→&nbsp\;9:45 Uhr\n\n\nIn Wer
 der beginnt die offizielle Sternfahrt\, zu deren Teilnahme ich Euch gern m
 otivieren möchte.&nbsp\; Der Start dort ist 09:45 Uhr - in Potsdam (Hbf) g
 eht es um 11:30&nbsp\;Uhr weiter\, Berlin-Mitte wird dann nach rund 40 wei
 teren Kilometern ca.&nbsp\;14:00&nbsp\;Uhr erreicht.\nTeilnahme\nWer frühe
 r als ab Werder mitfahren möchte\, meldet sich bitte bei uns\n\nJens Arnol
 d: 0175-1602839 oder Michael Kraus: 0176-31330108\noder per Mail an sternf
 ahrt@apricus-ev.de bzw. michael.kraus@adfc-leipzig.de\n\ndamit wir uns weg
 en des Treffens und allem Weiteren abstimmen können.\nWer in Werder oder s
 päter hinzukommen möchte\, braucht nicht Bescheid zu sagen - kann das aber
  trotzdem machen\, damit wir uns in der Menge dann auch finden.\nKosten\nD
 ie Anreise ab Leipzig als Apricus-/ADFC-Leipzig-Tour kostet 4€ für die Org
 anisation. Nichtmitglieder im ADFC oder bei Apricus zahlen zusätzlich 1€ a
 ls Ver&shy\;siche&shy\;rungs&shy\;beitrag.\nAlso dann bis zum 4.&nbsp\;Jun
 i&nbsp\;- früh 00:45&nbsp\;Uhr - in Leipzig… oder irgendwo dazwischen (sie
 he Zeitplan)!\nEs freuen sichJens und Micha
DTSTART:20230603T223000Z
DTEND:20230604T120000Z
GEO:00;0
LOCATION:
ORGANIZER:
SEQUENCE:1
SUMMARY:Sternfahrt-Zubringer ab Leipzig
TRANSP:OPAQUE
URL:https://test.apricus-ev.de/component/icagenda/sternfahrt-zubringer-ab-l
 eipzig-2?layout=vcal
END:VEVENT
END:VCALENDAR
