BEGIN:VCALENDAR
VERSION:2.0
PRODID:-//TEST Apricus e.V.//NONSGML kigkonsult.se iCalcreator 2.41.92//
CALSCALE:GREGORIAN
METHOD:PUBLISH
UID:33366466-6462-4433-a161-396533333833
X-WR-CALNAME:iCagenda
X-WR-CALDESC:Event Management Extension for Joomla!
X-WR-RELCALID:3E26604A-50F4-4449-8B3E-E4F4932D05B5
X-WR-TIMEZONE:Europe/Berlin
BEGIN:VTIMEZONE
TZID:Europe/Berlin
TZUNTIL:20230326T010000Z
BEGIN:STANDARD
TZNAME:CET
DTSTART:20201025T030000
TZOFFSETFROM:+0200
TZOFFSETTO:+0100
RDATE:20211031T030000
RDATE:20221030T030000
END:STANDARD
BEGIN:DAYLIGHT
TZNAME:CEST
DTSTART:20210328T020000
TZOFFSETFROM:+0100
TZOFFSETTO:+0200
RDATE:20220327T020000
END:DAYLIGHT
END:VTIMEZONE
BEGIN:VEVENT
UID:35613333-6231-4131-a661-613131396330
DTSTAMP:20260425T213426Z
CATEGORIES:Radfahren
CLASS:PUBLIC
DESCRIPTION;ALTREP="CID:<FFFF__=0ABBE548DFE235B58f9e8a93d@coffeebean.com>":
 Die ADFC-Sternfahrt findet in diesem Jahr hauptsächlich auf dem Berliner S
 tadtgebiet statt. Den Ast ab Werder wird es als einzige Ausnahme geben - j
 edoch konnten wir unsere geplante Zubringertour ab Leipzig wegen der fehle
 nden Planungssicherheit nicht mehr organisieren.\nUnabhängig davon könnt I
 hr natürlich auf eigene Faust an der Sternfahrt teilnehmen - die nötigen I
 nformationen findet Ihr auf den Seiten des ADFC Berlin (s. oben)\, nachfol
 gend schon einmal die Übersicht.\n&nbsp\;
DTSTART:20210606T080000Z
DTEND:20210606T140000Z
GEO:00;0
LOCATION:
ORGANIZER:
SEQUENCE:1
SUMMARY:ADFC-Sternfahrt
TRANSP:OPAQUE
URL:https://test.apricus-ev.de/component/icagenda/sternfahrt-zubringer-ab-l
 eipzig?layout=vcal
END:VEVENT
END:VCALENDAR
