BEGIN:VCALENDAR
VERSION:2.0
PRODID:-//TEST Apricus e.V.//NONSGML kigkonsult.se iCalcreator 2.41.92//
CALSCALE:GREGORIAN
METHOD:PUBLISH
UID:65633033-3566-4139-a232-386638623131
X-WR-CALNAME:iCagenda
X-WR-CALDESC:Event Management Extension for Joomla!
X-WR-RELCALID:3E26604A-50F4-4449-8B3E-E4F4932D05B5
X-WR-TIMEZONE:Europe/Berlin
BEGIN:VTIMEZONE
TZID:Europe/Berlin
TZUNTIL:20220327T010000Z
BEGIN:STANDARD
TZNAME:CET
DTSTART:20191027T030000
TZOFFSETFROM:+0200
TZOFFSETTO:+0100
RDATE:20201025T030000
RDATE:20211031T030000
END:STANDARD
BEGIN:DAYLIGHT
TZNAME:CEST
DTSTART:20200329T020000
TZOFFSETFROM:+0100
TZOFFSETTO:+0200
RDATE:20210328T020000
END:DAYLIGHT
END:VTIMEZONE
BEGIN:VEVENT
UID:62336234-6531-4537-b234-373533313361
DTSTAMP:20260425T214124Z
CATEGORIES:Absage bzw. Verschiebung
CLASS:PUBLIC
DESCRIPTION;ALTREP="CID:<FFFF__=0ABBE548DFE235B58f9e8a93d@coffeebean.com>":
 Absage der Teilnahme\nLeider fallen in diesem Jahr sowohl das Umweltfest a
 ls auch die Fahrrad-Sternfahrt am 7.&nbsp\;Juni aus und damit auch unser P
 art auf beiden Veranstaltungen. Während die Sternfahrt komplett abgesagt w
 urde\, soll das Umweltfest – wenn möglich – auf einen anderen Termin versc
 hoben werden (s. Meldung der Grünen Liga Berlin).\nEs wird also keinen Zub
 ringer ab Leipzig zur Sternfahrt nach Werder geben\, was nach dem letztjäh
 rigen Spaß und Erfolg mit 40 verrückten Nachtradlern sehr schade ist. Ob u
 nd wann das Umweltfest dann stattfindet\, werden wir sehen und gegebenenfa
 lls würden wir uns dort auch wieder präsentieren. Dazu halten wir euch ger
 n auf dem Laufenden.\nWir hoffen\, dass ein „normales“ Vereinsleben für un
 seren kleinen Erlebnissportverband bald wieder möglich sein wird und wir u
 ns auch in größeren Gruppen und überregional treffen\, wiedersehen und das
  Draußen erobern können.\nBis dahin wünschen wir euch vor allem Gesundheit
  und: bleibt fit!\nJana und Micha
DTSTART:20200606T230000Z
DTEND:20200607T140000Z
GEO:00;0
LOCATION:
ORGANIZER:
SEQUENCE:1
SUMMARY:Sternfahrt-Zubringertour ab Leipzig
TRANSP:OPAQUE
URL:https://test.apricus-ev.de/component/icagenda/sternfahrt-zubringertour-
 ab-leipzig?layout=vcal
END:VEVENT
END:VCALENDAR
