BEGIN:VCALENDAR
VERSION:2.0
PRODID:-//TEST Apricus e.V.//NONSGML kigkonsult.se iCalcreator 2.41.92//
CALSCALE:GREGORIAN
METHOD:PUBLISH
UID:66623065-3934-4338-b863-643631353739
X-WR-CALNAME:iCagenda
X-WR-CALDESC:Event Management Extension for Joomla!
X-WR-RELCALID:3E26604A-50F4-4449-8B3E-E4F4932D05B5
X-WR-TIMEZONE:Europe/Berlin
BEGIN:VTIMEZONE
TZID:Europe/Berlin
TZUNTIL:20231029T010000Z
BEGIN:STANDARD
TZNAME:CET
DTSTART:20211031T030000
TZOFFSETFROM:+0200
TZOFFSETTO:+0100
RDATE:20221030T030000
END:STANDARD
BEGIN:DAYLIGHT
TZNAME:CEST
DTSTART:20220327T020000
TZOFFSETFROM:+0100
TZOFFSETTO:+0200
RDATE:20230326T020000
END:DAYLIGHT
END:VTIMEZONE
BEGIN:VEVENT
UID:32323061-3831-4635-b364-616533633238
DTSTAMP:20260425T214126Z
CATEGORIES:Radfahren
CLASS:PUBLIC
DESCRIPTION;ALTREP="CID:<FFFF__=0ABBE548DFE235B58f9e8a93d@coffeebean.com>":
 Nicht nur am kommenden Sonnabend wird mit Apricus von Coswig aus geradelt\
 , auch am Sonntag kann man gerne noch mit auf das Rad steigen. An diesem T
 ag soll dann eine der Touren zum „Elberadeltag“ am 1. Mai abgeradelt werde
 n. Wer Lust hat\, dann zum Elberadeltag das Team zu unterstützen\, der kan
 n auch gern beim Vorab-Check der Strecke dabei sein.\nTreffpunkt ist 10:45
 &nbsp\;Uhr auf dem Coswiger Markt.\nDie „große“ Tour zum Elberadeltag von 
 Coswig nach Wörlitz wird etwa 40 km lang sein. Lasst euch überraschen...\n
 Die eigentliche Ausschreibung der Coswiger Apricus-Touren zum Elberadeltag
  in Zusammenarbeit mit der Stadt Coswig (Anhalt) kommt dann auch in den nä
 chsten Tagen. \nTorsten\n&nbsp\;\n\nCorona-Regeln bei Apricus-Veranstaltun
 gen\n{loadmoduleid 135}\nEntscheidend sind die Regeln für Sachsen-Anhalt b
 zw. den Landkreis Wittenberg.
DTSTART:20220403T084500Z
DTEND:20220403T140000Z
GEO:00;0
LOCATION:
ORGANIZER:
SEQUENCE:1
SUMMARY:Streckenabradeln Elberadeltag
TRANSP:OPAQUE
URL:https://test.apricus-ev.de/component/icagenda/streckenabradeln-elberade
 ltag?layout=vcal
END:VEVENT
END:VCALENDAR
