BEGIN:VCALENDAR
VERSION:2.0
PRODID:-//TEST Apricus e.V.//NONSGML kigkonsult.se iCalcreator 2.41.92//
CALSCALE:GREGORIAN
METHOD:PUBLISH
UID:65306238-3230-4530-b135-376565316538
X-WR-CALNAME:iCagenda
X-WR-CALDESC:Event Management Extension for Joomla!
X-WR-RELCALID:3E26604A-50F4-4449-8B3E-E4F4932D05B5
X-WR-TIMEZONE:Europe/Berlin
BEGIN:VTIMEZONE
TZID:Europe/Berlin
TZUNTIL:20260329T010000Z
BEGIN:STANDARD
TZNAME:CET
DTSTART:20231029T030000
TZOFFSETFROM:+0200
TZOFFSETTO:+0100
RDATE:20241027T030000
RDATE:20251026T030000
END:STANDARD
BEGIN:DAYLIGHT
TZNAME:CEST
DTSTART:20240331T020000
TZOFFSETFROM:+0100
TZOFFSETTO:+0200
RDATE:20250330T020000
END:DAYLIGHT
END:VTIMEZONE
BEGIN:VEVENT
UID:31623231-3631-4165-b235-316164303133
DTSTAMP:20260425T221242Z
CATEGORIES:Radfahren
CLASS:PUBLIC
DESCRIPTION;ALTREP="CID:<FFFF__=0ABBE548DFE235B58f9e8a93d@coffeebean.com>":
 Tief im Westen\nAuf der diesjährigen Etappe unserer Süd-Nord-Tour fahren w
 ir von Köln nach Münster und bleiben damit in Nordrhein-Westfalen. Das mit
  etwa 18&nbsp\;Millionen Menschen bevölkerungsreichste Bundesland bietet v
 ielfältige Eindrücke.\nWährend im kölschen Rheinland eher eine südwesteuro
 päische Kultur und Mentalität vorherrscht\, sind wir am Schluss in Westfal
 en schon fast in Norddeutschland. Dazwischen liegt auf unserer Tour das Be
 rgische Land als Mittelgebirge mit Burgruinen\, mittelalterlichen Orten un
 d Flüssen. Anschließend bereisen wir den Ruhrpott\, eine Region\, in der u
 ns viele Denkmäler der von Kohle und Stahl geprägten Industriekultur begeg
 nen werden. Komfortabel radeln wir auf alten Bahntrassen und an Flüssen un
 d Kanälen entlang\, die wir oft per Fähre überqueren - und durch Parks\, i
 n denen sich die Natur ehemalige Industrielandschaften zurückerobert hat. 
 Wir fahren mit der Wuppertaler Schwebebahn\, erklimmen eine Halde und besu
 chen die Zeche Zollverein\, die zum Weltkulturerbe zählt. Schließlich verl
 assen wir das dicht besiedelte Ruhrgebiet und fahren weiter nach Münster\,
  der Stadt\, die seit langem als die fahrradfreundlichste Großstadt Deutsc
 hlands gilt. In Münster endet unsere diesjährige Etappe.\nWir freuen uns s
 ehr darauf\, während der Tour Nicola wiederzusehen\, die vor einigen Jahre
 n von Bochum bis zum Baikalsee geradelt ist. Sie will nun ein Stück mitfah
 ren und übernimmt dankenswerterweise große Teile der Tourenplanung.\nDie T
 agesetappen werden im Mittel ca. 60&nbsp\;km lang sein. Während der Tour i
 st Selbstverpflegung geplant\, kombiniert mit gelegentlichen Gaststättenbe
 suchen.\nTeilnehmerbeiträge\n*) Bitte Nachweis vorlegen**) Preise sind dur
 ch den Verein gestützt  \n\n\n\n\n\nTN-Gruppe\nApricus\nGäste\n\n\n\n\nErw
 achsene\n\n380\n425\n\n\nBürgergeldempfänger und Studenten ab 27 Jahre *\n
 \n330\n375\n\n\nJugendliche 16-26 Jahre **\n\n300\n327\n\n\nKinder und Jug
 endliche 3-15 Jahre **\n\n250\n277\n\n\n\nDie Preise enthalten 9 Übernacht
 ungen in Festunterkünften sowie evtl. anfallende Eintrittsgelder.\nGetreu 
 unserem Motto „Natur gemeinsam aktiv erleben“ wollen wir jedem ermöglichen
 \, an unseren Veranstaltungen teilzunehmen. Daher gibt es besonders für Ki
 nder\, Jugendliche und Familien schon einige Fördermöglichkeiten\, beispie
 lsweise für die Reisekosten oder Zuschüsse aus einem Spendentopf. Genaue I
 nformationen erhaltet Ihr unter folgendem Link: Fördermöglichkeiten bei Ap
 ricus-Veranstaltungen. Wenn für Jemanden der Teilnehmerbeitrag zu hoch ist
 \, meldet euch bitte unbedingt bei uns. \nAnmeldung\n...bei Frank Petrovsk
 y (eMail: frankp@apricus-ev.de\; Telefon: 030-530 10 219\, Handy: 0173 / 8
 13 2345) bis spätestens 30.&nbsp\;Juni&nbsp\;2024.\nDie Anmeldung ist nur 
 gültig bei gleichzeitiger Einzahlung des Teilnehmerbeitrages bis zum 24.06
 .2024 auf unser{loadposition ap-kontodaten}\nBitte mitbringen: Sonnen- und
  Mückenschutz\, evtl. Kocher\, Besteck\, Geschirr\, Fahrradflickzeug\nWir 
 freuen uns auf eine schöne Tour mit euch.Frank und Marianne
DTSTART:20240827T080000Z
DTEND:20240905T170000Z
GEO:00;0
LOCATION:
ORGANIZER:
SEQUENCE:1
SUMMARY:Süd-Nord-Radtour\, Teil 5
TRANSP:OPAQUE
URL:https://test.apricus-ev.de/component/icagenda/sued-nord-radtour-teil-5?
 layout=vcal
END:VEVENT
END:VCALENDAR
