BEGIN:VCALENDAR
VERSION:2.0
PRODID:-//TEST Apricus e.V.//NONSGML kigkonsult.se iCalcreator 2.41.92//
CALSCALE:GREGORIAN
METHOD:PUBLISH
UID:64303535-3962-4334-b665-623835326130
X-WR-CALNAME:iCagenda
X-WR-CALDESC:Event Management Extension for Joomla!
X-WR-RELCALID:3E26604A-50F4-4449-8B3E-E4F4932D05B5
X-WR-TIMEZONE:Europe/Berlin
BEGIN:VTIMEZONE
TZID:Europe/Berlin
TZUNTIL:20270328T010000Z
BEGIN:STANDARD
TZNAME:CET
DTSTART:20241027T030000
TZOFFSETFROM:+0200
TZOFFSETTO:+0100
RDATE:20251026T030000
RDATE:20261025T030000
END:STANDARD
BEGIN:DAYLIGHT
TZNAME:CEST
DTSTART:20250330T020000
TZOFFSETFROM:+0100
TZOFFSETTO:+0200
RDATE:20260329T020000
END:DAYLIGHT
END:VTIMEZONE
BEGIN:VEVENT
UID:38323065-6339-4433-a635-653838306338
DTSTAMP:20260425T221241Z
CATEGORIES:Radfahren
CLASS:PUBLIC
DESCRIPTION;ALTREP="CID:<FFFF__=0ABBE548DFE235B58f9e8a93d@coffeebean.com>":
 Vom Münsterland an die Nordsee\nIn diesem Jahr starten wir (wie immer) am 
 Ende unserer vorjährigen Tour – in Münster.\nAuf der Friedensroute folgen 
 wir den Spuren der Reiter\, die ab 1643 - während der Friedensverhandlunge
 n - die Nachrichten zwischen den damals verfeindeten Lagern Münster und Os
 nabrück 5&nbsp\;Jahre lang hin- und hertrugen. Schließlich konnten sie 164
 8 endlich die Botschaft übermitteln\, dass Frieden einzieht. Im Teutoburge
 r Wald begegnen uns ein letztes Mal die Römer\, Sie unterlagen dort bekann
 tlich im Jahr 9 den Germanen. Von Tecklenburg\, dem nördlichsten Bergstädt
 chen Deutschlands aus\, bietet sich ein wunderschöner Blick über den Natur
 park Teutoburger Wald bis weit ins Münsterland. Ab Osnabrück radeln wir au
 f dem Brückenweg bis an die Weser. Der Weg heißt so\, weil wir dort viele 
 historische Brücken aus Holz\, Stein oder Stahl überqueren. Die Ozeanbrück
 e führt uns schließlich kurz vor Bremen nach Klein Amerika.\nAuf unserem W
 eg begegnen uns typische Landschaften des Nordens: die flache Marsch\, auc
 h Schwemmland genannt\, die oft als Weide- oder Ackerland genutzt wird\, d
 ie etwas höher gelegene eiszeitlich entstandene Geest mit Heide- oder Stra
 uchwerkvegetation oder Wäldern bewachsen und zahlreiche Moore. Als Kontras
 t dazu erreichen wir schließlich die umtriebige Hansestadt Bremen mit ihre
 r sehenswerten Altstadt und schon maritimer Atmosphäre. Schließlich geht e
 s auf dem gut ausgebauten Weser-Radweg nach Nordenham\, in dessen Nähe wir
  sowohl die Nordsee als auch Bremerhaven erreichen. Wer will\, kann dann n
 ach Hause fahren oder sich noch ein paar Tage Urlaub an der See gönnen.\nD
 ie Tagesetappen werden im Mittel ca. 65 km lang sein. Während der Tour ist
  Selbstverpflegung geplant\, kombiniert mit gelegentlichen Gaststättenbesu
 chen.\nWährend der Tour könnt ihr entweder (überwiegend) zelten oder in Fe
 stunterkünften übernachten.\nTeilnehmerbeiträge\nFür die beiden zuvor gena
 nnten Varianten gibt es zwei unterschiedliche Teilnehmerbeiträge:\n*) Bitt
 e Nachweis vorlegen.**) Preise sind durch den Verein gestützt.  \n\n\nFest
 unterkünfte\nZelt\n\nTN-Gruppe\nApricus\nGäste\nApricus\nGäste\n\n\n\n\nEr
 wachsene\n\n335\n365\n150\n180\n\n\nBürgergeldempfänger / Studenten über 2
 7 J.*\n\n295\n325\n130\n160\n\n\nJugendliche bis 26 Jahre**\n\n265\n295\n1
 00\n130\n\n\nKinder / Jugendliche\, 3 bis 15 Jahre**\n\n225\n237\n80\n92\n
 \n\n\nDie Preise enthalten 6 Übernachtungen sowie evtl. anfallende Eintrit
 tsgelder.\nGetreu unserem Motto „Natur gemeinsam aktiv erleben“ wollen wir
  jedem ermöglichen\, an unseren Veranstaltungen teilzunehmen. Daher gibt e
 s besonders für Kinder\, Jugendliche und Familien schon einige Fördermögli
 chkeiten\, beispielsweise für die Reisekosten oder Zuschüsse aus einem Spe
 ndentopf.Genaue Informationen erhaltet Ihr unter folgendem Link: Fördermög
 lichkeiten bei Apricus-Veranstaltungen. Wenn für Jemanden der Teilnehmerbe
 itrag zu hoch ist\, meldet euch bitte unbedingt bei uns. \nAnmeldung\n...b
 ei Frank Petrovsky (eMail: frankp@apricus-ev.de\, Telefon: 030-530 10 219\
 , Handy: 0173 / 813 2345)bis spätestens 25.&nbsp\;Juni 2025.\nBitte gebt b
 ei der Anmeldung an\, ob ihr zelten oder in Festunterkünften übernachten w
 ollt.\nDie Anmeldung ist nur gültig bei gleichzeitiger Einzahlung des Teil
 nehmerbeitrages auf unser {loadposition ap-kontodaten}\nBitte mitbringen:
 \n\nSonnen- und Mückenschutz\, evtl. Kocher\, Besteck\, Geschirr\, Fahrrad
 flickzeug\nggf. Zelt\, Isomatte und Schlafsack\, für alle Fälle auch Regen
 klamotten\n\nWir freuen uns auf eine schöne Tour mit euch\,Frank\, Micha u
 nd Marianne\n&nbsp\;
DTSTART:20250819T080000Z
DTEND:20250825T170000Z
GEO:00;0
LOCATION:
ORGANIZER:
SEQUENCE:1
SUMMARY:Süd-Nord-Radtour\, Teil 6
TRANSP:OPAQUE
URL:https://test.apricus-ev.de/component/icagenda/sued-nord-radtour-teil-6?
 layout=vcal
END:VEVENT
END:VCALENDAR
