BEGIN:VCALENDAR
VERSION:2.0
PRODID:-//TEST Apricus e.V.//NONSGML kigkonsult.se iCalcreator 2.41.92//
CALSCALE:GREGORIAN
METHOD:PUBLISH
UID:31353538-3532-4733-b765-366230386232
X-WR-CALNAME:iCagenda
X-WR-CALDESC:Event Management Extension for Joomla!
X-WR-RELCALID:3E26604A-50F4-4449-8B3E-E4F4932D05B5
X-WR-TIMEZONE:Europe/Berlin
BEGIN:VTIMEZONE
TZID:Europe/Berlin
TZUNTIL:20220327T010000Z
BEGIN:STANDARD
TZNAME:CET
DTSTART:20191027T030000
TZOFFSETFROM:+0200
TZOFFSETTO:+0100
RDATE:20201025T030000
RDATE:20211031T030000
END:STANDARD
BEGIN:DAYLIGHT
TZNAME:CEST
DTSTART:20200329T020000
TZOFFSETFROM:+0100
TZOFFSETTO:+0200
RDATE:20210328T020000
END:DAYLIGHT
END:VTIMEZONE
BEGIN:VEVENT
UID:64393631-3535-4566-b361-376139323237
DTSTAMP:20260426T003958Z
CATEGORIES:Radfahren
CLASS:PUBLIC
DESCRIPTION;ALTREP="CID:<FFFF__=0ABBE548DFE235B58f9e8a93d@coffeebean.com>":
 Die Coswiger Mitglieder des Erlebnissportverbands Apricus&nbsp\;e.V. laden
  für den 30. August zu einer ca. 40 - 45&nbsp\;km langen Radwanderung nach
  Thießen und ins Rosseltal ein.\nTreffpunkt ist 10.30&nbsp\;Uhr auf dem Pa
 rkplatz des Netto-Supermarkts direkt neben dem Bahnhof Coswig&nbsp\;(Anhal
 t). Die Ankunft des Zugpaares aus Wittenberg bzw. Dessau wird abgewartet.
 \nTourenleiter Jakob Koch hat eine hübsche Strecke durch das Umland von Co
 swig vorbereitet\, die sich für Jung und Alt eignet. Erwartet werden auch 
 Mitglieder des ADFC aus Wittenberg\, denn auf der Strecke wird es auch ein
 es traurigen Anlasses zu gedenken geben. Vor einiger Zeit verunglückte zwi
 schen Luko und Düben ein Radfahrer tödlich. An dieser Stelle werden wir ei
 nen Gedenkhalt einlegen und gemeinsam mit dem ADFC-Kreisverband ein weißes
  Fahrrad aufstellen\, für das die Coswiger Apricüsse die Patenschaft übern
 ehmen werden.\nIm Anschluss radeln wir weiter nach Thießen und im dortigen
  Forellenhof gibt es die Möglichkeit\, einen Mittagsimbiss zu sich zu nehm
 en. Bis Bräsen wird die Rossel unser Begleiter sein\, ehe wir dann auf tei
 ls unbefestigten Wald- und Feldwegen wieder nach Coswig zurückkehren.\nEin
 e vorherige Anmeldung ist nicht nötig. Die Teilnahme ist für Apricus-Mitgl
 ieder und Mitglieder des ADFC&nbsp\;Wittenberg kostenlos - Nichtmitglieder
  zahlen am Start 1€ für die Sportunfallversicherung. Der Imbiss in Thießen
  muss von jedermann finanziell selbst getragen werden.\nTorsten und Jakob
DTSTART:20200830T083000Z
DTEND:20200830T160000Z
GEO:00;0
LOCATION:
ORGANIZER:
SEQUENCE:1
SUMMARY:Tagesradtour ins Rosseltal nach Thießen
TRANSP:OPAQUE
URL:https://test.apricus-ev.de/component/icagenda/tagesradtour-ins-rosselta
 l-nach-thiessen?layout=vcal
END:VEVENT
END:VCALENDAR
