BEGIN:VCALENDAR
VERSION:2.0
PRODID:-//TEST Apricus e.V.//NONSGML kigkonsult.se iCalcreator 2.41.92//
CALSCALE:GREGORIAN
METHOD:PUBLISH
UID:32613138-3062-4065-a565-636531613537
X-WR-CALNAME:iCagenda
X-WR-CALDESC:Event Management Extension for Joomla!
X-WR-RELCALID:3E26604A-50F4-4449-8B3E-E4F4932D05B5
X-WR-TIMEZONE:Europe/Berlin
BEGIN:VTIMEZONE
TZID:Europe/Berlin
TZUNTIL:20210328T010000Z
BEGIN:STANDARD
TZNAME:CET
DTSTART:20181028T030000
TZOFFSETFROM:+0200
TZOFFSETTO:+0100
RDATE:20191027T030000
RDATE:20201025T030000
END:STANDARD
BEGIN:DAYLIGHT
TZNAME:CEST
DTSTART:20190331T020000
TZOFFSETFROM:+0100
TZOFFSETTO:+0200
RDATE:20200329T020000
END:DAYLIGHT
END:VTIMEZONE
BEGIN:VEVENT
UID:64303762-3361-4239-b133-303534333137
DTSTAMP:20260425T222321Z
CATEGORIES:Wandern
CLASS:PUBLIC
DESCRIPTION;ALTREP="CID:<FFFF__=0ABBE548DFE235B58f9e8a93d@coffeebean.com>":
 Wo gibt es die höchsten Berge Thüringens? Wo ist die Saale am tiefsten? Wo
  gibt es die meisten Wölfe Europas? Wo steht die älteste Burg Deutschlands
 ? Wo wird zurzeit der erfolgreichste Frauenfußball gespielt?\nKeine Ahnung
  – in Jena jedenfalls nicht\, aber schön ist es trotzdem hier.\nSeit dem l
 etzten Wandereinsatz in und um Jena sind mittlerweile 11 Jahre vergangen. 
 Daher laden die Jenaer Apricüsse für den 18. Mai 2019 zu einer natur- und 
 kulturkundlichen Tagestour ins Mittlere Saaletal\, in die Umgebung der Sta
 dt Jena\, ein. Dabei treffen wir uns 10 Uhr am Paradiesbahnhof im Herzen J
 enas. Von da aus führt uns unsere Wanderung in die Kernberge\, die eigentl
 ich gar keine sind\, aber auf denen geheimnisvolle Rätselgeister wohnen un
 d uns die ein oder andere knifflige Aufgabe stellen. Vom eingemeindeten Dö
 rfchen Wöllnitz\, welches wir per ÖPNV erreichen\, führt uns der Weg entla
 ng des Pennickentals\, welches vom gleichnamigen Bächlein durchflossen wir
 d\, vorbei an den im Mittleren Saaletal typischen Streuobstwiesen und inte
 ressanter Geologie\, z.B. an Steinen mit denen man sich die Zähne putzen k
 ann. Nach dem Erreichen des historisch bedeutsamen Fürstenbrunnens geht es
  über die z.T. ausgesetzte Horizontale mitten durch die steilen Wände des 
 Jenaer Muschelkalks. Dabei geht es vorbei an so geheimnisvollen Plätzen wi
 e einer Diebeskrippe und einer Studentenrutsche. Auch die durch das Naturs
 chutzgroßprojekt „Orchideenregion Mittleres Saaletal“ geschützten Trocken-
  und Halbtrockenrasen werden wir passieren\, und da die Jahreszeit dafür g
 ünstig ist\, besteht durchaus die Möglichkeit\, dass wir die eine oder and
 ere Orchidee unterwegs finden\, uns an ihren Duft erquicken aber nicht pfl
 ücken. Nach einer Rast bei Kaffee und Kuchen (zeitabhängig) auf dem aussic
 htsreichen Fuchsturm wagen wir wieder den Abstieg ins Tal mit guter ÖPNV-A
 nbindung zum Bahnhof.\nFür diejenigen\, die lieber länger in Jena verbleib
 en möchten\, besteht die Möglichkeit diese Tagestour zu einem Wanderwochen
 ende ab dem 17.05. – 19.05.2019 aufzuweiten. Wir werden auf einem gut erre
 ichbaren Zeltplatz im Stadtgebiet übernachten. Vor der ersten Nacht werden
  wir jedoch auf einem abendlichen\, geführten Stadtspaziergang ab 20 Uhr d
 ie Innenstadt Jenas erkunden und dabei so manches erfahren\, was diese Sta
 dt unserer Meinung nach zu etwas Besonderem macht\, auch wenn sie kaum übe
 r Superlative verfügt. So war die heimliche Hauptstadt Thüringens nicht nu
 r Tatort mehrerer bedeutender Ereignisse früherer und jüngerer Geschichte\
 , sondern auch Wohn- und Wirkungsstätte solch bedeutender Persönlichkeiten
  wie Abbe\, Buschner\, Döberreiner\, Drechsler\, Fichte\, Grapenthin\, Gre
 be\, Griebsch\, Häckel\, Hölderlin\, Johann Friedrich I\, Fuchs\, Marx\, M
 ustafa\, Napoleon\, Novalis\, Rathenow\, Renft\, Roth\, Schiller\, Schlege
 l\, Schott\, Späth und Zeiss. Nicht zu vergessen Goethe\, welcher auch des
  Öfteren durch Jena und Umgebung stromerte.\nAm Samstag wird uns nach eine
 m zünftigen Frühstück der Weg zum Paradiesbahnhof führen\, um unsere weite
 ren Wandersfrauen&nbsp\;&amp\; -männer abzuholen. Am Nachmittag nach dem A
 bstieg ins Tal\, schlagen wir anstatt zum Bahnhof den Weg zum nahe gelegen
 en Zeltplatz ein. Dort erwartet uns eine weitere einheimische Attraktion –
  diesmal jedoch von kulinarischer Art: Thüringer Bratgut wird auf dem Rost
  zubereitet (auch an die Vegetarier wird gedacht). Bei entsprechendem Wett
 er wird es ein Lagerfeuer geben. Sonntag&shy\;vormittag starten wir zu ein
 er Wanderung auf den unweit vom Zeltplatz gelegenen Jenzig\, dem wohl schö
 nsten der Jenaer „Berge“ mit einer tollen Aussicht in das Tal.\nAnreise:\n
 Jena ist sehr gut per Bahn erreichbar. Am einfachsten ist der Weg zum Zelt
 platz vom Bahnhof Jena-Paradies. Nach 5 Fußminuten ist man im Stadtzentrum
  und fährt mit der Straßenbahn\, Linie 2\, nach Jena-Ost bis zur Haltestel
 le Jenzigweg. Hier überquert man die B 7 an der Ampel und läuft 100 m berg
 ab in Richtung Sportplatz. Vor der Gembden&shy\;bachbrücke biegt man halbl
 inks in die Strasse am Gembdenbach ein. Nach ca. 20 m steht man am Zeltpla
 tz. Wer am Bahnhof Jena–West ankommt\, fährt mit der Buslinie 15 (oder 10 
 Fußminuten) ins Stadtzentrum. Dort fährt die Straßenbahnlinie 2 wie oben b
 eschrieben. Wer ganz zu Fuß gehen möchte\, steigt am Saalbahnhof aus und f
 olgt Wiesenstraße und Jenzigweg. In Thüringen gelten sowohl das Ländertick
 et (Thür.\, Sa.-Anh\, Sachs.) als auch das Hopperticket.\nKosten:\n\nAnwär
 ter der NUR-Tagestour löhnen als Apricus-Mitglied nichts\, als Gast 1 € fü
 r die Versicherung.\nAnwärter des Wanderwochenendes löhnen abhängig von de
 n Nächten selbst auf dem Zeltplatz. Erwachsene: 8\,50 Euro\; Halbwüchsige:
  5\,50 Euro (die Preise enthalten EINE Person\, EIN Zelt &amp\; und wer ha
 t\, EIN Auto)\nDie Kosten des Bratguts teilen wir vor Ort auf.\n\nMitbring
 sel:\n\nggf. Campingkram\nauf jeden Fall gute Laune\nSelbstverpflegung - a
 ußer für Samstagabend (Einkehrmöglichkeiten nur bei Schlecht&shy\;wetter\,
  da nicht direkt am Weg)\nBadehose (der Zeltplatz liegt an einem Freibad)
 \n\nAnmeldung:\nBis zum 30.04.2019 bei Alexander Roth per Mail (coolossi84
 &lt\;@&gt\;web.de) oder per „ortsveränderlicher\, hochfrequenter Fernmelde
 einrichtung“ (0174/1730740).\nBis dann\,Alex
DTSTART:20190517T070000Z
DTEND:20190519T150000Z
GEO:00;0
LOCATION:
ORGANIZER:
SEQUENCE:1
SUMMARY:Tagestour und Wanderwochenende im Mittleren Saaletal bei Jena
TRANSP:OPAQUE
URL:https://test.apricus-ev.de/component/icagenda/tagestour-bzw-wanderwoche
 nende-im-mittleren-saaletal-bei-jena?layout=vcal
END:VEVENT
END:VCALENDAR
