BEGIN:VCALENDAR
VERSION:2.0
PRODID:-//TEST Apricus e.V.//NONSGML kigkonsult.se iCalcreator 2.41.92//
CALSCALE:GREGORIAN
METHOD:PUBLISH
UID:39333265-3761-4565-a263-646130383039
X-WR-CALNAME:iCagenda
X-WR-CALDESC:Event Management Extension for Joomla!
X-WR-RELCALID:3E26604A-50F4-4449-8B3E-E4F4932D05B5
X-WR-TIMEZONE:Europe/Berlin
BEGIN:VTIMEZONE
TZID:Europe/Berlin
TZUNTIL:20270328T010000Z
BEGIN:STANDARD
TZNAME:CET
DTSTART:20241027T030000
TZOFFSETFROM:+0200
TZOFFSETTO:+0100
RDATE:20251026T030000
RDATE:20261025T030000
END:STANDARD
BEGIN:DAYLIGHT
TZNAME:CEST
DTSTART:20250330T020000
TZOFFSETFROM:+0100
TZOFFSETTO:+0200
RDATE:20260329T020000
END:DAYLIGHT
END:VTIMEZONE
BEGIN:VEVENT
UID:32353735-3932-4661-a239-373561343634
DTSTAMP:20260425T231849Z
CATEGORIES:Wandern
CLASS:PUBLIC
DESCRIPTION;ALTREP="CID:<FFFF__=0ABBE548DFE235B58f9e8a93d@coffeebean.com>":
 Am Sonntag\, den 27.07.2025\, geht es im wald- und wasserreichen Südwesten
  von Berlin durch den Grunewald und den Havelhöhenweg entlang.\nStart ist 
 am S-Bahnof Grunewald. Von dort geht es durch das Waldgebiet Grunewald\, e
 inem der größten Waldgebiete Berlins\, zum Teufelsberg. Der Teufelsberg is
 t einem Trümmerberg\, der nach dem zweiten Weltkrieg aufgeschüttet wurde u
 nd mit 120 Metern die zweithöchste Erhebung Berlins ist. Dort kann eine eh
 emalige Abhöranlage aus dem Kalten Krieg besichtigt werden\, mit der die A
 merikaner den Luftraum überwachten. Vom Teufelsberg geht es dann zum naheg
 elegenen Teufelssee\, wo bei Interesse eine Badepause eingelegt werden kan
 n. Danach wandern wir Richtung Havel und erreichen dort den Havelhöhenweg\
 , einen Panoramaweg\, der zu den schönsten Wanderwegen Berlins gehört und 
 unterwegs immer wieder Ausblicke auf die Havel bietet. Auch hier gibt es d
 ie Möglichkeit unterwegs an einer der Badestellen an der Havel zu baden. U
 ntwegs kann auch der Grunewaldturm bestiegen werden\, einem Ehrenmal für K
 aiser Wilhelm I\, der 1899 errichtet wurde und eine gute Aussicht auf die 
 Umgebung bietet. Danach geht es weiter auf dem Havelhöhenweg bis zum Zielp
 unkt\, dem S-Bahnhof Nikolassee.\nTreffpunkt: kurz nach 9:30&nbsp\;Uhr am 
 S-Bahnhof Grunewald\nAnreise: mit der S-Bahn S7 bis zum S-Bahnof Grunewald
 \nRückfahrt: alle 10 min. vom S-Bahnhof Nikolassee (S-Bahn S7 oder S1)\n\n
 Die Strecke ist etwa 18&nbsp\;km lang.\nBitte Verpflegung mitbringen\, ein
  Gaststättenbesuch ist nicht geplant.\nGäste zahlen wie immer einen Versic
 herungsbeitrag von 1&nbsp\;€.\n\nAnmeldung bitte bis 25.07.2025 unter mark
 us.grabolle@gmail.com oder 01577-9414660\nBis dahin\,Markus
DTSTART:20250727T073000Z
DTEND:20250727T160000Z
GEO:00;0
LOCATION:
ORGANIZER:
SEQUENCE:1
SUMMARY:Wandern im Südwesten Berlins
TRANSP:OPAQUE
URL:https://test.apricus-ev.de/component/icagenda/tageswanderung-im-raum-be
 rlin?layout=vcal
END:VEVENT
END:VCALENDAR
