BEGIN:VCALENDAR
VERSION:2.0
PRODID:-//TEST Apricus e.V.//NONSGML kigkonsult.se iCalcreator 2.41.92//
CALSCALE:GREGORIAN
METHOD:PUBLISH
UID:63356633-3134-4135-b831-666332386336
X-WR-CALNAME:iCagenda
X-WR-CALDESC:Event Management Extension for Joomla!
X-WR-RELCALID:3E26604A-50F4-4449-8B3E-E4F4932D05B5
X-WR-TIMEZONE:Europe/Berlin
BEGIN:VTIMEZONE
TZID:Europe/Berlin
TZUNTIL:20210328T010000Z
BEGIN:STANDARD
TZNAME:CET
DTSTART:20181028T030000
TZOFFSETFROM:+0200
TZOFFSETTO:+0100
RDATE:20191027T030000
RDATE:20201025T030000
END:STANDARD
BEGIN:DAYLIGHT
TZNAME:CEST
DTSTART:20190331T020000
TZOFFSETFROM:+0100
TZOFFSETTO:+0200
RDATE:20200329T020000
END:DAYLIGHT
END:VTIMEZONE
BEGIN:VEVENT
UID:31613062-3833-4335-b137-353835356565
DTSTAMP:20260425T213427Z
CATEGORIES:Laufen
CLASS:PUBLIC
DESCRIPTION;ALTREP="CID:<FFFF__=0ABBE548DFE235B58f9e8a93d@coffeebean.com>":
 \nInformation vom 4.6.:\nLeider fällt aus organisatorischen Gründen die ge
 plante Teilnahme an der AOK-Teamstaffel in der Stadt Branden­burg\nin dies
 em Jahr aus.
DTSTART:20190606T140000Z
DTEND:20190606T180000Z
GEO:00;0
LOCATION:
ORGANIZER:
SEQUENCE:1
SUMMARY:Teamstaffel Brandenburg
TRANSP:OPAQUE
URL:https://test.apricus-ev.de/component/icagenda/teamstaffel-brandenburg?l
 ayout=vcal
END:VEVENT
END:VCALENDAR
