BEGIN:VCALENDAR
VERSION:2.0
PRODID:-//TEST Apricus e.V.//NONSGML kigkonsult.se iCalcreator 2.41.92//
CALSCALE:GREGORIAN
METHOD:PUBLISH
UID:62386362-3163-4630-b634-393333663231
X-WR-CALNAME:iCagenda
X-WR-CALDESC:Event Management Extension for Joomla!
X-WR-RELCALID:3E26604A-50F4-4449-8B3E-E4F4932D05B5
X-WR-TIMEZONE:Europe/Berlin
BEGIN:VTIMEZONE
TZID:Europe/Berlin
TZUNTIL:20211031T010000Z
BEGIN:STANDARD
TZNAME:CET
DTSTART:20191027T030000
TZOFFSETFROM:+0200
TZOFFSETTO:+0100
RDATE:20201025T030000
END:STANDARD
BEGIN:DAYLIGHT
TZNAME:CEST
DTSTART:20190331T020000
TZOFFSETFROM:+0100
TZOFFSETTO:+0200
RDATE:20200329T020000
RDATE:20210328T020000
END:DAYLIGHT
END:VTIMEZONE
BEGIN:VEVENT
UID:32343233-3638-4663-b062-313863393564
DTSTAMP:20260426T003930Z
CATEGORIES:Laufen
CLASS:PUBLIC
DESCRIPTION;ALTREP="CID:<FFFF__=0ABBE548DFE235B58f9e8a93d@coffeebean.com>":
 Hallo zusammen\, mal (wieder) was ganz anderes:\nDer Verein „Leipziger Tri
 athlon e.V.“ veranstaltet seit Mitte der 90er zweimal jährlich den „Fockeb
 erglauf“. (s.a. Homepage des Veranstalters)\nDer Start ist am Fuße des 153
 &nbsp\;m hohen ehemaligen Schuttberges. Es geht zuerst einen Waldweg berga
 uf\, dabei sind auf ca. einem Kilometer 45 Höhenmeter zu überwinden. Nach 
 einer kleinen Runde auf der Dammkrone des Fockeberg-Plateaus geht es wiede
 r auf Asphalt einen Kilometer bergab. Die ganze Runde ist zwei Kilometer l
 ang. Drei dieser Runden sind beim Fitnesslauf und sechs sind beim Hauptlau
 f zu absolvieren.\nIn der ersten Runde gibt es einen Bergpreis - wer in de
 r ersten Runde die Bergankunft gewinnt\, bekommt den Sonderpreis. Bedingun
 g ist jedoch\, den Lauf zu finishen!\nUm den Winterpelz endgültig abzuschü
 tteln und die müden Beine wach zu bekommen\, nehmen wir diese kleine Herau
 sforderung an und erobern 6-mal (oder „nur“ 3-mal) den Hammer-Berg! ?\nOrg
 anisatorisches\n\nStart ist 10:00&nbsp\;Uhr am Fuße des Berges.\nDie Anmel
 dung erfolgt bis spätestens 09:40&nbsp\;Uhr vor Ort.\nStartpreis sind 10&n
 bsp\;€.\n\nWer von außerhalb kommt und eine Übernachtung vorher benötigt\,
  kann sich gern bei mir per Mai unter mkraus70&lt\;@&gt\;yahoo.de oder tel
 efonisch unter 0176-31330108 melden und einquartieren. (Von mir aus ist de
 r Berg 4&nbsp\;km entfernt und mit dem Bus um 08:40&nbsp\;Uhr oder per Rad
  erreichbar.)\nAlso dann: Der Berg ruft!\nEs grüßt und freut sichDer Micha
DTSTART:20200307T080000Z
DTEND:20200307T150000Z
GEO:00;0
LOCATION:
ORGANIZER:
SEQUENCE:1
SUMMARY:Teilnahme am 58. Fockeberglauf in Leipzig
TRANSP:OPAQUE
URL:https://test.apricus-ev.de/component/icagenda/teilnahme-am-58-fockeberg
 lauf?layout=vcal
END:VEVENT
END:VCALENDAR
