BEGIN:VCALENDAR
VERSION:2.0
PRODID:-//TEST Apricus e.V.//NONSGML kigkonsult.se iCalcreator 2.41.92//
CALSCALE:GREGORIAN
METHOD:PUBLISH
UID:35303733-6532-4866-b431-623239353330
X-WR-CALNAME:iCagenda
X-WR-CALDESC:Event Management Extension for Joomla!
X-WR-RELCALID:3E26604A-50F4-4449-8B3E-E4F4932D05B5
X-WR-TIMEZONE:Europe/Berlin
BEGIN:VTIMEZONE
TZID:Europe/Berlin
TZUNTIL:20220327T010000Z
BEGIN:STANDARD
TZNAME:CET
DTSTART:20191027T030000
TZOFFSETFROM:+0200
TZOFFSETTO:+0100
RDATE:20201025T030000
RDATE:20211031T030000
END:STANDARD
BEGIN:DAYLIGHT
TZNAME:CEST
DTSTART:20200329T020000
TZOFFSETFROM:+0100
TZOFFSETTO:+0200
RDATE:20210328T020000
END:DAYLIGHT
END:VTIMEZONE
BEGIN:VEVENT
UID:35313939-3936-4230-a533-336137646161
DTSTAMP:20260425T232434Z
CATEGORIES:Radfahren
CLASS:PUBLIC
DESCRIPTION;ALTREP="CID:<FFFF__=0ABBE548DFE235B58f9e8a93d@coffeebean.com>":
 Anstelle der inzwischen schon traditionellen Sternfahrt hat sich der ADFC 
 Berlin&nbsp\; eine coronagerechte Alternative ausgedacht: den Fahrradstern
  – ein großer Stern\, gebildet von Radfahrerinnen und Radfahrern. Und obwo
 hl das jetzt etwas zu kurzfristig kam\, um noch eine Art Fahrradanreise mi
 t Apricus dorthin zu organisieren*\, wäre es super\, wenn wir als Verein\,
  bei dem Radfahren eine wichtige Rolle spielt\, dort auch präsent sind. Es
  geht um unsere Belange - sowohl als Verkehrsteilnehmer auf dem Rad - als 
 auch einfach als Menschen\, denen Natur und Umwelt am Herzen liegen.\nAlle
  Details zur Teilnahme erfahrt ihr auf der Homepage des ADFC Berlin unter 
 https://adfc-berlin.de/aktiv-werden/bei-demonstrationen/811-sternfahrt-202
 0.html (dort könnt ihr euch auch euren Platz buchen). Um einen kleinen Übe
 rblick zu haben\, wieviele Erlebnissportbegeisterte teilnehmen werden und 
 sich vielleicht zuwinken zu können\, würde ich mich freuen\, wenn ihr euch
  zusätzlich bei mir (Marianne) per Mail unter&nbsp\;MarianneA&lt\;at&gt\;a
 pricus-ev.de meldet.\nMarianne und Frank\n*) Wer will\, kann natürlich die
  Runde zu ihrem bzw. seinem Aufstellplatz etwas ausdehnen und eine 'ordent
 liche' Radtour daraus machen. \;)
DTSTART:20200607T120000Z
DTEND:20200607T130000Z
GEO:00;0
LOCATION:
ORGANIZER:
SEQUENCE:1
SUMMARY:Teilnahme am Fahrradstern
TRANSP:OPAQUE
URL:https://test.apricus-ev.de/component/icagenda/teilnahme-am-fahrradstern
 ?layout=vcal
END:VEVENT
END:VCALENDAR
