BEGIN:VCALENDAR
VERSION:2.0
PRODID:-//TEST Apricus e.V.//NONSGML kigkonsult.se iCalcreator 2.41.92//
CALSCALE:GREGORIAN
METHOD:PUBLISH
UID:34373231-3139-4930-b763-633734636161
X-WR-CALNAME:iCagenda
X-WR-CALDESC:Event Management Extension for Joomla!
X-WR-RELCALID:3E26604A-50F4-4449-8B3E-E4F4932D05B5
X-WR-TIMEZONE:Europe/Berlin
BEGIN:VTIMEZONE
TZID:Europe/Berlin
TZUNTIL:20271031T010000Z
BEGIN:STANDARD
TZNAME:CET
DTSTART:20251026T030000
TZOFFSETFROM:+0200
TZOFFSETTO:+0100
RDATE:20261025T030000
END:STANDARD
BEGIN:DAYLIGHT
TZNAME:CEST
DTSTART:20250330T020000
TZOFFSETFROM:+0100
TZOFFSETTO:+0200
RDATE:20260329T020000
RDATE:20270328T020000
END:DAYLIGHT
END:VTIMEZONE
BEGIN:VEVENT
UID:30616664-3161-4462-b062-353732303937
DTSTAMP:20260425T231850Z
CATEGORIES:Wandern
CLASS:PUBLIC
DESCRIPTION;ALTREP="CID:<FFFF__=0ABBE548DFE235B58f9e8a93d@coffeebean.com>":
 Berlin ruft am 01.11.2025 zum Saisonabschluss der Mammutherde\nNachdem ein
 ige Apricüsse in 2025 den Saisonauftakt in Leipzig und den Nachtmammutmars
 ch in Hamburg gerockt haben\, rufen wir euch am 01.11.2025 an die Startlin
 ie in Berlin.\nStart- und Zielort:&nbsp\;Zentraler Festplatz Berlin\, Kurt
 -Schumacher-Damm&nbsp\;207\, 13405 Berlin\n30&nbsp\;km sportliches Wandern
  mit viel Spaß und vielen tausend weiteren Wanderfreunden aus ganz Deutsch
 land und Europa - entdecken wir als Apricus- Gruppe gemeinsam das grüne Be
 rlin und viele Sehenswürdigkeiten der Stadt. (Wem 30&nbsp\;km zu wenig sin
 d\, der/die kann auch gern die 42- oder 55-km-Strecke angehen.)\nBitte mel
 det euch direkt an: https://mammutmarsch.de/50-km-marsch/berlin/ (dort dan
 n weiter unten '30&nbsp\;km' wählen). Anmeldegebühr des Veranstalters: 59\
 ,90€ (nur Teilnahme).\nThomas und Andreas werden Freitag anreisen und bis 
 Sonntag in Berlin bleiben. Wer ebenfalls eine Übernachtung braucht\, wende
 t sich an uns.\nNach eurer Anmeldung bitte kurze Info (s.u.)\, damit wir g
 emeinsam planen können.\nSportliche Grüße bis zum 1. NovemberAndreas P.\nA
 ndreas.protze@yahoo.de0157-34043847
DTSTART:20251101T060000Z
DTEND:20251101T190000Z
GEO:00;0
LOCATION:
ORGANIZER:
SEQUENCE:1
SUMMARY:Teilnahme am Mammutmarsch Berlin
TRANSP:OPAQUE
URL:https://test.apricus-ev.de/component/icagenda/teilnahme-am-mammutmarsch
 -berlin?layout=vcal
END:VEVENT
END:VCALENDAR
