BEGIN:VCALENDAR
VERSION:2.0
PRODID:-//TEST Apricus e.V.//NONSGML kigkonsult.se iCalcreator 2.41.92//
CALSCALE:GREGORIAN
METHOD:PUBLISH
UID:66393731-6165-4334-a132-323436373239
X-WR-CALNAME:iCagenda
X-WR-CALDESC:Event Management Extension for Joomla!
X-WR-RELCALID:3E26604A-50F4-4449-8B3E-E4F4932D05B5
X-WR-TIMEZONE:Europe/Berlin
BEGIN:VTIMEZONE
TZID:Europe/Berlin
TZUNTIL:20221030T010000Z
BEGIN:STANDARD
TZNAME:CET
DTSTART:20191027T030000
TZOFFSETFROM:+0200
TZOFFSETTO:+0100
RDATE:20201025T030000
RDATE:20211031T030000
END:STANDARD
BEGIN:DAYLIGHT
TZNAME:CEST
DTSTART:20200329T020000
TZOFFSETFROM:+0100
TZOFFSETTO:+0200
RDATE:20210328T020000
RDATE:20220327T020000
END:DAYLIGHT
END:VTIMEZONE
BEGIN:VEVENT
UID:38303536-3132-4937-b037-633863616139
DTSTAMP:20260426T004342Z
CATEGORIES:Radfahren
CLASS:PUBLIC
DESCRIPTION;ALTREP="CID:<FFFF__=0ABBE548DFE235B58f9e8a93d@coffeebean.com>":
 Zustiegsmöglichkeit: 11:30 Uhr&nbsp\;am Bahnhof Jeber-Bergfrieden (der dan
 n ankommende Zug wird noch abgewartet)\nTourbeschreibung\nAuf unserer Tour
  werden wir über das malerische Fleckchen Golmen&shy\;glin nach Reuden&nbs
 p\;/ Anhalt radeln. Reuden ist der nördlichste Ort\, der den Zusatz Anhalt
  im Namen führt. Der ursprünglich geplante Besuch des Heimatmuseums wird l
 eider entfallen (s.u.). Wir fahren also weiter auf malerischen Wald&shy\;w
 egen durch herbstliche Wälder\, ehe wir nahe der Wüstung Schleesen mit sei
 ner Kirchenruine mal ein paar Kilometer Straße haben werden. Aber schon in
  Stackelitz heißt es wieder „Sand!“\, ehe wir über Weiden nach Bräsen komm
 en.\nDort findet an jenem Nachmittag / Abend zum bundesweiten Astronomieta
 g die „Lange Nacht der Planeten statt“ (https://astronomietag.de/). Am Gri
 ll werden wir uns stärken können und Wissenswertes über die Sternwarte Brä
 sen und dem dazugehörigen Verein erfahren. Ehe es dunkel wird\, wollen wir
  aber auch durch das südlich von Bräsen gelegene Waldstück geradelt sein u
 nd kurz vor Düben die Straße wieder erreicht haben. Wer nach Jeber-Bergfri
 eden zurück muss\, radelt die letzten 5&nbsp\;Kilometer von Bräsen selbstä
 ndig.\n\nLänge der Radtour: ca. 52 bis 55 km ab&nbsp\;/ bis Coswig&nbsp\;/
  Anhalt\,ca. 25 bis 30 km ab / bis Jeber-Bergfrieden.\nNichtmitglieder von
  Apricus zahlen 1 € und sind dafür dann ebenso wie die Mitglieder von Apri
 cus sportunfallversichert.\n\nAnmeldung beim Naturpark Fläming Sachsen-Anh
 alt bei Annekatrin Els (annekatrin.els@naturpark-flaeming.de bzw. 034903 /
 &nbsp\;595600). Nähere Auskünfte auch bei Torsten Hammer (thapricus@aol.co
 m bzw. 034903 / 189761) möglich.\n\nHinweis vom&nbsp\;19.10..:\nEs gab kle
 inere Änderungen im Programm (Wegfall des Heimatmuseumsbesuchs\, dafür ste
 ht der Sternwartenbesuch jetzt fest und ist ausgedehnter). Die dort geplan
 te Stärkung vom Grill - anstelle von Kaffee und Kuchen im Museum - zahlt d
 ann auch jeder selbst vor Ort\, weswegen kein zusätzlicher Teilnahmebeitra
 g mehr anfällt\, die Teilnehmerzahl nicht begrenzt ist und die Anmeldung l
 ockerer gehandhabt werden kann. Zudem wurde die Angabe zum Treffpunkt präz
 isiert.\n\nDie Veranstaltung wird über das Projekt „Kultur mobil: Natur tr
 ifft Kunst und Kultur in der Stadt Coswig / Anhalt“ gefördert.\nDort finde
 t an jenem Nachmittag / Abend zum Bundesweiten Astronomietag die „Lange Na
 cht der Planeten statt“ (https://astronomietag.de/). Am Grill werden wir u
 ns stärken können und Wissenswertes über die Sternwarte Bräsen und dem daz
 ugehörigen Verein erfahren. Bevor es dunkel wird machen wir uns über Düben
  wieder auf den Heimweg um dann den Kreis in Coswig wieder zu schließen.Es
  gibt eine weitere Zustiegsmöglichkeit in Jeber-Bergfrieden um 11.30 Uhr. 
 Wer nach Jeber-Bergfrieden zurück muss\, radelt ab Bräsen dorthin selbstst
 ändig zurück. Die Länge der Radtour ist 52 – 55 km ab / bis Coswig (Anhalt
 ) und ca. 25 – 30 km ab / bis Jeber-Bergfrieden.
DTSTART:20201024T080000Z
DTEND:20201024T170000Z
GEO:00;0
LOCATION:
ORGANIZER:
SEQUENCE:1
SUMMARY:Teilnahme an der Radtour nach Reuden / Anhalt
TRANSP:OPAQUE
URL:https://test.apricus-ev.de/component/icagenda/teilnahme-radtour-nach-re
 uden-anhalt?layout=vcal
END:VEVENT
END:VCALENDAR
