BEGIN:VCALENDAR
VERSION:2.0
PRODID:-//TEST Apricus e.V.//NONSGML kigkonsult.se iCalcreator 2.41.92//
CALSCALE:GREGORIAN
METHOD:PUBLISH
UID:38666536-6332-4836-a161-626431396561
X-WR-CALNAME:iCagenda
X-WR-CALDESC:Event Management Extension for Joomla!
X-WR-RELCALID:3E26604A-50F4-4449-8B3E-E4F4932D05B5
X-WR-TIMEZONE:Europe/Berlin
BEGIN:VTIMEZONE
TZID:Europe/Berlin
TZUNTIL:20251026T010000Z
BEGIN:STANDARD
TZNAME:CET
DTSTART:20221030T030000
TZOFFSETFROM:+0200
TZOFFSETTO:+0100
RDATE:20231029T030000
RDATE:20241027T030000
END:STANDARD
BEGIN:DAYLIGHT
TZNAME:CEST
DTSTART:20230326T020000
TZOFFSETFROM:+0100
TZOFFSETTO:+0200
RDATE:20240331T020000
RDATE:20250330T020000
END:DAYLIGHT
END:VTIMEZONE
BEGIN:VEVENT
UID:65613635-3333-4430-b031-396664623966
DTSTAMP:20260425T232434Z
CATEGORIES:Radfahren
CLASS:PUBLIC
DESCRIPTION;ALTREP="CID:<FFFF__=0ABBE548DFE235B58f9e8a93d@coffeebean.com>":
 Auch 2023 organisiert Olaf Ludwig wieder die Tour d’Allee von Stralsund üb
 er die neue Rügenbrücke nach Sellin. Mit prominenten Sportlern - Axel Schu
 lz (Boxen)\, Wolfgang Hoppe (Bob) - kann man während der Fahrt auf der 50 
 km langen Strecke zwanglos plaudern.\nAlternativ laden wir zu einer Radtou
 r „Rund um Stralsund“ ein.\nTreffpunkt ist am Freitag\, den 20.10.23 die J
 ugendherberge Stralsund Devin.\nSamstag\nTour-d‘Allee-Brückenfahrt: Nach e
 inem zeitigen Frühstück fahren wir zum Start am Störtebeker Brauquartier. 
 Ab 9&nbsp\;Uhr setzt sich der Tross in Richtung Strelasundbrücke – Altefäh
 r - Garz – Putbus – Zirkow (Zwischenrast mit Getränke und Snacks) - Sellin
  in Bewegung. Die durchschnittliche Geschwindigkeit lag in den letzten Jah
 ren zwischen 15 und 20&nbsp\;km/h. Am Zielpunkt in Sellin werden die Ankom
 menden über Lautsprecher begrüßt\, auf einer Bühne sind dann noch Intervie
 ws mit den Promis zu erwarten. Nach einer Pause in Sellin fahren wir dann 
 nach Binz (ca. 8&nbsp\;km) und von dort mit der Bahn zurück nach Stralsund
  (nicht im Teilnehmerpreis enthalten).(Gesamtstrecke ca.&nbsp\;65 km)\nRun
 d um Stralsund: Da einige von euch die Brückenfahrt schon kennen\, bieten 
 wir dieses Jahr noch eine zweite Tour „Rund um Stralsund“ an. Nach dem Frü
 hstück fahren wir durch das Ökodorf Krummenhagen\, am Borgwallsee vorbei n
 ach Pütte (Kirche) und weiter bis Prohn (Mittag). Danach geht es immer am 
 Strelasund entlang zur Herberge zurück.(Gesamtstrecke ca.&nbsp\;55 km)\nSo
 nntag\nAn diesem Tag besteht die Möglichkeit\, Stralsund zu erkunden oder 
 eine Wanderung mit Jörg in die nähere Umgebung (z.B. Naturschutzgebiet Hal
 binsel DevinNaturschutzgebiet Halbinsel Devin oder Naturschutzgebiet Kormo
 rankolonie bei NiederhofNaturschutzgebiet Kormorankolonie bei Niederhof) z
 u machen.\nKosten:\n\n* Nachweis beim Organisator vorlegen.** Die Preise f
 ür Kinder und Jugendliche bis 26 Jahre sind durch den Verein gestützt/redu
 ziert.\n  \n\n\n\n\n\nTN-Gruppe\nApricus\nGäste\n\n\n\n\nErwachsene\n\n115
 \n125\n\n\nBürgergeld-Empfänger&nbsp\;/ Studenten ab 27 J. *\n\n85\n95\n\n
 \nJugendliche 14 bis 26 J. **\n\n80\n90\n\n\nKinder bis 13 J. ** in Beglei
 tung eines Erwachsenen\n\n80\n84\n\n\n\nEnthalten sind:\n\ndie Übernachtun
 gen mit Frühstück\,\nein Abendessen in der Jugendherberge am Samstag\nOrga
 nisation\nBettwäsche\n\nAnmeldeschluss: 05.10.2023 unter Angabe der gewüns
 chten Tour am Samstag\nAnmeldung bei:Jörg Schulze\nTel: 038352-669975E-Mai
 l: joerg-schulze@mailbox.org\n\nDie Anmeldung gilt nur bei gleichzeitiger 
 Einzahlung der Teilnahmegebühr auf das {loadmoduleid 114}\nMit sportlichem
  Gruß\,Jörg und Diana Schulze
DTSTART:20231020T160000Z
DTEND:20231022T150000Z
GEO:00;0
LOCATION:Rügen
ORGANIZER:
SEQUENCE:1
SUMMARY:Tour-d’Allee-Brückenfahrt oder 'Rund um Stralsund'
TRANSP:OPAQUE
URL:https://test.apricus-ev.de/component/icagenda/tour-d-allee-brueckenfahr
 t-2?layout=vcal
END:VEVENT
END:VCALENDAR
