BEGIN:VCALENDAR
VERSION:2.0
PRODID:-//TEST Apricus e.V.//NONSGML kigkonsult.se iCalcreator 2.41.92//
CALSCALE:GREGORIAN
METHOD:PUBLISH
UID:64346661-3431-4065-a339-326136616131
X-WR-CALNAME:iCagenda
X-WR-CALDESC:Event Management Extension for Joomla!
X-WR-RELCALID:3E26604A-50F4-4449-8B3E-E4F4932D05B5
X-WR-TIMEZONE:Europe/Berlin
BEGIN:VTIMEZONE
TZID:Europe/Berlin
TZUNTIL:20241027T010000Z
BEGIN:STANDARD
TZNAME:CET
DTSTART:20211031T030000
TZOFFSETFROM:+0200
TZOFFSETTO:+0100
RDATE:20221030T030000
RDATE:20231029T030000
END:STANDARD
BEGIN:DAYLIGHT
TZNAME:CEST
DTSTART:20220327T020000
TZOFFSETFROM:+0100
TZOFFSETTO:+0200
RDATE:20230326T020000
RDATE:20240331T020000
END:DAYLIGHT
END:VTIMEZONE
BEGIN:VEVENT
UID:66343539-3736-4930-b165-653765343430
DTSTAMP:20260425T215226Z
CATEGORIES:Radfahren
CLASS:PUBLIC
DESCRIPTION;ALTREP="CID:<FFFF__=0ABBE548DFE235B58f9e8a93d@coffeebean.com>":
 Radfahren mit Prominenten und Rügenrundfahrt\nAuch in diesem Jahr findet w
 ieder die Tour-d’Allee-Brückenfahrt von Stralsund nach Sellin statt. Olaf 
 Ludwig wird erneut prominente Sportler eingeladen haben\, mit denen man au
 f der 50&nbsp\;km langen Strecke zwanglos plaudern kann. Eine Pause ist in
  Zirkow eingeplant.\nTreffpunkt für die Apricus-Veranstaltung dazu ist am 
 Freitag\, den 21.10.22\, die JH Stralsund-Devin.\nSamstag werden wir zeiti
 g frühstücken und anschließend zum Start der Brückenfahrt am Störtebeker B
 rauquartier fahren. Ab 9&nbsp\;Uhr setzt sich der Tross in Richtung Strela
 sundbrücke – Altefähr – Garz – Putbus – Zirkow – Sellin in Bewegung. Die d
 urchschnittliche Geschwindigkeit liegt zwischen 15&nbsp\;und 20&nbsp\;km/h
 . Am Zielpunkt werden die Ankommenden über Lautsprecher begrüßt\, auf eine
 r Bühne sind dann noch Interviews mit den Promis zu erwarten\, und es gibt
  Bratwurststände u.ä.. Wir fahren dann noch etwa 10&nbsp\;km zur nächsten 
 Übernachtung in die JH nach Binz.\nSonntag machen wir eine kleine Inselerk
 undung über ca. 50&nbsp\;km auf Radwegen. Ziel ist Lietzow. Von dort fahre
 n in zweistündigem Rhythmus Regionalzüge über Stralsund - dort umsteigen -
  Richtung Berlin.\nKosten\n*) Nachweis beim Organisator vorlegen. \n\n\n\n
 \n\nTN-Gruppe\nApricus\nGäste\n\n\n\n\nErwachsene\n\n110\n120\n\n\nHartzIV
 -Empfänger&nbsp\;/ Studenten ab 27&nbsp\;J.*\n\n80\n90\n\n\nKinder und Jug
 endliche bis 26&nbsp\;J.**\n\n80\n84\n\n\n\nEnthalten sind:\n\ndie Übernac
 htungen mit Frühstück\,\nein Abendessen in der Jugendherberge am Samstag\n
 Startgeld für die Teilnahme an der Tour-d’Allee-Brückenfahrt von Stralsund
  nach Sellin\nOrganisation\nBettwäsche\n\nAnmeldung\n...bei Jörg Schulze (
 Tel: 038352-669975\, E-Mail: joerg-schulze@mailbox.org)\nAnmeldeschluss\n
 \nkurzfristig mit gesicherter Übernachtung bis 25.&nbsp\;September 2022\ns
 pätere Anmeldung nur bei freien Plätzen in den Jugendherbergen möglich\nma
 ximale Anzahl Teilnehmer: 12\n\nDie Anmeldung gilt nur bei gleichzeitiger 
 Einzahlung der Teilnahmegebühr auf das{loadposition ap-kontodaten}.\nMit s
 portlichem GrußJörg Schulze\n\n&nbsp\;\nHinweise zur Verwendung von Fotos 
 etc.voni Apricus-Veranstaltungen findet Ihr in unserer Datenschutzerklärun
 g\, Abschnitt 'Datenschutz bei Teilnahme / Fotos\, Videos\, Berichte zur A
 ußendarstellung'.
DTSTART:20221021T160000Z
DTEND:20221023T150000Z
GEO:00;0
LOCATION:
ORGANIZER:
SEQUENCE:1
SUMMARY:Tour-d'Allee-Brückenfahrt
TRANSP:OPAQUE
URL:https://test.apricus-ev.de/component/icagenda/tour-d-allee-brueckenfahr
 t?layout=vcal
END:VEVENT
END:VCALENDAR
