BEGIN:VCALENDAR
VERSION:2.0
PRODID:-//TEST Apricus e.V.//NONSGML kigkonsult.se iCalcreator 2.41.92//
CALSCALE:GREGORIAN
METHOD:PUBLISH
UID:32643832-6339-4234-a330-343934326133
X-WR-CALNAME:iCagenda
X-WR-CALDESC:Event Management Extension for Joomla!
X-WR-RELCALID:3E26604A-50F4-4449-8B3E-E4F4932D05B5
X-WR-TIMEZONE:Europe/Berlin
BEGIN:VTIMEZONE
TZID:Europe/Berlin
TZUNTIL:20221030T010000Z
BEGIN:STANDARD
TZNAME:CET
DTSTART:20191027T030000
TZOFFSETFROM:+0200
TZOFFSETTO:+0100
RDATE:20201025T030000
RDATE:20211031T030000
END:STANDARD
BEGIN:DAYLIGHT
TZNAME:CEST
DTSTART:20200329T020000
TZOFFSETFROM:+0100
TZOFFSETTO:+0200
RDATE:20210328T020000
RDATE:20220327T020000
END:DAYLIGHT
END:VTIMEZONE
BEGIN:VEVENT
UID:37316633-3163-4631-a461-646662373264
DTSTAMP:20260425T215708Z
CATEGORIES:Absage bzw. Verschiebung
CLASS:PUBLIC
DESCRIPTION;ALTREP="CID:<FFFF__=0ABBE548DFE235B58f9e8a93d@coffeebean.com>":
 Aufgrund der aktuellen Situation haben wir uns entschieden\, bei der diesj
 hrigen Tour-d'Allee-Brückenfahrt nicht teilzunehmen. Sie findet zwar statt
 \, verläuft aber durch die Absage des Rügenbrückenmarathons nur über den a
 lten Rügendamm zur Insel\, sodass es schon eine Attraktion weniger gibt. Z
 usätzlich ist noch unklar\, wer von den Prominenten mitfährt.\nWir hoffen 
 2021 auf bessere Bedingungen.\nJörg
DTSTART:20201016T160000Z
DTEND:20201018T160000Z
GEO:00;0
LOCATION:
ORGANIZER:
SEQUENCE:1
SUMMARY:Teilnahme an der Tour d'Allee\, Rügen
TRANSP:OPAQUE
URL:https://test.apricus-ev.de/component/icagenda/tour-d-allee-ruegen?layou
 t=vcal
END:VEVENT
END:VCALENDAR
