BEGIN:VCALENDAR
VERSION:2.0
PRODID:-//TEST Apricus e.V.//NONSGML kigkonsult.se iCalcreator 2.41.92//
CALSCALE:GREGORIAN
METHOD:PUBLISH
UID:36323463-6265-4830-b833-376663396163
X-WR-CALNAME:iCagenda
X-WR-CALDESC:Event Management Extension for Joomla!
X-WR-RELCALID:3E26604A-50F4-4449-8B3E-E4F4932D05B5
X-WR-TIMEZONE:Europe/Berlin
BEGIN:VTIMEZONE
TZID:Europe/Berlin
TZUNTIL:20270328T010000Z
BEGIN:STANDARD
TZNAME:CET
DTSTART:20241027T030000
TZOFFSETFROM:+0200
TZOFFSETTO:+0100
RDATE:20251026T030000
RDATE:20261025T030000
END:STANDARD
BEGIN:DAYLIGHT
TZNAME:CEST
DTSTART:20250330T020000
TZOFFSETFROM:+0100
TZOFFSETTO:+0200
RDATE:20260329T020000
END:DAYLIGHT
END:VTIMEZONE
BEGIN:VEVENT
UID:37633139-3430-4730-b538-616262303933
DTSTAMP:20260425T214126Z
CATEGORIES:Radfahren
CLASS:PUBLIC
DESCRIPTION;ALTREP="CID:<FFFF__=0ABBE548DFE235B58f9e8a93d@coffeebean.com>":
 Pack dein Rad ein! Unsere Tour startet um 10:45&nbsp\;Uhr am Südbahnhof De
 ssau-Roßlau. Von dort aus radeln wir nach Raguhn und zurück\, bevor wir ei
 ne schöne Runde um Dessau drehen. Wir planen etwa 60 km\, können die Strec
 ke aber flexibel anpassen. Für die nötige Stärkung unterwegs kehren wir in
  der gemütlichen Jägerklause in Heideburg ein\nDer Bahnhof Roßlau (Elbe) i
 st gut angebunden. Hier verkehren die S-Bahn-Linien S2 und S8 in der Regel
  im 30-Minuten-Takt - sowie die RB aus Wittenberg\, sodass die An- und Abr
 eise bequem mit öffentlichen Verkehrsmitteln erfolgen kann. Der RE7 aus Be
 rlin fährt derzeit leider nicht durch\, evtl. geht es über Wittenberg.\nAn
 meldung bei Felix: Felher@outlook.de oder unter 01522 426510 .\nTeilnahme 
 für Apricus-Mitglieder kostenlos\, Gäste zahlen wie immer 1€ für die Sport
 versicherung.\nWir freuen uns auf eine tolle Tour mit euch!Felix und Jakob
DTSTART:20250817T084500Z
DTEND:20250817T160000Z
GEO:00;0
LOCATION:
ORGANIZER:
SEQUENCE:1
SUMMARY:Tour de Dessau
TRANSP:OPAQUE
URL:https://test.apricus-ev.de/component/icagenda/tour-de-dessau?layout=vca
 l
END:VEVENT
END:VCALENDAR
