BEGIN:VCALENDAR
VERSION:2.0
PRODID:-//TEST Apricus e.V.//NONSGML kigkonsult.se iCalcreator 2.41.92//
CALSCALE:GREGORIAN
METHOD:PUBLISH
UID:63656133-6339-4638-b965-633731336361
X-WR-CALNAME:iCagenda
X-WR-CALDESC:Event Management Extension for Joomla!
X-WR-RELCALID:3E26604A-50F4-4449-8B3E-E4F4932D05B5
X-WR-TIMEZONE:Europe/Berlin
BEGIN:VTIMEZONE
TZID:Europe/Berlin
TZUNTIL:20270328T010000Z
BEGIN:STANDARD
TZNAME:CET
DTSTART:20241027T030000
TZOFFSETFROM:+0200
TZOFFSETTO:+0100
RDATE:20251026T030000
RDATE:20261025T030000
END:STANDARD
BEGIN:DAYLIGHT
TZNAME:CEST
DTSTART:20250330T020000
TZOFFSETFROM:+0100
TZOFFSETTO:+0200
RDATE:20260329T020000
END:DAYLIGHT
END:VTIMEZONE
BEGIN:VEVENT
UID:65353136-3166-4831-b735-653630306634
DTSTAMP:20260425T213428Z
CATEGORIES:Klettern
CLASS:PUBLIC
DESCRIPTION;ALTREP="CID:<FFFF__=0ABBE548DFE235B58f9e8a93d@coffeebean.com>":
 Info vom 27.7.: TERMINÄNDERUNG! Leider mussten wir das Wanderwochenende ku
 rzfristig um eine Woche nach hinten verschieben\, wir hoffen natürlich ihr
  kommt trotzdem mit!\n\nLiebe Leute\,\nwie schon im Jahresprogramm angekün
 digt\, wollen wir Euch zu einem Wochenende in der wunderbaren Sächsischen 
 Schweiz einladen. Geplant ist eine sportliche Wanderung über einige der sc
 hönsten Wege und Stiegen des Gebirges im Gebiet Schrammsteine/Affensteine.
  Es gibt dort grandiose Ausblicke\, schaurige Schluchten\, spektakuläre Fe
 lsen und wilde Tiere (ja\, auch Löwen) zu bestaunen. Dazu gratis jede Meng
 e Sand und sterbenden Wald…\nWer auch noch wissen möchte\, wieso diese Lan
 dschaft so seltsam schön gestaltet ist\, kann dies unterwegs gern erfahren
 .\nAchtung!!! Die Wege sind nicht barrierefrei. Das bedeutet\, dass es imm
 er mal wieder luftig wird und wir einige Stiegen (so heißen dort die Klett
 ersteige) begehen werden. Diese sind normalerweise für jeden gangbar\, man
  muss aber schon mal die Hände aus den Taschen nehmen und zufassen... Sich
 erheitshalber nehmen wir etwas Material zum Sichern mit. Um dabei die Über
 sicht nicht zu verlieren\, ist die Teilnehmerzahl auf 8 begrenzt.\nWir übe
 rnachten an regengeschützten Plätzen im 1000-Sterne-Hotel – also im Freien
 . Ein Zelt ist nicht nötig - Isomatte und Schlafsack schon. Wer abends etw
 as Warmes essen oder trinken möchte\, sollte einen Kocher mitbringen. Auch
  sonst ist jeder für Verpflegung selbst verantwortlich. Einkehrmöglichkeit
 en sind nicht vorhanden. Für Trinkwasser gibt es Quellen.\nTeilnehmerbeitr
 ag\n  \n\n\n\n\n\nTN-Gruppe\nApricus\nGäste\n\n\n\n\nErmäßigte (Schüler\, 
 Azubis\, Studenten\, Bürgergeld-Empfänger)\n\n10\n14\n\n\nErwachsene\n\n12
 \n16\n\n\n\nApricus GastErmäßigte (Schüler\, Azubis\, Studenten\, Bürgerge
 ldempfänger) 10 € 14 €Erwachsene 12 € 22 €\nDarin enthalten ist Materialle
 ihe und für Nichtmitglieder 1€ Versicherungsgebühr. Wer eigenes Material (
 Hüftgurt\, Klettersteigset\, Helm) mitbringt und bis 24.8. Bescheid gibt\,
  bekommt dies auf den Teilnehmerbeitrag gutgerechnet.\nWir treffen uns am 
 Freitag dem 5.&nbsp\;September um 18:55&nbsp\;Uhr am Bahnhof Schmilka-Hirs
 chmühle. Um diese Uhrzeit kommt hier die S-Bahn aus Richtung Dresden/Bad S
 chandau an (wer diese Ankunftszeit nicht hinbekommt gibt Bescheid\, wir fi
 nden für jeden eine Lösung). Wir gehen dann gemeinsam zur Fähre (kostet et
 wa 2€) und setzen auf die andere Elbseite über. Es ist dann noch etwa 1h F
 ußweg.\nEindrücke von der Tour 2023 findet Ihr hier: https://www.apricus-e
 v.de/eindruecke/2023/klettersteige-in-der-saechsischen-schweiz\nFür Anmeld
 ungen und Nachfragen wendet Euch bitte an unsere Serviceabteilung:aziza.mu
 stafa@gmx.de\, 01577-7806406 (abends)\nWenn Ihr schreibt\, gebt bitte eine
  Mobiltelefonnummer an\, damit wir uns auch kurzfristig noch absprechen kö
 nnen.\nWir freuen uns auf Euch!Aziza &amp\; Osama
DTSTART:20250905T165500Z
DTEND:20250907T160000Z
GEO:00;0
LOCATION:Sächsische Schweiz
ORGANIZER:
SEQUENCE:1
SUMMARY:Tour im Sandstein
TRANSP:OPAQUE
URL:https://test.apricus-ev.de/component/icagenda/tour-im-sandstein-2?layou
 t=vcal
END:VEVENT
END:VCALENDAR
