BEGIN:VCALENDAR
VERSION:2.0
PRODID:-//TEST Apricus e.V.//NONSGML kigkonsult.se iCalcreator 2.41.92//
CALSCALE:GREGORIAN
METHOD:PUBLISH
UID:34663963-3562-4537-b462-303237356239
X-WR-CALNAME:iCagenda
X-WR-CALDESC:Event Management Extension for Joomla!
X-WR-RELCALID:3E26604A-50F4-4449-8B3E-E4F4932D05B5
X-WR-TIMEZONE:Europe/Berlin
BEGIN:VTIMEZONE
TZID:Europe/Berlin
TZUNTIL:20231029T010000Z
BEGIN:STANDARD
TZNAME:CET
DTSTART:20211031T030000
TZOFFSETFROM:+0200
TZOFFSETTO:+0100
RDATE:20221030T030000
END:STANDARD
BEGIN:DAYLIGHT
TZNAME:CEST
DTSTART:20210328T020000
TZOFFSETFROM:+0100
TZOFFSETTO:+0200
RDATE:20220327T020000
RDATE:20230326T020000
END:DAYLIGHT
END:VTIMEZONE
BEGIN:VEVENT
UID:38356338-3531-4330-b630-303764313438
DTSTAMP:20260425T213429Z
CATEGORIES:Absage bzw. Verschiebung
CLASS:PUBLIC
DESCRIPTION;ALTREP="CID:<FFFF__=0ABBE548DFE235B58f9e8a93d@coffeebean.com>":
 Info vom 8.3.:\nLiebe Apricusse\,\ndie Lockerung der Corona-Maßnahmen kam 
 recht kurzfristig\, sodass jetzt leider keine Zeit mehr bleibt\, das für d
 en 12. und 13. März geplante Tourenleiterseminar vorzubereiten. Wir versch
 ieben es deshalb auf den 3. und 4. September.\nEuer Vorstand
DTSTART:20220312T080000Z
DTEND:20220313T170000Z
GEO:00;0
LOCATION:noch offen
ORGANIZER:
SEQUENCE:1
SUMMARY:Tourenleiterseminar
TRANSP:OPAQUE
URL:https://test.apricus-ev.de/component/icagenda/tourenleiterseminar?layou
 t=vcal
END:VEVENT
END:VCALENDAR
