BEGIN:VCALENDAR
VERSION:2.0
PRODID:-//TEST Apricus e.V.//NONSGML kigkonsult.se iCalcreator 2.41.92//
CALSCALE:GREGORIAN
METHOD:PUBLISH
UID:33373666-3565-4561-b866-383431306230
X-WR-CALNAME:iCagenda
X-WR-CALDESC:Event Management Extension for Joomla!
X-WR-RELCALID:3E26604A-50F4-4449-8B3E-E4F4932D05B5
X-WR-TIMEZONE:Europe/Berlin
BEGIN:VTIMEZONE
TZID:Europe/Berlin
TZUNTIL:20241027T010000Z
BEGIN:STANDARD
TZNAME:CET
DTSTART:20221030T030000
TZOFFSETFROM:+0200
TZOFFSETTO:+0100
RDATE:20231029T030000
END:STANDARD
BEGIN:DAYLIGHT
TZNAME:CEST
DTSTART:20220327T020000
TZOFFSETFROM:+0100
TZOFFSETTO:+0200
RDATE:20230326T020000
RDATE:20240331T020000
END:DAYLIGHT
END:VTIMEZONE
BEGIN:VEVENT
UID:62666464-6561-4833-b264-393136623730
DTSTAMP:20260425T215230Z
CATEGORIES:Treffen
CLASS:PUBLIC
DESCRIPTION;ALTREP="CID:<FFFF__=0ABBE548DFE235B58f9e8a93d@coffeebean.com>":
 Hallo liebe Apricusse\,\nnach einigen Anfragen und weil wir es für sinnvol
 l halten\, veranstalten wir am dritten März-Wochenende mal wieder ein Tour
 enleiter-Seminar. Darin geht es um alle Themen rund um Apricus-Veranstaltu
 ngen:\n\nPlanung\nKosten-Kalkulation incl. Fördermöglichkeiten für Kinder/
 Jugendliche/Familien/Bürgergeld-Empfänger\nAusschreibung (incl. Einholen E
 rlaubnis für Fotos und Bestätigung der Teilnahmebedingungen)\nVorbereitung
 en (Strecken kennenlernen\, Unterkünfte planen\, ÖPNV planen/abstimmen\, …
 )\nDurchführung\nAbrechnung\nNachbereitung (Berichte/Fotos)\n\nDa wir alle
  keine Profis sind\, werden wir die Inhalte zwar best möglich vorbereiten\
 , aber auch während der Veranstaltung mit Euch gemeinsam weiterentwickeln.
  Da sind wir auch auf Euer Feedback gespannt.\nWo das stattfindet - daran 
 arbeiten wir noch und das ist auch von der Anzahl der Teilnehmer abhängig.
  Darum ist eine schnelle Antwort „Ja\, ich möchte…“ (bei Micha - E-Mail an
  mkraus70@yahoo.de oder per Telefon unter 0176-31330108) notwendig. Wahrsc
 heinlich werden wir ein Ferienhaus im Großraum um Berlin mieten und uns se
 lbst verpflegen.\nNatürlich werden wir uns auch etwas Zeit nehmen\, rauszu
 gehen\, die Gegend zu erkunden und bei ein paar Schritten den Kopf frei zu
  bekommen.\nTreffpunkt/Zeit ist:\n\nentweder Freitagabend bis 18:30&nbsp\;
 Uhr zum Abendbrot\noder Samstag Morgen bis 10:00 Uhr\n\nDie Kosten für Übe
 rnachtung übernimmt der Verein. Eine Erstattung oder Beteiligung der Anfah
 rtskosten könnt Ihr erfragen/beantragen. Zusätzliche Kosten (Frühstück/Mit
 tagessen/Abendbrot\, diverses) übernehmt ihr bitte selbst.\n(Anmerkung: Da
  das doch einige Kosten für den Verein sind\, würden wir uns über einen Sp
 endenbeitrag freuen\, den jeder im Rahmen seiner Möglichkeiten gestalten k
 ann. Eine Bescheinigung gibt es natürlich auch auf Wunsch.)\nMitzubringen:
 \n\nWenn möglich ein Notebook. Wenn das nicht geht\, bitte Bescheid geben\
 , damit wir das einplanen können\nWasch-/Badezeug und wahrscheinlich Bettw
 äsche.\n\nAnmeldung:\nBitte bis spätestens 19.2. anmelden und mitteilen\, 
 ob Ihr Freitagabend oder Samstagmorgen anreist.\nGrüße und vielleicht bis 
 bald in ….Micha
DTSTART:20230317T163000Z
DTEND:20230319T170000Z
GEO:00;0
LOCATION:noch offen
ORGANIZER:
SEQUENCE:1
SUMMARY:Tourenleitungsseminar
TRANSP:OPAQUE
URL:https://test.apricus-ev.de/component/icagenda/tourenleitungsseminar?lay
 out=vcal
END:VEVENT
END:VCALENDAR
