BEGIN:VCALENDAR
VERSION:2.0
PRODID:-//TEST Apricus e.V.//NONSGML kigkonsult.se iCalcreator 2.41.92//
CALSCALE:GREGORIAN
METHOD:PUBLISH
UID:36326338-3964-4563-b134-323762613936
X-WR-CALNAME:iCagenda
X-WR-CALDESC:Event Management Extension for Joomla!
X-WR-RELCALID:3E26604A-50F4-4449-8B3E-E4F4932D05B5
X-WR-TIMEZONE:Europe/Berlin
BEGIN:VTIMEZONE
TZID:Europe/Berlin
TZUNTIL:20230326T010000Z
BEGIN:STANDARD
TZNAME:CET
DTSTART:20201025T030000
TZOFFSETFROM:+0200
TZOFFSETTO:+0100
RDATE:20211031T030000
RDATE:20221030T030000
END:STANDARD
BEGIN:DAYLIGHT
TZNAME:CEST
DTSTART:20210328T020000
TZOFFSETFROM:+0100
TZOFFSETTO:+0200
RDATE:20220327T020000
END:DAYLIGHT
END:VTIMEZONE
BEGIN:VEVENT
UID:64336365-6136-4937-b736-326237336538
DTSTAMP:20260425T213428Z
CATEGORIES:Radfahren
CLASS:PUBLIC
DESCRIPTION;ALTREP="CID:<FFFF__=0ABBE548DFE235B58f9e8a93d@coffeebean.com>":
 Treffpunkt: Elbfähre Coswig (Anh.)\, 9:45 Uhr\nNach dem Übersetzen mit der
  Fähre radeln wir zunächst Richtung Wörlitz und weiter über Horstdorf und 
 Kakau an Oranienbaum vorbei nach Jüdenberg\, um kurz dahinter nach Ferropo
 lis abzubiegen. Hier wird ein kurzer Stopp eingelegt\, um die Tagebauriese
 n am Gremminer See zu bewundern und bei Bedarf oder Lust ein erstes Bad zu
  nehmen. Unser Weg führt uns schön am See entlang mit diversen - der ehema
 ligen Bergbauregion angepassten - Kunstobjekten am Rand und immer wieder s
 chönen Ausblicken über den See. Nach Verlassen des See-Weges erreichen wir
  auch gleich Gräfenhainichen und damit unsere 'Stärkungsstation' beim Grie
 chen.\nWenn wir uns noch fit fühlen und gut in der Zeit liegen\, können wi
 r noch gern einen Abstecher zum Barbara- und Gröbener See machen. Ansonste
 n gehts weiter auf meist ruhigen Wegen an einigen (ehemaligen) Mühlen vorb
 ei\, viel durch Wald\, zu den Gniester Seen (mit Bademöglichkeit) und über
  Rotta zum Bergwitzsee. Natürlich kann auch hier gebadet werden\, wenn den
 n das Wetter uns gut gesonnen ist...\nHinter Bergwitz fahren wir zunächst 
 nach Seegrehna\, die Wittenberger können hier abzweigen und auf dem R1 zur
  Lutherstadt radeln. Wenn wir noch etwas Kultur erleben wollen\, können wi
 r noch einen kleinen Abstecher (max. 2km) nach Bleesern zum ehemaligen Hof
 gestüt mit großer Geschichte machen.\nAuf kleinen (asphaltierten) Straßen 
 fahren wir z.B. durch das Biosphärenreservat\, Kerngebiet NSG Crassensee\,
  zurück zur Elbe und Fähre.\n\nTourlänge: ohne Abstecher. ca. 70&nbsp\;km 
 (ab / bis Fähre Coswig)\nweiterer möglicher Treffpunkt: Gaststätte Athos d
 er Grieche\, Gremminer Str.\, Gräfenhainichen\, ca. 12:00&nbsp\;Uhr\n\nJed
 er zahlt seine Unkosten wie Verpflegung\, Fähre und eventuelle Eintritte s
 elbst. Gäste entrichten zudem vor Ort 1&nbsp\;€ Startgeld\, in dem auch di
 e Sportunfallversicherung abgedeckt ist.\nNähere Informationen beim Fahrte
 nleiter Andreas Koch\, am besten per Mail (a.koch-coswig@t-online.de) oder
  telefonisch unter 0151-57534833.\nEs freut sich auf euch\,Andreas Koch
DTSTART:20210808T080000Z
DTEND:20210808T160000Z
GEO:00;0
LOCATION:
ORGANIZER:
SEQUENCE:1
SUMMARY:Vier-Seen-Radtour
TRANSP:OPAQUE
URL:https://test.apricus-ev.de/component/icagenda/vier-seen-radtour?layout=
 vcal
END:VEVENT
END:VCALENDAR
