BEGIN:VCALENDAR
VERSION:2.0
PRODID:-//TEST Apricus e.V.//NONSGML kigkonsult.se iCalcreator 2.41.92//
CALSCALE:GREGORIAN
METHOD:PUBLISH
UID:38623632-6464-4137-b730-616234613539
X-WR-CALNAME:iCagenda
X-WR-CALDESC:Event Management Extension for Joomla!
X-WR-RELCALID:3E26604A-50F4-4449-8B3E-E4F4932D05B5
X-WR-TIMEZONE:Europe/Berlin
BEGIN:VTIMEZONE
TZID:Europe/Berlin
TZUNTIL:20261025T010000Z
BEGIN:STANDARD
TZNAME:CET
DTSTART:20231029T030000
TZOFFSETFROM:+0200
TZOFFSETTO:+0100
RDATE:20241027T030000
RDATE:20251026T030000
END:STANDARD
BEGIN:DAYLIGHT
TZNAME:CEST
DTSTART:20240331T020000
TZOFFSETFROM:+0100
TZOFFSETTO:+0200
RDATE:20250330T020000
RDATE:20260329T020000
END:DAYLIGHT
END:VTIMEZONE
BEGIN:VEVENT
UID:30376361-6237-4362-b038-346662313934
DTSTAMP:20260425T213425Z
CATEGORIES:Wandern
CLASS:PUBLIC
DESCRIPTION;ALTREP="CID:<FFFF__=0ABBE548DFE235B58f9e8a93d@coffeebean.com>":
 \nDie Wanderung startet im Tammichgrund. Am nahen Lutherbrunnen können wir
  unsere Flaschen mit reinem Quellwasser auffüllen. Der Legende nach tat da
 s Martin Luther hier auch. Wir laufen bergan\, entlang herrlicher Wald-Wie
 sen. An der Schutzhütte 'Alte Ausspanne' erreichen wir den Rennsteig. Von 
 hier geht es über die Schmalkalder Hütte zur Ebertswiese. Sie gilt als ein
 e der schönsten Wiesen Thüringens. Eine Hochspannungsleitung überquert unü
 bersehbar die Wiese.\nAuf dem\, im Naturschutzgebiet gelegenen\, sumpfigen
  Wiesenareal gedeihen seltene und vom Aussterben bedrohte Pflanzen\, darun
 ter das Adonisröschen\, das kleine Knabenkraut und die Trollblume. Zur Hau
 ptblütezeit im Juni kann man die Blumenvielfalt und sehr selten gewordene 
 Naturpracht bestaunen. Namensgeber der Bergwiese war der Georgenthaler Abt
 \, Eberhardus\, der das Gelände hoch über Tambach im Mittelalter roden lie
 ß.\nUnweit der Ebertswiese befindet sich ein kleiner\, feiner Bergsee in e
 inem alten Steinbruch. Die schöne Naturkulisse liegt auf knapp 780 Metern.
  Der Rückweg führt uns steil bergab auf einem schmalen Pfad zum Spitterfal
 l. Es ist der höchste natürliche Wasserfall in Thüringen. Durch Buchenwald
  gelangen wir über den Spittergrund zurück nach Tambach-Dietharz. Unterweg
 s passieren wir die Tanzbuche\, das Waldschwimmbad und landen unmittelbar 
 vor dem Pinguin-Eiscafé. Von hier ist es nicht mehr weit zur Bushaltestell
 e.\nAnreise:\n\n09:05&nbsp\;Uhr ab Erfurt\, Hauptbahnhof\, mit RB&nbsp\;20
  nach Gotha\n09:45&nbsp\;Uhr ab Gotha\, mit Bus&nbsp\;851 Richtung Tambach
 \n10:25&nbsp\;Uhr Ankunft in Tambach-Dietharz\, Tammichgrund\, Endhalteste
 lle\n\nEin Parkplatz ist vorhanden für Autofahrer.\nAbreise:\n\n15:32&nbsp
 \;Uhr mit Bus&nbsp\;851 nach Gotha\, 16:13&nbsp\;Uhr Ankunft\n16:30 Uhr Ab
 fahrt in Gotha mit RB&nbsp\;20\, Ankunft in Erfurt 16:53&nbsp\;Uhr\nDiese 
 zusammenhängende Verbindung gibt es alle 2 Stunden.\n\nAnmeldungen:\nBitte
  an Anke Siegemundper Mail: anke_siegemund@hotmail.comTel.: 0176 43629173
 \nIch freue mich auf eine schöne Herbstwanderung!Anke
DTSTART:20241019T083000Z
DTEND:20241019T133000Z
GEO:00;0
LOCATION:
ORGANIZER:
SEQUENCE:1
SUMMARY:Eine Rundwanderung von Tambach-Dietharz zur Ebertswiese
TRANSP:OPAQUE
URL:https://test.apricus-ev.de/component/icagenda/waldbaden-im-thueringer-w
 ald-2?layout=vcal
END:VEVENT
END:VCALENDAR
