BEGIN:VCALENDAR
VERSION:2.0
PRODID:-//TEST Apricus e.V.//NONSGML kigkonsult.se iCalcreator 2.41.92//
CALSCALE:GREGORIAN
METHOD:PUBLISH
UID:30333662-6463-4564-b733-633832366437
X-WR-CALNAME:iCagenda
X-WR-CALDESC:Event Management Extension for Joomla!
X-WR-RELCALID:3E26604A-50F4-4449-8B3E-E4F4932D05B5
X-WR-TIMEZONE:Europe/Berlin
BEGIN:VTIMEZONE
TZID:Europe/Berlin
TZUNTIL:20270328T010000Z
BEGIN:STANDARD
TZNAME:CET
DTSTART:20241027T030000
TZOFFSETFROM:+0200
TZOFFSETTO:+0100
RDATE:20251026T030000
RDATE:20261025T030000
END:STANDARD
BEGIN:DAYLIGHT
TZNAME:CEST
DTSTART:20250330T020000
TZOFFSETFROM:+0100
TZOFFSETTO:+0200
RDATE:20260329T020000
END:DAYLIGHT
END:VTIMEZONE
BEGIN:VEVENT
UID:31636365-3766-4138-a662-633331393264
DTSTAMP:20260425T214126Z
CATEGORIES:Wandern
CLASS:PUBLIC
DESCRIPTION;ALTREP="CID:<FFFF__=0ABBE548DFE235B58f9e8a93d@coffeebean.com>":
 Liebe Leute\,\nauf dem Europa-Wanderweg E10 erwartet uns die auch als Sieb
 en-Berge-Tour bezeichnete Strecke zwischen Saarmund und Trebbin. Wir laufe
 n auf abwechslungsreichen Pfaden durch brandenburgische Wälder mit Hügeln\
 , Sümpfen\, einem Vogelschutzgebiet\, zwei Seen und einem Schlosspark. Stö
 rche und Kraniche werden uns mit etwas Glück begegnen.\nAuch die Orte\, di
 e wir unterwegs passieren\, sind sehenswert: So wurde Blankensee vor ein p
 aar Jahren als das zweitschönste Dorf der ganzen Bundesrepublik prämiert. 
 Es gibt einen liebevoll gepflegten Ortskern\, ein altes Gutshaus\, welches
  als Schloss bezeichnet wird\, mit einem schönen Schlosspark\, einem Bauer
 nmuseum und der Museumsschänke. Da unser ca. 23&nbsp\;km langer Weg am Son
 nabend in Blankensee endet\, haben wir die Möglichkeit\, das Museum und/od
 er die Gaststätte zu besuchen.\nWer übernachten will\, wandert noch weiter
  bis zum nahegelegenen Schönhagen. Am Flugplatz Schönhagen haben wir im Gä
 stehaus Tower Lodge genau fünf Übernachtungsplätze ergattert. Dort ist auc
 h Abendessen und Frühstück möglich. Keine Angst\, es handelt sich nur um e
 inen kleinen Sportflugplatz.\nAm Sonntag wandern wir auf den immerhin 103&
 nbsp\;m hohen Löwendorfer Berg mit einem ganztägig geöffneten Aussichtstur
 m.\, der uns einen Rundumsicht in die Weite und Stille der Landschaft biet
 et. Unser Ziel ist schließlich Trebbin\, ein typisch märkisches Städtchen 
 mit einem seit Jahrhunderten kaum veränderten Stadtbild.\nDie Tour am Sonn
 tag ist ca. 10&nbsp\;km lang. Nachdem wir uns Trebbin angesehen haben könn
 en wir uns dort noch eine Weile aufhalten oder die Rückfahrt antreten. Wer
  will\, kann beide Tage mitwandern und evtl. auch übernachten oder auch nu
 r einen der beiden Tage mitkommen.\nAnreise\nAm Sonnabend\, dem 03.05. ab 
 Potsdam Hbf 9:48&nbsp\;Uhr mit RB&nbsp\;22 Richtung Flughafen BER - Ankunf
 t in Saarmund 10:20&nbsp\;Uhr. Nach Ankunft des Zuges wandern wir los.\nAm
  Sonntag ist eine Anreise mit dem RE 4 über Trebbin möglich. Von Trebbin f
 ährt um 10:03&nbsp\;Uhr ein Rufbus auf Bestellung nach Blankensee\, Ankunf
 t dort 10:54&nbsp\;Uhr - bitte vorher unter 033716-28181 bestellen!\nAbrei
 se\nAm Sonntag in Richtung Berlin stündlich mit dem RE&nbsp\;4 in Richtung
  Rathenow\, in Richtung Jüterbog (dann mit Umsteigen weiter z.B. nach Witt
 enberg\, Coswig\, Leipzig) alle 2&nbsp\;Stunden.\nAm Sonnabend fährt stünd
 lich (16:05\, 17:04\, 18:05\, 19:10\, dann nicht mehr) ein Rufbus von Blan
 kensee nach Trebbin zum RE&nbsp\;4 - bitte vorher unter 033716-28181 beste
 llen!\nAnmeldung\nBitte meldet euch\, wenn ihr übernachten wollt\, bis spä
 testens Donnerstag\, 24.04.2025\, telefonisch (0173-8132345) oder per E-Ma
 il bei Frank (frankp@apricus-ev.de). Die Übernachtungsplätze sind begrenzt
  (siehe oben). Es gibt außerdem noch ein Gasthaus in Blankensee. Die Übern
 achtungskosten rechnen wir vor Ort ab.\nEine Anmeldung ist auch erforderli
 ch\, wenn ihr nur am Sonntag mitkommen wollt\, da sich direkt an unserem Ü
 bernachtungsort keine Bushaltestelle befindet und wir uns deshalb abstimme
 n wollen.\nDie Wanderung gilt als zwei Tagestouren. Gäste zahlen also pro 
 Tag 1€ für die Sportversicherung.\nBitte mitbringen:\n\nVerpflegung mindes
 tens für die Tour am Sonnabend.\nBei Übernachtungen Geld für die Unterkunf
 t.\n\nWir freuen uns auf eine schöne Tour mit euch\,Frank und Marianne
DTSTART:20250503T080000Z
DTEND:20250504T160000Z
GEO:00;0
LOCATION:
ORGANIZER:
SEQUENCE:1
SUMMARY:Wanderung auf dem E10\, Teil 2
TRANSP:OPAQUE
URL:https://test.apricus-ev.de/component/icagenda/wanderung-auf-dem-e10-2?l
 ayout=vcal
END:VEVENT
END:VCALENDAR
