BEGIN:VCALENDAR
VERSION:2.0
PRODID:-//TEST Apricus e.V.//NONSGML kigkonsult.se iCalcreator 2.41.92//
CALSCALE:GREGORIAN
METHOD:PUBLISH
UID:30616537-3566-4666-b965-653331373732
X-WR-CALNAME:iCagenda
X-WR-CALDESC:Event Management Extension for Joomla!
X-WR-RELCALID:3E26604A-50F4-4449-8B3E-E4F4932D05B5
X-WR-TIMEZONE:Europe/Berlin
BEGIN:VTIMEZONE
TZID:Europe/Berlin
TZUNTIL:20211031T010000Z
BEGIN:STANDARD
TZNAME:CET
DTSTART:20181028T030000
TZOFFSETFROM:+0200
TZOFFSETTO:+0100
RDATE:20191027T030000
RDATE:20201025T030000
END:STANDARD
BEGIN:DAYLIGHT
TZNAME:CEST
DTSTART:20190331T020000
TZOFFSETFROM:+0100
TZOFFSETTO:+0200
RDATE:20200329T020000
RDATE:20210328T020000
END:DAYLIGHT
END:VTIMEZONE
BEGIN:VEVENT
UID:36363332-3737-4462-a532-363563626333
DTSTAMP:20260425T221238Z
CATEGORIES:Wandern
CLASS:PUBLIC
DESCRIPTION;ALTREP="CID:<FFFF__=0ABBE548DFE235B58f9e8a93d@coffeebean.com>":
 Liebe Wanderfreunde\,\nder Herbst lädt zum Wandern ein... es steht unsere 
 zweite E11-Wanderung in diesem Jahr an und wir nähern uns auch hier langsa
 m unserem 'Geburtsort' Coswig (Anhalt). Die nunmehr 13.&nbsp\;Etappe wird 
 uns durch den schönen Fläming von Dippmannsdorf nach Bad Belzig führen. Da
 bei werden wir vermutlich Zeit haben\, am Ende der Wanderung die Stadt mit
  Burg zu erkunden.\nLos geht es am Sonntag den 27.10. um 9:50&nbsp\;Uhr an
  der Bushaltestelle in Dippmanns&shy\;dorf\, Ortsmitte (Ankunft des Buses 
 der Linie 581 aus Bad Belzig um 9:46&nbsp\;Uhr). Nach ein paar Schritten a
 n der Kirche des Orts vorbei befinden wir uns schon auf unserem Europaweg 
 E11\, der hier immer noch mit dem Burgenwanderweg\, einem ausgezeichneten 
 Quali&shy\;täts&shy\;wanderweg\, deckungsgleich ist. Zunächst geht es durc
 h ein bewaldetes Gebiet und über den Galgenberg nach Lütte\, wo wir uns ei
 ne sogenannte Normalkirche Schinkels - also eine Art Typenbau - ansehen kö
 nnen. Derzeit bekanntester Sohn des Ortes ist Norbert Leisegang\, Frontman
 n der Gruppe Keimzeit.\nAnschließend laufen wir in Richtung Süden entlang 
 des Waldrandes bis zur Springbachmühle\, eine ehemalige Wassermühle\, die 
 heute ein Restaurant ist. Eventuell können wir hier eine Rast einlegen und
  uns im historischen Gebäude und dem angrenzenden Park umsehen. Nach der S
 tärkung erreichen wir schon bald den Ortsrand von Bad Belzig\, unser Wande
 rweg führt uns aber noch nicht in den Ort hinein\, sondern noch ein gutes 
 Stück auf hübschen Wegen 'außen herum'\, bis wir die Burg Eisenhardt errei
 chen\, die das Stadtbild von Belzig prägt. Wenn noch genügend Zeit ist\, l
 ohnt sich ein Besuch des dort ansässigen Heimatmuseums. In jedem Fall könn
 en wir über den Markt und am alten Rathaus vorbeischlendern\, bevor es in 
 Richtung Bahnhof und von dort zurück geht.\nOrganisatorisches\n&nbsp\;Anme
 ldungen\n...sind erwünscht\, damit ich gegebenenfalls einen Tisch für's Mi
 ttagessen bestellen kann (bei ausreichend Interessenten - das Restaurant i
 st leider nicht das günstigste). Nehmt euch deshalb sicherheitshalber auch
  etwas Proviant mit.\nBitte meldet euch bis Freitag den 25.10. bei mir per
  Mail unter MarianneA@apricus-ev.de oder bei kurzfristiger Anmeldung telef
 onisch unter 0171-8396692.\nAn- und Abreise\nFür die Hinfahrt empfiehlt si
 ch von Berlin die Fahrt mit dem RE7 nach Bad Belzig (Abfahrten: 07:59&nbsp
 \;Uhr Ostkreuz\, 08:03&nbsp\;Ostbahnhof\, 08:07&nbsp\;Alexanderplatz\, 08:
 11&nbsp\;Frie&shy\;drich&shy\;straße\, 08:15&nbsp\;Hauptbahnhof\, 08:21&nb
 sp\;Zoo\, 08:25&nbsp\;Charlotten&shy\;burg)\, von dort mit dem 581er Bus i
 n Richtung Brandenburg ZOB. Aus anderen Richtungen sind leider die Verbind
 ungen recht ungünstig\, ihr müsstet aber auf jeden Fall über Bad Belzig an
 reisen.\nZurück geht es nach Berlin ebenfalls mit dem RE7\, stündlich imme
 r zur Minute 43 (und zusätzlich um 17:08 Uhr). Nach Leipzig gibt es eine V
 erbindung über Dessau (16:18&nbsp\;Uhr\, 18:18&nbsp\;Uhr etc.) und nach Co
 swig ebenfalls mit dem Zug in Richtung Dessau und Umsteigen in Roßlau.\nAu
 f eine weitere schöne Herbstwanderung auf dem E11 freuen sich Frank und Ma
 rianne
DTSTART:20191027T080000Z
DTEND:20191027T180000Z
GEO:00;0
LOCATION:
ORGANIZER:
SEQUENCE:1
SUMMARY:Wanderung auf dem Fernwanderweg E11\, Teil 13
TRANSP:OPAQUE
URL:https://test.apricus-ev.de/component/icagenda/wanderung-auf-dem-fernwan
 derweg-e11-teil-13?layout=vcal
END:VEVENT
END:VCALENDAR
