BEGIN:VCALENDAR
VERSION:2.0
PRODID:-//TEST Apricus e.V.//NONSGML kigkonsult.se iCalcreator 2.41.92//
CALSCALE:GREGORIAN
METHOD:PUBLISH
UID:35656366-3662-4361-a639-626561366431
X-WR-CALNAME:iCagenda
X-WR-CALDESC:Event Management Extension for Joomla!
X-WR-RELCALID:3E26604A-50F4-4449-8B3E-E4F4932D05B5
X-WR-TIMEZONE:Europe/Berlin
BEGIN:VTIMEZONE
TZID:Europe/Berlin
TZUNTIL:20241027T010000Z
BEGIN:STANDARD
TZNAME:CET
DTSTART:20211031T030000
TZOFFSETFROM:+0200
TZOFFSETTO:+0100
RDATE:20221030T030000
RDATE:20231029T030000
END:STANDARD
BEGIN:DAYLIGHT
TZNAME:CEST
DTSTART:20220327T020000
TZOFFSETFROM:+0100
TZOFFSETTO:+0200
RDATE:20230326T020000
RDATE:20240331T020000
END:DAYLIGHT
END:VTIMEZONE
BEGIN:VEVENT
UID:32313232-3263-4133-b464-613233386137
DTSTAMP:20260425T214644Z
CATEGORIES:Wandern
CLASS:PUBLIC
DESCRIPTION;ALTREP="CID:<FFFF__=0ABBE548DFE235B58f9e8a93d@coffeebean.com>":
 Wir genießen die Laubfärbung der Flämingbuchen im Setzsteig-/Springerrevie
 r auf einer ca.&nbsp\;10-12&nbsp\;km langen Rundwanderung. Aufgrund fehlen
 der Einkehrmöglichkeiten mit Picknick. Anreise per Rad von Coswig oder Wie
 senburg aus möglich\, oder mit dem Auto (möglichst Fahrgemeinschaften)
DTSTART:20221030T090000Z
DTEND:20221030T170000Z
GEO:00;0
LOCATION:
ORGANIZER:
SEQUENCE:1
SUMMARY:Wanderung bei Setzsteig
TRANSP:OPAQUE
URL:https://test.apricus-ev.de/component/icagenda/wanderung-bei-setzsteig?l
 ayout=vcal
END:VEVENT
END:VCALENDAR
