BEGIN:VCALENDAR
VERSION:2.0
PRODID:-//TEST Apricus e.V.//NONSGML kigkonsult.se iCalcreator 2.41.92//
CALSCALE:GREGORIAN
METHOD:PUBLISH
UID:31333337-3631-4362-b966-356164383937
X-WR-CALNAME:iCagenda
X-WR-CALDESC:Event Management Extension for Joomla!
X-WR-RELCALID:3E26604A-50F4-4449-8B3E-E4F4932D05B5
X-WR-TIMEZONE:Europe/Berlin
BEGIN:VTIMEZONE
TZID:Europe/Berlin
TZUNTIL:20221030T010000Z
BEGIN:STANDARD
TZNAME:CET
DTSTART:20201025T030000
TZOFFSETFROM:+0200
TZOFFSETTO:+0100
RDATE:20211031T030000
END:STANDARD
BEGIN:DAYLIGHT
TZNAME:CEST
DTSTART:20200329T020000
TZOFFSETFROM:+0100
TZOFFSETTO:+0200
RDATE:20210328T020000
RDATE:20220327T020000
END:DAYLIGHT
END:VTIMEZONE
BEGIN:VEVENT
UID:33626366-3837-4635-b139-616334613231
DTSTAMP:20260421T120335Z
CATEGORIES:Absage bzw. Verschiebung
CLASS:PUBLIC
DESCRIPTION;ALTREP="CID:<FFFF__=0ABBE548DFE235B58f9e8a93d@coffeebean.com>":
 Eigentlich müsste ich euch eine Ausschreibung für die geplante Wanderung E
 nde Februar durch die Kliekener Aue präsentieren\, aber ich präsentiere eu
 ch erst mal die Verschiebung auf das Wochenende 13. &nbsp\;/ 14. März. Da 
 ist zwar auch meine Radtour in den Frühling vorgesehen\, aber beides sind 
 ja nur Ein-Tages-Veranstaltungen. Und das Wochenende hat ja zwei Tage....
 \nNach jetziger Prognose gehe ich nicht davon aus\, dass der sibirische Wi
 nter bis übernächstes Wochenende vorbei ist\, wahrscheinlich liegt dann no
 ch immer der Schnee vom letzten Wochenende und alles\, was bis dahin noch 
 hinzu kommt. Und das wird auch Kraniche und anderes Getier\, was wir eigen
 tlich bei der Wanderung gern beobachten wollten\, davon abhalten\, sich hi
 er zu zeigen - ganz im Gegensatz zu den letzten Jahren. *\nAlso macht es S
 inn\, das Ganze noch etwas nach hinten zu schieben.\nHinzu kommen die Coro
 na-Beschränkungen\, aber ich plane für das genannte Wochenende für beides 
 (Radtour und Wanderung) auch eine Corona-Notvariante mit versteckten oder 
 öffentlichen Kontrollpunkten - und jeder der will und darf\, kann dann an 
 dem Wochenende das Eine oder Beides machen. Jeder\, der sich dann bei mir 
 anmeldet\, bekommt die jeweilige Streckenkarte als PDF zugeschickt und kan
 n dann so teilnehmen\, wie es die dann existenten Einschränkungen hergeben
  - allein\, zu zweit\, in erlaubter Kleingruppengröße. An alle gemeinsam k
 ann ich noch nicht glauben\, dazu müssten wohl Wunder passieren. Aber dann
  sind dennoch alle auf derselben Strecke unterwegs und sehen dasselbe\, ha
 ben die selben Kulturpunkte und wenn keine Einkehrmöglichkeit\, dann aber 
 die selbe Notverpflegungsmöglichkeit 'to go'... und damit auch dasselbe ge
 macht\, wenn auch nicht in großer Gruppe (eventuell nur für Mitglieder). K
 leingruppen würde ich auch koordinieren\, so dass niemand ganz alleine lau
 fen / radeln muss\, der das nicht explizit will.\nAlso:stay tuned\, folks.
 ..\n* ) Inzwischen sieht's ja doch nach Tauwetter aus\, aber durchweichte 
 Wege mit Schneematsch sind auch nicht sehr einladend. (Anm. d. Red.)
DTSTART:20210221T090000Z
DTEND:20210221T170000Z
GEO:00;0
LOCATION:Klieken\, Coswig (Anhalt)
ORGANIZER:
SEQUENCE:1
SUMMARY:Wanderung durch die Kliekener Aue
TRANSP:OPAQUE
URL:https://test.apricus-ev.de/component/icagenda/wanderung-durch-die-kliek
 ener-aue
END:VEVENT
END:VCALENDAR
