BEGIN:VCALENDAR
VERSION:2.0
PRODID:-//TEST Apricus e.V.//NONSGML kigkonsult.se iCalcreator 2.41.92//
CALSCALE:GREGORIAN
METHOD:PUBLISH
UID:39313233-6337-4732-b438-353963303035
X-WR-CALNAME:iCagenda
X-WR-CALDESC:Event Management Extension for Joomla!
X-WR-RELCALID:3E26604A-50F4-4449-8B3E-E4F4932D05B5
X-WR-TIMEZONE:Europe/Berlin
BEGIN:VTIMEZONE
TZID:Europe/Berlin
TZUNTIL:20250330T010000Z
BEGIN:STANDARD
TZNAME:CET
DTSTART:20221030T030000
TZOFFSETFROM:+0200
TZOFFSETTO:+0100
RDATE:20231029T030000
RDATE:20241027T030000
END:STANDARD
BEGIN:DAYLIGHT
TZNAME:CEST
DTSTART:20230326T020000
TZOFFSETFROM:+0100
TZOFFSETTO:+0200
RDATE:20240331T020000
END:DAYLIGHT
END:VTIMEZONE
BEGIN:VEVENT
UID:33613135-3737-4061-a461-653061356136
DTSTAMP:20260425T215227Z
CATEGORIES:Wandern
CLASS:PUBLIC
DESCRIPTION;ALTREP="CID:<FFFF__=0ABBE548DFE235B58f9e8a93d@coffeebean.com>":
 ...am nordöstlichen Berliner Stadtrand - Wo Berlin zu Ende ist und die Lan
 dschaft anfängt\nOhne viel Prosa... Was gibt es zu sehen?:Viel weite Lands
 chaft\, sehr wenig Architektur\, keine Kultur.\nIn der Reihenfolge ihres A
 uftretens: Der Malchower See\, das NSG Malchower Aue\, der Stadtrandpark N
 eue Wiesen\, der Landschaftspark Wartenberger Feldmark\, das NSG Falkenber
 ger Rieselfelder und der Landschaftspark Gehrensee.\nUnterwegs: Wiesen\, F
 elder\, etwas Wald\, ein paar Tümpel und Fließe\, ein oder zwei Windräder 
 sowie hin und wieder paar Einfamilienhäuser. Undhoffentlich schönes Wetter
  mit Sonne.\nGastronomie gibt es unterwegs nicht\, also Essen und Trinken 
 mitbringen. Treffpunnkt und -zeit\, Streckenlänge: s. oben\nWer mitkommen 
 möchte: Bitte bis zum 15.06.2023 anmelden unter: markus.grabolle@gmail.com
  oder 01577 9414660\nBis dahinMarkus
DTSTART:20230617T073000Z
DTEND:20230617T160000Z
GEO:00;0
LOCATION:
ORGANIZER:
SEQUENCE:1
SUMMARY:Wanderung von Wartenberg nach Ahrensfelde
TRANSP:OPAQUE
URL:https://test.apricus-ev.de/component/icagenda/wanderung-im-berliner-nor
 dosten?layout=vcal
END:VEVENT
END:VCALENDAR
