BEGIN:VCALENDAR
VERSION:2.0
PRODID:-//TEST Apricus e.V.//NONSGML kigkonsult.se iCalcreator 2.41.92//
CALSCALE:GREGORIAN
METHOD:PUBLISH
UID:34653639-6361-4661-a336-366430326436
X-WR-CALNAME:iCagenda
X-WR-CALDESC:Event Management Extension for Joomla!
X-WR-RELCALID:3E26604A-50F4-4449-8B3E-E4F4932D05B5
X-WR-TIMEZONE:Europe/Berlin
BEGIN:VTIMEZONE
TZID:Europe/Berlin
TZUNTIL:20201025T010000Z
BEGIN:STANDARD
TZNAME:CET
DTSTART:20181028T030000
TZOFFSETFROM:+0200
TZOFFSETTO:+0100
RDATE:20191027T030000
END:STANDARD
BEGIN:DAYLIGHT
TZNAME:CEST
DTSTART:20180325T020000
TZOFFSETFROM:+0100
TZOFFSETTO:+0200
RDATE:20190331T020000
RDATE:20200329T020000
END:DAYLIGHT
END:VTIMEZONE
BEGIN:VEVENT
UID:33396534-6330-4034-a564-643831626535
DTSTAMP:20260425T222321Z
CATEGORIES:Wandern
CLASS:PUBLIC
DESCRIPTION;ALTREP="CID:<FFFF__=0ABBE548DFE235B58f9e8a93d@coffeebean.com>":
 Am letzten Januarwochenende lad' ich euch nach Leipzig zu zwei Wanderungen
  durch den grünen Norden der Stadt und in der Umgebung ein. Dabei kombinie
 ren wir die kleine Wanderung am Samstag mit einem Besuch im Leipziger Zoo 
 und dem Gondwanaland. Am Sonntag erwartet uns nach dem Wandern das Planeta
 rium in Schkeuditz.\nFür diejenigen\, die von außerhalb kommen und an beid
 en Tagen dabei sein möchten\, organisiere ich gern eine Übernachtung.\nSam
 stag\, 26. Januar\nTreffpunkt: S-Bahn-Haltestelle Leipzig Messe 11:05 Uhr 
 (Ankunft S2 aus Wittenberg)\nVon hier aus wandern wir knapp 10 km über Moc
 kau\, den Abtnaundorfer und den Schönefelder Mariannenpark\, teilweise ent
 lang der Parthe zum Zoo. Den sollten wir ca. 13:15 Uhr erreichen.\nDer Zoo
  Leipzig ist ein 26 Hektar (davon 2\,1 Hektar Wasserfläche) großer\, parka
 rtig gestalteter Zoogarten am Rosental\, nordwestlich der Leipziger Innens
 tadt. Er zählt zu den artenreichsten Zoos in Europa. Seit 2000 wird der Zo
 o großflächig unter dem Projektnamen „Zoo der Zukunft“ umgebaut und erweit
 ert\; bis 2022 soll ein Umbau in einzelnen Themenbereichen erfolgen. Laut 
 des Sheridan-Zoo-Rankings des Briten Anthony Sheridan belegt der Zoo Leipz
 ig seit mehreren Jahren Platz 2 der besten Zoos Europas (nach dem Tiergart
 en Schönbrunn) und Platz 1 in Deutschland. Bekannt ist der Zoo seit Jahren
  durch die Fernsehsendung „Elefant\, Tiger &amp\; Co.“ – die erste und vie
 l kopierte ihrer Art. Weltbekannt wurde der Zoo 2011 durch die schielende 
 Heide\, eine Opposumdame mit Übergewicht\, welche angetreten war\, die Osc
 argewinner des Jahres vorherzusagen.\nEine besondere Attraktion ist das ri
 esige Gondwanaland\, eine Tropenhalle mit ganzjährig entsprechendem Klima\
 , wo man viel entdecken kann (und muss) und bei einer Kanufahrt viel über 
 die Zeiten und das Leben auf dem Urkontinent erfährt. Nach dem Zoobesuch g
 ibt's eine Gratis-Stadtführung durch die historische Altstadt Leipzigs. Ob
  und wo wir zum Abend einkehren\, werden wir dann live entscheiden.\nWicht
 ig: Es ist keine Mittagseinkehr geplant. Im Zoo kann man an jeder Ecke Kle
 inigkeiten (Bratwurst\, Pommes\, Kuchen usw.) kaufen.\nSonntag 27. Januar
 \nTreffpunkt: Straßenbahnhaltestelle „Angerbrücke“ 10:00 Uhr.\nDie Wanderu
 ng führt uns zunächst gen Norden entlang der Kleinen Luppe\, der Nahle und
  Neuen Luppe zum Schloss Lützschena mit dem herrlichen Schlosspark. Schon 
 1685 wird ein Lustgarten auf dem Rittergut Lützschena erwähnt. Seinen beso
 nderen Reiz erhielt er durch die Einbettung in die wunderbare Landschaft d
 es Auwaldes. Der Park wurde seither immer weiterentwickelt und wird vom Fl
 usslauf der Elster umschlängelt. Das Wasser begleitet den Besucher und ref
 lektiert die besondere Schönheit der Tempel\, die auf Inseln oder kleinen 
 Erhebungen im satten Grün des Parks auftauchen.\nZum Mittag kehren wir unw
 eit des Schlosses in die Grüne Aue ein. Nach der Stärkung wandern wir weit
 er auf dem Elsterradweg bis zum Planetarium Schkeuditz\, wo uns 16:00 Uhr 
 der Vortrag 'Einsteins Universum' erwartet. Das Planetarium war zu DDR-Zei
 ten noch durchgängig geöffnet und wurde vor allem für den Schulunterricht 
 genutzt. Heute betreibt es der „Freundeskreis Planetarium e.V.“ Schkeuditz
  und hält es ehrenamtlich mit viel Einsatz und Freude am Leben. (siehe Hom
 epage)\nVon Schkeuditz aus kommt man anschließend mit der S-Bahn schnell n
 ach Leipzig (immer zur Minute 12 und 42) oder Halle (Minute 21 und 51)\, w
 o die Nicht-Leipziger den Heimweg antreten können.\nOrganisatorisches\nBit
 te meldet euch zu einer oder beiden Wanderungen bis zum 19. Januar bei mkr
 aus70&lt\;@&gt\;yahoo.de oder unter der Telefonnummer 0176-31330108 an\, d
 amit ich Plätze für das Sonntags-Mittagessen und den Planetariumsbesuch re
 servieren kann. Bitte gebt an\, ob ihr eine Übernachtungsmöglichkeit benöt
 igt. Mögliche Kosten für die Übernachtung sind vor Ort zu entrichten. Der 
 Zoobesuch kostet 17 € pro Person\, Ermäßigt 14 €\, Kinder 10 €. (Gruppe gg
 f. weniger) Der Planetariumsbesuch kostet 3 € pro Person.\nEs grüßt und fr
 eut sich auf euch:\nDer Micha
DTSTART:20190126T090000Z
DTEND:20190126T210000Z
GEO:00;0
LOCATION:
ORGANIZER:
SEQUENCE:1
SUMMARY:Wanderung im Leipziger Norden und Nordwesten
TRANSP:OPAQUE
URL:https://test.apricus-ev.de/component/icagenda/wanderung-im-leipziger-no
 rden-und-zoo/2019-01-26-10-00?layout=vcal
END:VEVENT
END:VCALENDAR
