BEGIN:VCALENDAR
VERSION:2.0
PRODID:-//TEST Apricus e.V.//NONSGML kigkonsult.se iCalcreator 2.41.92//
CALSCALE:GREGORIAN
METHOD:PUBLISH
UID:33653433-3063-4732-b763-333364623138
X-WR-CALNAME:iCagenda
X-WR-CALDESC:Event Management Extension for Joomla!
X-WR-RELCALID:3E26604A-50F4-4449-8B3E-E4F4932D05B5
X-WR-TIMEZONE:Europe/Berlin
BEGIN:VTIMEZONE
TZID:Europe/Berlin
TZUNTIL:20270328T010000Z
BEGIN:STANDARD
TZNAME:CET
DTSTART:20241027T030000
TZOFFSETFROM:+0200
TZOFFSETTO:+0100
RDATE:20251026T030000
RDATE:20261025T030000
END:STANDARD
BEGIN:DAYLIGHT
TZNAME:CEST
DTSTART:20250330T020000
TZOFFSETFROM:+0100
TZOFFSETTO:+0200
RDATE:20260329T020000
END:DAYLIGHT
END:VTIMEZONE
BEGIN:VEVENT
UID:37663531-3462-4039-b037-643336626366
DTSTAMP:20260425T214123Z
CATEGORIES:Wandern
CLASS:PUBLIC
DESCRIPTION;ALTREP="CID:<FFFF__=0ABBE548DFE235B58f9e8a93d@coffeebean.com>":
 Am Sonntag\, den 07.09.2025\, geht es am wasserreichen südöstlichen Ende v
 on Berlin von Köpenick großteils entlang verschiedener Gewässer von Köpeni
 ck über Müggelheim bis nach Friedrichshagen.\nStart ist am südlichen Ende 
 von Köpenick. Von dort aus geht es am Ufer des Langen Sees\, durch den die
  Dahme fließt\, und später entlang der Großen Krampe bis nach Müggelheim. 
 Unterwegs bietet sich ein Abstecher auf den Müggelberg an\, wo man vom Müg
 gelturm eine schöne Aussicht auf die Gegend hat. Anschließend geht es durc
 h die Müggelspreeniederung an der Krummen Laake vorbei Richtung Kleiner Mü
 ggelsee und von dort aus immer entlang des Müggelsees\, des größten Sees B
 erlins\, bis nach Friedrichshagen\, wo die Tour endet.\n\nTreffpunkt: 9:50
 &nbsp\;Uhr Tram-Haltestelle Wendenschloss\nAnreise: S-Bahn S3 bis S-Bahnho
 f Köpenick\, von dort mit der Tram Nr.&nbsp\;62 bis Haltestelle Wendenschl
 oss\nRückfahrt: alle 10 min. vom S-Bahnhof Friedrichshagen\n\nDie Strecke 
 ist etwa 20&nbsp\;km lang (mit Abstecher auf den Müggelberg wären es 3 km 
 mehr). Bitte Verpflegung mitbringen\, ein Gaststättenbesuch ist nicht gepl
 ant.\nGäste zahlen wie immer einen Versicherungsbeitrag von 1€ für die Spo
 rtversicherung.\nAnmeldung bitte bis 05.09.2025 unter markus.grabolle@gmai
 l.com oder 01577-9414660\nBis dahin\,Markus
DTSTART:20250907T080000Z
DTEND:20250907T160000Z
GEO:00;0
LOCATION:
ORGANIZER:
SEQUENCE:1
SUMMARY:Wandern im Südosten Berlins
TRANSP:OPAQUE
URL:https://test.apricus-ev.de/component/icagenda/wanderung-im-raum-berlin?
 layout=vcal
END:VEVENT
END:VCALENDAR
