BEGIN:VCALENDAR
VERSION:2.0
PRODID:-//TEST Apricus e.V.//NONSGML kigkonsult.se iCalcreator 2.41.92//
CALSCALE:GREGORIAN
METHOD:PUBLISH
UID:63326266-6539-4930-a532-303938623639
X-WR-CALNAME:iCagenda
X-WR-CALDESC:Event Management Extension for Joomla!
X-WR-RELCALID:3E26604A-50F4-4449-8B3E-E4F4932D05B5
X-WR-TIMEZONE:Europe/Berlin
BEGIN:VTIMEZONE
TZID:Europe/Berlin
TZUNTIL:20271031T010000Z
BEGIN:STANDARD
TZNAME:CET
DTSTART:20251026T030000
TZOFFSETFROM:+0200
TZOFFSETTO:+0100
RDATE:20261025T030000
END:STANDARD
BEGIN:DAYLIGHT
TZNAME:CEST
DTSTART:20250330T020000
TZOFFSETFROM:+0100
TZOFFSETTO:+0200
RDATE:20260329T020000
RDATE:20270328T020000
END:DAYLIGHT
END:VTIMEZONE
BEGIN:VEVENT
UID:38323232-3233-4037-a531-373162313336
DTSTAMP:20260425T214124Z
CATEGORIES:Wandern
CLASS:PUBLIC
DESCRIPTION;ALTREP="CID:<FFFF__=0ABBE548DFE235B58f9e8a93d@coffeebean.com>":
 ...und&nbsp\;Finale in der Sauna\nHallöchen alle\,\nam Samstag den 14.2. w
 ollen wir eine kleine Wanderung von Leipzig nach Markkleeberg zum Cospuden
 er See machen.\nDer Weg ist besonders toll\, weil er praktisch&nbsp\;– bis
  auf die ersten 500&nbsp\;Meter&nbsp\;– nur durch Parks oder am Wasser ent
 langführt und das\, obwohl wir am Mittelpunkt von Leipzig-Lindenau starten
 \, am Lindenauer Markt. Der Weg führt uns dann durch den Palmengarten und 
 den Clara-Zetkin-Park am Elstergraben entlang heraus aus der Stadt bis zum
  Nordufer des Cospudener Sees – einer der beliebtesten ehemaligen Tagebaus
 een um Leipzig\, weil er schnell zu erreichen ist und eben die Wege dahin 
 komplett im Grünen liegen.\nDort wandern wir die Ostseite entlang bis zur 
 Bistumshöhe. Hier lädt uns der Shambala-Imbiss zu Wildbratwurst oder Crêpe
 s ein und wir können den Aussichtsturm 180&nbsp\;Stufen hoch besteigen und
  die weite Aussicht auf die Seenlandschaft oder nach Leipzig hinein genieß
 en.\nAnschließend wandern wir am Südufer entlang auf die andere Seite des 
 Sees\, wo die Wanderung in der „Sauna im See“ gegen 15:00&nbsp\;Uhr endet.
  Dort ist nicht nur eine Sauna\, sondern gibt es auch weitere Spa-Attrakti
 onen zu erleben und man kann auch Kaffee trinken oder essen – also ein vol
 les Programm. Die Sauna wollen wir dann auch nutzen und – wer das aushält 
 – die Abkühlung zwischen den Sauna-Gängen direkt im See suchen. (Keine Ang
 st\, das Saunieren soll keine neue Sportart bei Apricus werden :-) )\n\nTr
 effpunkt&nbsp\;1: 09:15&nbsp\;Uhr\, Bäcker Lukas Lindenauer Markt – zum Fr
 ühstück\nTreffpunkt&nbsp\;2: 10:00&nbsp\;Uhr\, Bäcker Lukas Lindenauer Mar
 kt – Start der Tour\nZiel: 15:00&nbsp\;Uhr\, Sauna im See\, Cospudener See
 \, Hafenstraße 19\, Markkleeberg\nNächster Bahnhof: Markleeberg-Großstädte
 ln\, ca. 2\,5&nbsp\;km (2 S-Bahnen fahren hier regelmäßig)\nNächster Bus: 
 ca. 700m\, Zöbigker Schmiede\, Bus 106 nach Markkleeberg (S-Bahn) immer xx
 :06&nbsp\;Uhr\n\nMitzubringen für Saunagänger:\n\nEigentlich gibt es alles
  auszuleihen\, kostet aber was.\nDarum wahlweise Handtuch\, Bademantel\, B
 adelatschen mitbringen.\n\nAnmelden:\n\nFür die reine Wanderung nicht notw
 endig.\nWer mit in die Sauna&nbsp\;/ das Spa kommen will\, bitte bis 8.2. 
 bei mkraus70@yahoo.de oder unter 0176 31330108\n\nKosten:\n\n1€ für Nichtm
 itglieder als Versicherungsbeitrag\nAlle sonstigen Kosten\, incl. Sauna\, 
 sind selbst vor Ort zu entrichten.\n\nBis Mitte Februar dann draußen am Co
 ssi -es freut sich Der Micha
DTSTART:20260214T090000Z
DTEND:20260214T170000Z
GEO:00;0
LOCATION:
ORGANIZER:
SEQUENCE:1
SUMMARY:Winterwanderung zum Cossi und Shambala auf der Bistumshöhe
TRANSP:OPAQUE
URL:https://test.apricus-ev.de/component/icagenda/wanderung-im-raum-leipzig
 -2?layout=vcal
END:VEVENT
END:VCALENDAR
