BEGIN:VCALENDAR
VERSION:2.0
PRODID:-//TEST Apricus e.V.//NONSGML kigkonsult.se iCalcreator 2.41.92//
CALSCALE:GREGORIAN
METHOD:PUBLISH
UID:61323164-6332-4265-a130-626236353832
X-WR-CALNAME:iCagenda
X-WR-CALDESC:Event Management Extension for Joomla!
X-WR-RELCALID:3E26604A-50F4-4449-8B3E-E4F4932D05B5
X-WR-TIMEZONE:Europe/Berlin
BEGIN:VTIMEZONE
TZID:Europe/Berlin
TZUNTIL:20221030T010000Z
BEGIN:STANDARD
TZNAME:CET
DTSTART:20191027T030000
TZOFFSETFROM:+0200
TZOFFSETTO:+0100
RDATE:20201025T030000
RDATE:20211031T030000
END:STANDARD
BEGIN:DAYLIGHT
TZNAME:CEST
DTSTART:20200329T020000
TZOFFSETFROM:+0100
TZOFFSETTO:+0200
RDATE:20210328T020000
RDATE:20220327T020000
END:DAYLIGHT
END:VTIMEZONE
BEGIN:VEVENT
UID:64643063-6439-4432-b538-353763373632
DTSTAMP:20260425T215225Z
CATEGORIES:Wandern
CLASS:PUBLIC
DESCRIPTION;ALTREP="CID:<FFFF__=0ABBE548DFE235B58f9e8a93d@coffeebean.com>":
 Hallo liebe Apricusse und Wanderfreunde\,\nTorsten bietet im Rahmen des Pr
 ojekts 'Kultur mobil' der Stadt Coswig (Anhalt) und des Naturparks Fläming
  / Sachsen-Anhalt eine Wanderung in der schönen Gegend um Coswig an\, zu d
 er auch alle Apricusse herzlich eingeladen sind.\nWer von weiter weg per B
 ahn anreist\, hat folgende Optionen: An- und Abreise zum Hubertusberg (ca.
  5&nbsp\;km von Coswig in Richtung Möllensdorf) individuell zu Fuß über de
 n ausgeschilderten Bismarck-Stieg (6 km vom Bahnhof aus)\, per Rad oder du
 rch Mitnahmemöglichkeit im Pkw nach Absprache.\n\nZugverbindungen bestehen
  stündlich nach Wittenberg bzw. Dessau-Roßlau\, von dort jeweils Umsteigem
 öglichkeiten Richtung Berlin und Leipzig&nbsp\;/ Halle.\n\n\nTourbeschreib
 ung\nWir treffen uns vor der Gaststätte Hubertusberg\, die an diesem Tag a
 b 11:30&nbsp\;Uhr geöffnet haben wird. Wer mag\, kann dort auch vorher ber
 eits einen Happen zu Mittag gegessen haben.\nWir steigen ab in das Tal des
  Grieboer Baches. Zwei ehemalige Wüstungen machen nur noch durch ihre Flur
 namen auf sich ausmerksam\, zunächst Knosdorf\, später dann Dahlen&shy\;do
 rf\, auch Dalau genannt. Im Gebiet eines Flächennatur&shy\;denk&shy\;males
  finden sich vielleicht noch einige Biberspuren\; zumindest sehen wir\, wi
 e der Biber dort die Landschaft gestaltet hat. Möllensdorf erreichen wir d
 ort\, wo im Dezember stets der inzwischen weithin bekannte Waldweihnachtsm
 arkt stattfindet. Im Dorf entdecken wir noch einen restaurierten Ziehbrunn
 en. Nach einer kurzen Besichtigung der spätromanischen Feldstein-Flämingki
 rche in Möllensdorf verlassen wir das Dorf auf dem Weg in Richtung Wahlsdo
 rf.\nNach einem längeren leichten aber stetigen Anstieg entdecken wir eine
  alte Wegemarkierung\, die auf die Wege&shy\;kreuzung Wörpen – Pülzig und 
 Möllensdorf – Wahlsdorf hinweist. Wir schlagen die Richtung Wörpen ein\, l
 eider ist die einstige Feldweg-Allee unpassierbar geworden\, sodass wir li
 nks oder rechts davon an den Feldrand ausweichen müssen. In Wörpen entdeck
 en wir eine weitere Fläming&shy\;kirche und ein altes Fachwerkhaus.\nDer f
 olgende Weg bis auf den Hubertusberg wird im weiteren Verlauf etwas abente
 uerlich\, da der frühere Pfad zum Teil nur noch eine angedeutete Pfadspur 
 ist. Eine Restaurierung dieses Pfades wäre wünschenswert\, aber wir lassen
  uns von einigen Metern „querwaldein“ auf Tierpfaden nicht schrecken und e
 robern den 142&nbsp\;m hohen Hubertusberg\, freunden uns mit Tieren alter 
 Ziegen- und Schaferassen an\, besteigen vielleicht den Bismarckturm oder l
 aben uns am selbstgebackenen Kuchen in der Ausflugsgaststätte\, wo wir den
  schönen Wandernachmittag dann gemütlich ausklingen lassen können.\nDie ge
 samte Rundwander-Strecke ist etwa 9 Kilometer lang.\n\nDie Veranstaltung w
 ird über das Projekt „Kultur mobil: Natur trifft Kunst und Kultur in der S
 tadt Coswig / Anhalt“ gefördert.\nDiese Wanderung war ursprünglich bereits
  am 21.03.2020 geplant\, musste aber wegen des Corona-Lockdowns verschoben
  werden.
DTSTART:20201004T110000Z
DTEND:20201004T170000Z
GEO:00;0
LOCATION:
ORGANIZER:
SEQUENCE:1
SUMMARY:Teilnahme an der Wanderung auf der Möllensdorf-Wörpener Runde
TRANSP:OPAQUE
URL:https://test.apricus-ev.de/component/icagenda/wanderung-moellensdorf-wo
 erpener-runde?layout=vcal
END:VEVENT
END:VCALENDAR
