BEGIN:VCALENDAR
VERSION:2.0
PRODID:-//TEST Apricus e.V.//NONSGML kigkonsult.se iCalcreator 2.41.92//
CALSCALE:GREGORIAN
METHOD:PUBLISH
UID:39363437-3864-4162-a337-346665306330
X-WR-CALNAME:iCagenda
X-WR-CALDESC:Event Management Extension for Joomla!
X-WR-RELCALID:3E26604A-50F4-4449-8B3E-E4F4932D05B5
X-WR-TIMEZONE:Europe/Berlin
BEGIN:VTIMEZONE
TZID:Europe/Berlin
TZUNTIL:20251026T010000Z
BEGIN:STANDARD
TZNAME:CET
DTSTART:20231029T030000
TZOFFSETFROM:+0200
TZOFFSETTO:+0100
RDATE:20241027T030000
END:STANDARD
BEGIN:DAYLIGHT
TZNAME:CEST
DTSTART:20240331T020000
TZOFFSETFROM:+0100
TZOFFSETTO:+0200
RDATE:20250330T020000
END:DAYLIGHT
END:VTIMEZONE
BEGIN:VEVENT
UID:63633133-6165-4861-b866-353665386339
DTSTAMP:20260425T213426Z
CATEGORIES:Wandern
CLASS:PUBLIC
DESCRIPTION;ALTREP="CID:<FFFF__=0ABBE548DFE235B58f9e8a93d@coffeebean.com>":
 Wanderwochenende in und um Eisenach\n 1. Tag: Wir treffen uns wie oben ang
 egeben am Regionalbahnhof Sättelstädt. Von hier aus steigen wir auf den Gr
 oßen Hörselberg (484 m). Über einen Kammweg gelangen wir zum Kleinen Hörse
 lberg (436 m). Was die Hörselberge mit Wodan\, Frau Venus\, Tannhäuser\, F
 rau Holle und Meister Eckart zu tun haben\, werden wir unterwegs herausfin
 den.\nJe nach Wetterlage und Wanderlust laufen wir entweder weiter über de
 n Trenkelhof\, die Rabenwiese und den Petersberg nach Eisenach (ca. 16&nbs
 p\;km) oder steigen bis Wutha-Farnroda ab und fahren das letzte Stück mit 
 der Regionalbahn nach Eisenach. Wir übernachten im Hostel „Alte Brauerei“.
  Ich habe dort ein 6-Bettzimmer reserviert\, erstmal ohne Frühstück. Wer m
 öchte\, organisiert sich die Übernachtung selbst. Abends kehren wir ein\, 
 Plätze werde ich reservieren.\n 2. Tag: Nach dem Frühstück\, geht es berga
 uf zum Burschenschaftsdenkmal\, mit Blick zur Wartburg\, weiter zur Moosba
 cher Linde. Über einen Höhenrücken gelangen wir zur Landgrafenschlucht. Di
 eses Naturdenkmal passieren wir (am Wochenende nicht alleine). Rückkehr na
 ch Eisenach entlang beeindruckender Jugendstilvillen mit Abschiedskaffeetr
 inken.\nLeichtes Gepäck\, feste Schuhe und Proviant sind empfehlenswert. W
 ettergerechte Bekleidung auch - auf dem Kammweg wird es windig sein.\nKost
 en: Die Veranstaltung besteht aus zwei Tageswanderungen - d.h. die Teilnah
 me an den Wanderungen selbst ist für Apricus-Mitglieder kostenlos\, Apricu
 s-Gäste zahlen 1 Euro Beitrag pro Tag für die Sportversicherung. Für die Ü
 bernachtung sind die Kosten selbst zu tragen (das 6-Bettzimmer kostet 126 
 Euro)\, Tourismusförderabgabe 1 Euro.\nVerpflegung: in Eigenregie. In Eise
 nach gibt es verschiedene Einkaufsmöglichkeiten (Kaufland am Hauptbahnhof 
 hat sonnabends bis 20 Uhr auf).\nAnfahrt: Autofahrer informieren sich bitt
 e selbst. Mit der Bahn:\n\nBerlin Hbf:. ab 07:34&nbsp\;Uhr mit ICE 701 - a
 n Erfurt 9:24&nbsp\;Uhr\, ab Erfurt 10&nbsp\;Uhr mit RB&nbsp\;20 - an Sätt
 elstädt 10:32&nbsp\;Uhr\nLeipzig Hbf:.\n\nab 08:19&nbsp\;Uhr mit RB&nbsp\;
 20\, an Sättelstädt 10:32&nbsp\;Uhr oder\nab 08:48&nbsp\;Uhr mit ICE&nbsp\
 ;279 - an Erfurt: 09:28&nbsp\;Uhr\, ab Erfurt 10&nbsp\;Uhr mit RB 20 - an 
 Sättelstädt 10:32&nbsp\;Uhr.\n\n\nEisenach Hbf. ab 10:06&nbsp\;Uhr - an Sä
 ttelstädt 10:16&nbsp\;Uhr\n\nRückfahrt:\n\nEisenach hat einen ICE-Anschlus
 s. Die Regionalbahn (RB 20) fährt stündlich.\n\nAnmeldungen:\nBitte an Ank
 e Siegemund bis zum 10.04.2024\, per Mail: anke_siegemund@hotmail.com oder
  Tel.: 0176 43629173. Gebt bei der Anmeldung mit an\, ob Ihr gemeinsam im 
 o.g. Hostel übernachten wollt\, oder Euch selbst kümmert.\nIch freue mich 
 auf ein schönes Frühlingswanderwochenende.Anke
DTSTART:20240420T080000Z
DTEND:20240421T160000Z
GEO:00;0
LOCATION:
ORGANIZER:
SEQUENCE:1
SUMMARY:Rund um Eisenach
TRANSP:OPAQUE
URL:https://test.apricus-ev.de/component/icagenda/wanderung-rund-um-eisenac
 h?layout=vcal
END:VEVENT
END:VCALENDAR
