BEGIN:VCALENDAR
VERSION:2.0
PRODID:-//TEST Apricus e.V.//NONSGML kigkonsult.se iCalcreator 2.41.92//
CALSCALE:GREGORIAN
METHOD:PUBLISH
UID:61616630-3238-4366-b062-333936666333
X-WR-CALNAME:iCagenda
X-WR-CALDESC:Event Management Extension for Joomla!
X-WR-RELCALID:3E26604A-50F4-4449-8B3E-E4F4932D05B5
X-WR-TIMEZONE:Europe/Berlin
BEGIN:VTIMEZONE
TZID:Europe/Berlin
TZUNTIL:20230326T010000Z
BEGIN:STANDARD
TZNAME:CET
DTSTART:20201025T030000
TZOFFSETFROM:+0200
TZOFFSETTO:+0100
RDATE:20211031T030000
RDATE:20221030T030000
END:STANDARD
BEGIN:DAYLIGHT
TZNAME:CEST
DTSTART:20210328T020000
TZOFFSETFROM:+0100
TZOFFSETTO:+0200
RDATE:20220327T020000
END:DAYLIGHT
END:VTIMEZONE
BEGIN:VEVENT
UID:30636364-3437-4530-b162-373039653233
DTSTAMP:20260425T231852Z
CATEGORIES:Wandern
CLASS:PUBLIC
DESCRIPTION;ALTREP="CID:<FFFF__=0ABBE548DFE235B58f9e8a93d@coffeebean.com>":
 Liebe Leute\,\ndie gesundheitliche Gesamtsituation hat sich glücklicherwei
 se etwas entspannt\, so dass wir Euch kurzfristig\, wie schon im Jahrespro
 gramm angekündigt\, doch zu einem Wochenende in der wunderbaren Sächsische
 n Schweiz einladen wollen. Geplant ist eine sportliche Wanderung über eini
 ge der schönsten Wege des Gebirges im Gebiet Schramm&shy\;steine/Affen&shy
 \;steine. Es gibt dort grandiose Ausblicke\, schaurige Schluchten\, spekta
 kuläre Felsen und wilde Tiere (ja\, auch Löwen) zu bestaunen. Dazu gratis 
 jede Menge Sand und sterbenden Wald…\nWer auch noch wissen möchte\, wieso 
 diese Landschaft so seltsam schön gestaltet ist\, kann dies unterwegs gern
  erfahren.\nAchtung!!! Die Wege sind nicht barrierefrei. Das bedeutet\, da
 ss es immer mal wieder luftig wird und wir einige Stiegen (so heißen dort 
 die Klettersteige) begehen werden. Diese sind normalerweise für jeden gang
 bar\, man muss aber schon mal die Hände aus den Taschen nehmen und zufasse
 n... Sicherheitshalber nehmen wir etwas Material zum Sichern mit\, falls d
 och jemand unsicher wird\, aber eigentlich sollte es nicht notwendig sein.
  Um dabei die Übersicht nicht zu verlieren\, ist die Teilnehmerzahl auf 8 
 begrenzt.\nWir übernachten an regengeschützten Plätzen im 1000-Sterne-Hote
 l – also im Freien. Ein Zelt ist nicht nötig - Isomatte und Schlafsack sch
 on. Wer abends etwas Warmes essen oder trinken möchte\, sollte einen Koche
 r mitbringen. Auch sonst ist jeder für Verpflegung selbst verantwortlich. 
 Einkehrmöglichkeiten können nicht garantiert werden. Für Trinkwasser gibt 
 es Quellen.\nTeilnehmerbeitrag fällt nicht an. Lediglich Nichtmitglieder z
 ahlen 1 € Versicherungsgebühr pro Tag.\nWir treffen uns am Freitag dem 25.
 &nbsp\;Juni um 20:50&nbsp\;Uhr am Bahnhof Krippen. Um diese Uhrzeit kommt 
 hier die S-Bahn aus Richtung Dresden&nbsp\;/ Bad&nbsp\;Schandau an. Wir ge
 hen dann gemeinsam zur Fähre (kostet etwa 2&nbsp\;€) und setzen auf die an
 dere Elbseite über. Es ist dann noch etwa 1&nbsp\;h Fußweg. (eventuell kön
 nen wir uns auch früher treffen\, das würden wir dann noch direkt miteinan
 der absprechen)\nIm Sinne der gegenseitigen Rücksichtnahme bitten wir jede
 n Teilnehmer vorher einen Corona-Test selbst oder amtlich gemacht zu haben
 .\nFür Anmeldungen und Nachfragen wendet Euch bitte an unsere Serviceabtei
 lung:\n\nOsama.mustafa@uni-jena.de\n015778306406 (abends)\n\nWenn Ihr schr
 eibt\, gebt bitte eine Mobiltelefonnummer an\, damit wir uns auch kurzfris
 tig noch absprechen können.\nWir freuen uns auf Euch\,Aziza &amp\; Osama
DTSTART:20210625T180000Z
DTEND:20210627T160000Z
GEO:00;0
LOCATION:
ORGANIZER:
SEQUENCE:1
SUMMARY:Wanderung/Steige in der Sächsischen Schweiz
TRANSP:OPAQUE
URL:https://test.apricus-ev.de/component/icagenda/wanderung-steige-in-der-s
 aechsischen-schweiz?layout=vcal
END:VEVENT
END:VCALENDAR
