BEGIN:VCALENDAR
VERSION:2.0
PRODID:-//TEST Apricus e.V.//NONSGML kigkonsult.se iCalcreator 2.41.92//
CALSCALE:GREGORIAN
METHOD:PUBLISH
UID:63666636-3462-4536-a531-313462353038
X-WR-CALNAME:iCagenda
X-WR-CALDESC:Event Management Extension for Joomla!
X-WR-RELCALID:3E26604A-50F4-4449-8B3E-E4F4932D05B5
X-WR-TIMEZONE:Europe/Berlin
BEGIN:VTIMEZONE
TZID:Europe/Berlin
TZUNTIL:20261025T010000Z
BEGIN:STANDARD
TZNAME:CET
DTSTART:20241027T030000
TZOFFSETFROM:+0200
TZOFFSETTO:+0100
RDATE:20251026T030000
END:STANDARD
BEGIN:DAYLIGHT
TZNAME:CEST
DTSTART:20240331T020000
TZOFFSETFROM:+0100
TZOFFSETTO:+0200
RDATE:20250330T020000
RDATE:20260329T020000
END:DAYLIGHT
END:VTIMEZONE
BEGIN:VEVENT
UID:36323738-3936-4533-a162-353031323837
DTSTAMP:20260425T231748Z
CATEGORIES:Wandern
CLASS:PUBLIC
DESCRIPTION;ALTREP="CID:<FFFF__=0ABBE548DFE235B58f9e8a93d@coffeebean.com>":
 Am Samstag vor dem Planungstreffen laden wir euch zu einer Wanderung durch
  das Coswiger Luch ein. Bei hoffentlich angenehmem Herbstwetter genießen w
 ir die schöne\, entspannende Landschaft an der Elbe und bekommen\, wenn wi
 r Glück haben\, auch den einen oder anderen Vogel oder vielleicht auch ein
 en Biber zu sehen.\nDie Tour endet wieder in Coswig\, wo wir bei der Vietn
 amesin einkehren werden. Falls ihr Lust habt gibt es nach dem Mittagessen 
 noch eine kleine Spezialführung durch Coswig.\nStart ist am Bahnhof Coswig
  um 10:30&nbsp\;Uhr\, nach dem aus Dessau kommenden Zug\, der nach Möglich
 keit abgewartet wird.\nZur Reservierung der Gaststättenplätze ist eine Vor
 anmeldung bis spätestens 14.&nbsp\;November bei Torsten (thapricus@aol.com
 ) oder telefonisch unter 034903-189761 (ggf. auf den AB sprechen) empfehle
 nswert.\nBis bald in Coswig!
DTSTART:20241116T093000Z
DTEND:20241116T130000Z
GEO:00;0
LOCATION:
ORGANIZER:
SEQUENCE:1
SUMMARY:Wanderung um Coswig (Anhalt)
TRANSP:OPAQUE
URL:https://test.apricus-ev.de/component/icagenda/wanderung-um-coswig-anhal
 t?layout=vcal
END:VEVENT
END:VCALENDAR
