BEGIN:VCALENDAR
VERSION:2.0
PRODID:-//TEST Apricus e.V.//NONSGML kigkonsult.se iCalcreator 2.41.92//
CALSCALE:GREGORIAN
METHOD:PUBLISH
UID:34376436-3437-4564-a231-643530373231
X-WR-CALNAME:iCagenda
X-WR-CALDESC:Event Management Extension for Joomla!
X-WR-RELCALID:3E26604A-50F4-4449-8B3E-E4F4932D05B5
X-WR-TIMEZONE:Europe/Berlin
BEGIN:VTIMEZONE
TZID:Europe/Berlin
TZUNTIL:20271031T010000Z
BEGIN:STANDARD
TZNAME:CET
DTSTART:20251026T030000
TZOFFSETFROM:+0200
TZOFFSETTO:+0100
RDATE:20261025T030000
END:STANDARD
BEGIN:DAYLIGHT
TZNAME:CEST
DTSTART:20260329T020000
TZOFFSETFROM:+0100
TZOFFSETTO:+0200
RDATE:20270328T020000
END:DAYLIGHT
END:VTIMEZONE
BEGIN:VEVENT
UID:36636238-3439-4363-b765-643462366131
DTSTAMP:20260425T213434Z
CATEGORIES:Wandern
CLASS:PUBLIC
DESCRIPTION;ALTREP="CID:<FFFF__=0ABBE548DFE235B58f9e8a93d@coffeebean.com>":
 Sa: Wir treffen uns am Regionalbahnhof Sättelstädt. Von hier aus steigen w
 ir direkt zum Kammweg der Hörselberge hinauf. Wir erleben einen einzigarti
 gen Panoramablick weit über die Höhen des Thüringer Waldes. Im Hörselbergh
 aus kehren wir ein. Die Wanderung endet in Eisenach (ca. 16 km).\nSo: Wir 
 treffen uns am ZOB Eisenach und fahren mit dem Bus an den Rand des Hainich
 s. Wir durchqueren den Hainich zu Fuß und kehren in der urigen Hainichbaud
 e ein. In Thiemsburg besteht die Möglichkeit den Baumkronenpfad zu besuche
 n. In Thiemsburg endet unsere Wanderung. Von Thiemsburg aus fahren Busse R
 ichtung Langensalza und Eisenach\, wo jeweils Regionalbahnanschluss besteh
 t.
DTSTART:20260418T080000Z
DTEND:20260419T150000Z
GEO:00;0
LOCATION:
ORGANIZER:
SEQUENCE:1
SUMMARY:Wanderwochenende bei Eisenach
TRANSP:OPAQUE
URL:https://test.apricus-ev.de/component/icagenda/wanderwochenende-bei-eise
 nach?layout=vcal
END:VEVENT
END:VCALENDAR
