BEGIN:VCALENDAR
VERSION:2.0
PRODID:-//TEST Apricus e.V.//NONSGML kigkonsult.se iCalcreator 2.41.92//
CALSCALE:GREGORIAN
METHOD:PUBLISH
UID:65623735-3532-4632-b565-313231316663
X-WR-CALNAME:iCagenda
X-WR-CALDESC:Event Management Extension for Joomla!
X-WR-RELCALID:3E26604A-50F4-4449-8B3E-E4F4932D05B5
X-WR-TIMEZONE:Europe/Berlin
BEGIN:VTIMEZONE
TZID:Europe/Berlin
TZUNTIL:20261025T010000Z
BEGIN:STANDARD
TZNAME:CET
DTSTART:20241027T030000
TZOFFSETFROM:+0200
TZOFFSETTO:+0100
RDATE:20251026T030000
END:STANDARD
BEGIN:DAYLIGHT
TZNAME:CEST
DTSTART:20250330T020000
TZOFFSETFROM:+0100
TZOFFSETTO:+0200
RDATE:20260329T020000
END:DAYLIGHT
END:VTIMEZONE
BEGIN:VEVENT
UID:30323530-3865-4132-b163-393936316162
DTSTAMP:20260425T213432Z
CATEGORIES:Wandern
CLASS:PUBLIC
DESCRIPTION;ALTREP="CID:<FFFF__=0ABBE548DFE235B58f9e8a93d@coffeebean.com>":
 Sonnabend\, den 05.04.25\n\n\nTreffpunkt: ZOB\, Eisenach\, um 10&nbsp\;Uhr
 \nAbfahrt: 10:10 Uhr ab Eisenach\, an 10:49 Uhr in Craula\, Hörselberg-Hai
 nich\nRückfahrt: 18:00 Uhr ab Craula\, H.-H. - an 18:41 Uhr in Eisenach\, 
 ZOB\n\nWir treffen uns am ZOB Eisenach und fahren mit dem Bus 150 nach Cra
 ula. Am Craulaer Kreuz „tauchen“ wir in den frühlingserwachenden Buchenwal
 d ein. Den ganzen Tag lang wandern wir durch den reinen Buchenwald in sein
 en unterschiedlichen Entwicklungsstadien. Hier konnte sich die Natur rund 
 um die alten Buchen weitestgehend frei von menschlichen Einflüssen entwick
 eln. Eindrucksvolle Totholzstämme finden sich entlang des Weges. Am Wegekr
 euz Otterbühl lässt es sich gut rasten. Hier finden wir reichlich Bärlauch
 .\nUnsere Wanderung führt durch das Lange Tal weiter über die Himmelsleite
 r treppauf durch den Sperbersgrund. Der naturbelassene Waldweg führt zum M
 aßholder an der Craulaer Lehde hinauf. An dieser Stelle lässt es sich wied
 er gut rasten\, bevor wir zum Aussichtspunkt Wartburgblick gelangen. Wir s
 ind hier am Rande des ehemaligen Truppenübungsplatzes „Kindel“. Unser Weg 
 führt am Waldrand entlang. Dieser ist geprägt von Totholz- und Verjüngungs
 flächen. Bei der Turnerbank befindet sich die dickste bekannte Buche im Na
 tionalpark Hainich. Von ihr ist allerdings nur noch ein Stumpf von 4 m Höh
 e übrig. Über den Hainich-Rennstieg sowie den Hainichlandweg gelangen wir 
 über das Craulaer Kreuz zurück nach Craula.\n\nTourlänge: ca. 14 km\nEinke
 hrmöglichkeiten: in Craula sowie am Craulaer Kreuz in der urigen„Hainichba
 ude“.\n\nSonntag\, den 06.04.2025\n\nTreffpunkt: ZOB\, Eisenach\, um 10 Uh
 r\nAbfahrt: 10:10 Uhr ab Eisenach\, an 10:32 Uhr in Hütscheroda\, Hörselbe
 rg-Hainich\nRückfahrt: 15:27 Uhr ab Hütscheroda\, an 15:51 Uhr in Eisenach
 \n\nWir treffen uns am ZOB Eisenach und fahren mit dem Bus 150 nach Hütsch
 eroda. Das Dörfchen hat ein „Herrenhaus“ mit Tagungshotel und Restaurant. 
 Im Garten sind Skulpturen zu sehen. In der Region finden regelmäßige Bildh
 auer-Symposien statt\, deren Ergebnisse rund um Hütscheroda zu sehen sind.
  Neben der Kunst erhielt das Dörfchen mit der Wildkatze ein zweites Aushän
 geschild. Seit einiger Zeit gibt es im Hainich wieder Wildkatzen.&nbsp\;Zu
  sehen bekommt man die scheuen und seltenen Tiere in der Wildkatzenschauan
 lage. Weitere interessante Infos erfährt man in der Wildkatzenscheune.\nUn
 sere Wanderung führt uns durch abwechslungsreiche Landschaften im und am N
 ationalpark Hainich. Wir wandern dorfauswärts an verschiedenen Skulpturen 
 vorbei\, Richtung Wangenheimer Grenzstein über die Wüstung Heßwinkel. Der 
 Heßwinkel ist die zeitlich letzte Wüstung im Hainichgebiet. Auf dem Hainic
 hlandweg steigen wir allmählich bergauf in ein Waldstück. Unser Weg führt 
 an der Dicken Eiche vorbei zur Aussichts-Plattform Hainichblick. Sie liegt
  am Südrand des Nationalparks Hainich auf dem 448&nbsp\;m hochgelegenen He
 idelberg. Von hier kann man einen beeindruckenden Rundum-Blick über den Ha
 inich\, den Thüringer Wald mit Großen Inselsberg\, zur Rhön und zur Wartbu
 rg genießen. Aus nächster Nähe bietet sich auch eine Aussicht auf die Wied
 erbewaldung einstigen Militärgeländes. Bei gutem Wetter ist sogar der erst
 e grüne Korridor für die Wildkatze erkennbar. Er führt vom Nationalpark Ha
 inich über die Hörselberge zum Thüringer Wald. Auf Wiesenwegen entlang Wei
 ßdornsträuchern laufen wir nun durch Offenland mit weitem Blick in die Lan
 dschaft über den Mittelberg Richtung Hütscheroda.\n\nTourlänge: ca. 8&nbsp
 \;km\nEinkehrmöglichkeit: „Herrenhaus“\n\nKosten\nDie Veranstaltung besteh
 t aus zwei Tageswanderungen\, d.h. die Teilnahme an den Wanderungen selbst
  ist für Apricus-Mitglieder kostenlos. Apricus-Gäste zahlen 1&nbsp\;Euro B
 eitrag pro Tag für die Sportversicherung.\nFür die Übernachtung sind die K
 osten selbst zu tragen. Das reservierte 6-8 Bettzimmer im Hostel der „Alte
 n Brauerei“ kostet 158&nbsp\;Euro\, die Tourismusförderabgabe 1&nbsp\;Euro
 .\nVerpflegung: In Eigenregie. Wir picknicken unterwegs hauptsächlich.\nAn
 fahrt:\n\nAutofahrer informieren sich bitte selbst.\nMit Zug: Eisenach hat
  einen ICE-Anschluss. Die Regionalbahn (RB 20) fährt stündlich.\n\nAnmeldu
 ngen:\nBitte an Anke Siegemund bis zum 19.03.2025\, per Mail: anke_siegemu
 nd@hotmail.com \, Tel.: 0176 43629173. Gebt bei der Anmeldung bitte an\, o
 b Ihr gemeinsam im o.g. Hostel übernachten wollt\, oder euch selbst etwas 
 organisiert.\nIch freue mich auf ein schönes FrühlingswanderwochenendeAnke
  S.
DTSTART:20250405T080000Z
DTEND:20250406T160000Z
GEO:00;0
LOCATION:
ORGANIZER:
SEQUENCE:1
SUMMARY:Wanderwochenende Hainich
TRANSP:OPAQUE
URL:https://test.apricus-ev.de/component/icagenda/wanderwochenende-hainich?
 layout=vcal
END:VEVENT
END:VCALENDAR
