BEGIN:VCALENDAR
VERSION:2.0
PRODID:-//TEST Apricus e.V.//NONSGML kigkonsult.se iCalcreator 2.41.92//
CALSCALE:GREGORIAN
METHOD:PUBLISH
UID:32653664-6539-4865-a436-353361383362
X-WR-CALNAME:iCagenda
X-WR-CALDESC:Event Management Extension for Joomla!
X-WR-RELCALID:3E26604A-50F4-4449-8B3E-E4F4932D05B5
X-WR-TIMEZONE:Europe/Berlin
BEGIN:VTIMEZONE
TZID:Europe/Berlin
TZUNTIL:20261025T010000Z
BEGIN:STANDARD
TZNAME:CET
DTSTART:20241027T030000
TZOFFSETFROM:+0200
TZOFFSETTO:+0100
RDATE:20251026T030000
END:STANDARD
BEGIN:DAYLIGHT
TZNAME:CEST
DTSTART:20240331T020000
TZOFFSETFROM:+0100
TZOFFSETTO:+0200
RDATE:20250330T020000
RDATE:20260329T020000
END:DAYLIGHT
END:VTIMEZONE
BEGIN:VEVENT
UID:36623938-3664-4338-b764-633233643830
DTSTAMP:20260425T215230Z
CATEGORIES:Wandern
CLASS:PUBLIC
DESCRIPTION;ALTREP="CID:<FFFF__=0ABBE548DFE235B58f9e8a93d@coffeebean.com>":
 \nAm 22. und 23.&nbsp\;Februar lad ich euch ein zweites Mal zu zwei Wander
 ungen im Muldental ein. Nachdem wir 2024 von Rochlitz über Colditz nach Gr
 imma gewandert sind\, starten wir dieses Jahr in Großsteinberg bei Grimma.
  Die Touren können als Einzeltouren mitgemacht werden\, oder als Wochenend
 e mit Unterkunft.\nSamstag\nWir starten um 10:06 Uhr mit der RB ab Leipzig
  Hbf und fahren erstmal nach Großsteinberg. Hier wandern wir los und schau
 en uns das Dorf etwas genauer an ohne groß stehen zu bleiben - aber ich sc
 hau' gern an alten Wirkungsstätten meiner Jugend vorbei. Am Großen Kiesber
 g entlang (Namensgeber) und über Grethen erreichen wir Grimma ca. drei vie
 rtel zwöl und besuchen erstmal das hiesige Kreismuseum mit seiner Holzspie
 lzeugausstellung aus vielen Zeiten und Regionen.\nDann gibt es Mittag in d
 er Gaststätte „Zur Großmühle“. Nach der Einkehr laufen wir größtenteils de
 n Muldentalradweg über Nerchau bis nach Trebsen. Unterwegs liegen ein lieb
 evoll gepflegtes „Italienergrab“ aus dem 2.&nbsp\;Weltkrieg und der schön 
 hergerichtete alte Bahnhof Nerchau. Ansonsten ist es ein schöner Rad- und 
 Wanderweg oberhalb der Mulde.\nIn Trebsen endet die Wanderung am/im histor
 ischen Schloss. Das Schloss Trebsen ist ein spätgotisches Wohnschloss\, da
 s ab 1494 am Westufer der Mulde anstelle einer Wasserburg errichtet wurde.
  Das Schloss können wir von außen besichtigen. Inwieweit das auch innen ge
 ht\, ist aktuell noch nicht zu sagen.\nWer nach der Samstagswanderung wied
 er heimkehren möchte\, kann das gut von hier aus mit dem Plus-Bus 693 entw
 eder über Grimma oder Wurzen und dann mit der S- oder Regional-Bahn nach L
 eipzig tun.\nWer bleiben möchte\, gibt bitte Bescheid. Wir haben die Mögli
 chkeit im kleinen Hotel Schlossblick zu übernachten. Eine Übernachtung kos
 tet etwa 45€ mit Frühstück. Das machen wir dann vor Ort mit der Bezahlung.
  Ich müsste nur vorab reservieren. Das Abendessen müsste ich ebenfalls res
 ervieren.\nSonntag\nAm Sonntag starten wir nach dem Frühstück ca. 10:10 Uh
 r an der Bushaltestelle Markt\, wo der Bus aus Grimma 10:02 Uhr ankommt un
 d wandern den Muldentalradweg weiter.\nDer Weg bis Wurzen ist ruhig und la
 ndschaftlich sehr schön. Man schaut von oben auf die Mulde und genießt die
  super ausgebaute ehemalige Bahntrasse zwischen großen Feldern\, die nur s
 elten von kleinsten Straßen gekreuzt wird. In Wurzen am Fährhaus an der Mu
 lde gibt es zunächst erstmal Mittag.\nAnschließend setzen wir mit der Mini
 fähre über und verlassen die Mulde. Durch drei kleine Dörfchen geht es nac
 h Machern zur alten Burgruine und zum Schlosspark. Hier endet dann die Wan
 derung und man kann hier noch Kaffee trinken und/oder von hier halbstündli
 ch mit der S-Bahn zurück nach Leipzig kommen.\nOrganisatorisches\nVorab: W
 er von außerhalb Leipzigs kommt und vielleicht eine Übernachtung hier vom 
 Freitag zu Samstag benötigt\, einfach mal melden und wir finden eine Lösun
 g bei mir oder im Hostel um die Ecke.\n\nTreffpunkt Samstag: 09:50&nbsp\;U
 hr\, Leipzig Hbf.\, Bahnsteig 20 (Abfahrt 10:06 Uhr)\nRückfahrt ab Trebsen
 /Markt: 18:03&nbsp\;Uhr mit Bus 693 über Wurzen\, dann REoder 18:58&nbsp\;
 Uhr mit Bus 693 über Grimma\, dann RB (beides geht so 2-stündlich)\nTreffp
 unkt Sonntag: 10:10&nbsp\;Uhr\, Bushaltestelle Trebsen/Markt\nRückfahrt ab
  Machern: jede Stunde xx:29 oder xx:59 mit S-Bahn nach Leipzig\n\nWer über
 nachten möchte\, meldet sich bis zum 30.01. bei Michael Kraus unter 0173-1
 330108 oder mkraus70@yahoo.de.\nWer nur auf eine Tagestour mitkommen möcht
 e - bitte auch anmelden\, wegen der Gaststättenreservierung.\n\nPreise: 1€
  pro Tag für Apricus-Gäste als Versicherungsbeitrag\nKosten: Übernachtung\
 , Gaststätte(n) sowie Kultur ist alles vor Ort zu errichten\n\nAlso dann -
  auf ein tolles Wanderwochenende im wunderschönen Muldental und auf Euch f
 reut sichDer Micha
DTSTART:20250222T090000Z
DTEND:20250223T170000Z
GEO:00;0
LOCATION:
ORGANIZER:
SEQUENCE:1
SUMMARY:Wanderwochenende Muldental
TRANSP:OPAQUE
URL:https://test.apricus-ev.de/component/icagenda/wanderwochenende-muldenta
 l-2?layout=vcal
END:VEVENT
END:VCALENDAR
