BEGIN:VCALENDAR
VERSION:2.0
PRODID:-//TEST Apricus e.V.//NONSGML kigkonsult.se iCalcreator 2.41.92//
CALSCALE:GREGORIAN
METHOD:PUBLISH
UID:66663138-6233-4737-b937-656532343033
X-WR-CALNAME:iCagenda
X-WR-CALDESC:Event Management Extension for Joomla!
X-WR-RELCALID:3E26604A-50F4-4449-8B3E-E4F4932D05B5
X-WR-TIMEZONE:Europe/Berlin
BEGIN:VTIMEZONE
TZID:Europe/Berlin
TZUNTIL:20271031T010000Z
BEGIN:STANDARD
TZNAME:CET
DTSTART:20251026T030000
TZOFFSETFROM:+0200
TZOFFSETTO:+0100
RDATE:20261025T030000
END:STANDARD
BEGIN:DAYLIGHT
TZNAME:CEST
DTSTART:20250330T020000
TZOFFSETFROM:+0100
TZOFFSETTO:+0200
RDATE:20260329T020000
RDATE:20270328T020000
END:DAYLIGHT
END:VTIMEZONE
BEGIN:VEVENT
UID:38303032-3131-4239-b064-396539306661
DTSTAMP:20260425T215723Z
CATEGORIES:Wandern
CLASS:PUBLIC
DESCRIPTION;ALTREP="CID:<FFFF__=0ABBE548DFE235B58f9e8a93d@coffeebean.com>":
 Hallöchen zurück im neuen Jahr\,\nes geht wieder los mit Apricus! Auch 202
 6 verschlägt es uns wieder an die Mulde\, diesmal aber an die Freiberger M
 ulde.&nbsp\;Am Wochenende 24./25.1. erkunden/erwandern wir hier auf 2 Tage
 s-Etappen einen größeren Teil bis knapp hinter die Mulden-Vereinigung.\nZe
 ntraler Punkt mit Übernachtung wird Klosterbuch und Leisnig sein.&nbsp\;In
  Leisnig steht ein Besuch der Burg Mildenstein an und in Klosterbuch finde
 t am Samstag 17 Uhr ein Wintergrillen statt.\nDer Start der Wanderung am S
 amstag ist in Döbeln und das Ziel am Sonntag wahrscheinlich in Großbothen 
 oder Tanndorf.\nGenaueres\, wo wir schlafen\, wo wir entlang wandern\, was
  wir uns anschauen werden und wo genau wir enden\, kann ich erst sagen\, w
 enn ich weiß\, wieviel von Euch an diesem Wochenende dabei sein wollen. Er
 st dann kann ich die Übernachtung planen/buchen und die Wanderwege entspre
 chend festlegen.\n\nTreffpunkt am Samstag-1: 09:45&nbsp\;Uhr\, Leipzig&nbs
 p\;Hbf\, Gleis 21 – RE 10:00&nbsp\;Uhr Richtung Dresden\nTreffpunkt am Sam
 stag-2: 11:09&nbsp\;Uhr\, Bahnhof Döbeln – da kommt der Zug aus Riesa an\n
 Treffpunkt am Sonntag: 10:40&nbsp\;Uhr\, Bahnhof Leisnig – Ankunft Zug aus
  Leipzig\n\nWer von weiter her kommt\, kann sich auch wegen einer Übernach
 tung in Leipzig Freitagnacht melden. Das kann ich privat arrangieren.\nKos
 ten:\n\nDie Übernachtungskosten werden wohl knapp 50€ betragen und sind vo
 r Ort zu entrichten.\nGäste zahlen pro Tag 1€ Gäste-Versicherungs-Zuschlag
 .\n\nAnmeldeschluss: 11.&nbsp\;Januar\nAnmelden bei: mkraus70@yahoo.de ode
 r unter 0176-31330108Also dann - auf ein schönes Wochenende mit Euch an de
 r Mulde freut sich\,Der Micha
DTSTART:20260124T090000Z
DTEND:20260125T170000Z
GEO:00;0
LOCATION:
ORGANIZER:
SEQUENCE:1
SUMMARY:Wanderwochenende Muldental
TRANSP:OPAQUE
URL:https://test.apricus-ev.de/component/icagenda/wanderwochenende-muldenta
 l-3?layout=vcal
END:VEVENT
END:VCALENDAR
